BEGIN:VCALENDAR
VERSION:2.0
PRODID:-//FESEFA - ECPv6.15.17.1//NONSGML v1.0//EN
CALSCALE:GREGORIAN
METHOD:PUBLISH
X-WR-CALNAME:FESEFA
X-ORIGINAL-URL:https://fesefa.be
X-WR-CALDESC:Évènements pour FESEFA
REFRESH-INTERVAL;VALUE=DURATION:PT1H
X-Robots-Tag:noindex
X-PUBLISHED-TTL:PT1H
BEGIN:VTIMEZONE
TZID:Europe/Brussels
BEGIN:DAYLIGHT
TZOFFSETFROM:+0100
TZOFFSETTO:+0200
TZNAME:CEST
DTSTART:20230326T010000
END:DAYLIGHT
BEGIN:STANDARD
TZOFFSETFROM:+0200
TZOFFSETTO:+0100
TZNAME:CET
DTSTART:20231029T010000
END:STANDARD
BEGIN:DAYLIGHT
TZOFFSETFROM:+0100
TZOFFSETTO:+0200
TZNAME:CEST
DTSTART:20240331T010000
END:DAYLIGHT
BEGIN:STANDARD
TZOFFSETFROM:+0200
TZOFFSETTO:+0100
TZNAME:CET
DTSTART:20241027T010000
END:STANDARD
BEGIN:DAYLIGHT
TZOFFSETFROM:+0100
TZOFFSETTO:+0200
TZNAME:CEST
DTSTART:20250330T010000
END:DAYLIGHT
BEGIN:STANDARD
TZOFFSETFROM:+0200
TZOFFSETTO:+0100
TZNAME:CET
DTSTART:20251026T010000
END:STANDARD
END:VTIMEZONE
BEGIN:VEVENT
DTSTART;TZID=Europe/Brussels:20240424T103000
DTEND;TZID=Europe/Brussels:20240424T163000
DTSTAMP:20260421T171603
CREATED:20240305T084725Z
LAST-MODIFIED:20240426T101051Z
UID:10000388-1713954600-1713976200@fesefa.be
SUMMARY:L'associatif : l'avenir essentiel !
DESCRIPTION: Assimilées à la logique marchande\, mal financées\, croulant sous la charge administrative\, hypercontrôlées\, soumises à la tyrannie des chiffres\, exclues bancaires… Les associations voient leur liberté et leur autonomie se réduire toujours plus. \nLe secteur associatif offre pourtant des services essentiels à la collectivité dans des domaines aussi variés que la santé\, la petite enfance\, le sport\, l’environnement\, la culture\, la jeunesse\, la cohésion sociale\, la formation… \n\n\n\nÀ la veille des élections de juin\, le Collectif 21\, le Centre Bruxellois d’Action Interculturelle (CBAI)\, le Conseil Bruxellois de Coordination Sociopolitique (CBCS)\, la Fédération des Employeurs des Secteurs de l’Éducation permanente et de la Formation des Adultes (FESEFA)\, les Centres d’Entraînement aux Méthodes d’Éducation Active (CEMÉA) et Carrefour des Cultures interrogeront les partis politiques sur leurs idées pour garantir à l’Associatif un avenir… essentiel pour notre démocratie  \n\n\n\n———————————————- \n\n\n\n INFOS PRATIQUES \n\n\n\n\n24 avril 2024\n\n\n\nMaison des Associations Internationales | Rue Washington 40 – 1050 Bruxelles (carte)\n\n\n\nGratuit\n\n\n\nÉvénement Facebook\n\n\n\n\n———————————————- \n\n\n\n PROGRAMME \n\n\n\n10h30 | Projection du film « 2121 Hypothèses\, associations » \n\n\n\nMichel Steyaert\, 2022\, 56 minutes (bande-annonce) \n\n\n\n12h30 | Lunch \n\n\n\n13h45 | Saynètes \n\n\n\nL’équipe du GABS (Groupe d’Animation de la Basse-Sambre) interprétera des saynètes librement inspirées de situations vécues\, illustrant l’absurdité dans laquelle sont plongées les associations aujourd’hui. \n\n\n\n14h00 | Débat avec les partis politiques \n\n\n\n\nIntroduction : Farah Ismaïli (FESEFA)\n\n\n\nAvec Clémentine Barzin (MR)\, Pierre-Yves Lux (ECOLO)\, Bernard Clerfayt (DéFI)\, Bruno Bauwens (PTB)\, Isabelle Emmery (PS)\, Alda Greoli (Les Engagés)\n\n\n\nAnimation : Edgar Szoc (Ligue des Droits Humains)\n\n\n\nConclusion : Jacques Moriau (CBCS)\n\n\n\n\nAvec le soutien de la COCOF \n\n\n\n———————————————- \n\n\n\n INSCRIPTION \n\n\n\nVous pouvez participer le matin\, l’après-midi ou toute la journée\, mais l’inscription est obligatoire : \n\n\n\n\nde préférence via ce formulaire ;\n\n\n\nou en écrivant à pina.manzella@cbai.be.\n\n\n\n\n———————————————- \n\n\n\n Pour prolonger l’événement… \n\n\n\nCarrefour des Cultures organisera sur le même thème des tables rondes en Wallonie: \n\n\n\n\n16-05-2024 : Liège (Cinéma Sauvenière / Cité Miroir)\n\n\n\n21-05-2024 : Namur (Centre Culturel de Namur)\n\n\n\n\nPlus d’infos ici
URL:https://fesefa.be/event/lassociatif-lavenir-essentiel/
LOCATION:Maison des Associations Internationales\, Rue Washington 40\, Bruxelles\, 1050
CATEGORIES:Événement FESEFA
END:VEVENT
END:VCALENDAR