BEGIN:VCALENDAR
VERSION:2.0
PRODID:-//FESEFA - ECPv6.15.20//NONSGML v1.0//EN
CALSCALE:GREGORIAN
METHOD:PUBLISH
X-ORIGINAL-URL:https://fesefa.be
X-WR-CALDESC:Évènements pour FESEFA
REFRESH-INTERVAL;VALUE=DURATION:PT1H
X-Robots-Tag:noindex
X-PUBLISHED-TTL:PT1H
BEGIN:VTIMEZONE
TZID:Europe/Brussels
BEGIN:DAYLIGHT
TZOFFSETFROM:+0100
TZOFFSETTO:+0200
TZNAME:CEST
DTSTART:20250330T010000
END:DAYLIGHT
BEGIN:STANDARD
TZOFFSETFROM:+0200
TZOFFSETTO:+0100
TZNAME:CET
DTSTART:20251026T010000
END:STANDARD
BEGIN:DAYLIGHT
TZOFFSETFROM:+0100
TZOFFSETTO:+0200
TZNAME:CEST
DTSTART:20260329T010000
END:DAYLIGHT
BEGIN:STANDARD
TZOFFSETFROM:+0200
TZOFFSETTO:+0100
TZNAME:CET
DTSTART:20261025T010000
END:STANDARD
BEGIN:DAYLIGHT
TZOFFSETFROM:+0100
TZOFFSETTO:+0200
TZNAME:CEST
DTSTART:20270328T010000
END:DAYLIGHT
BEGIN:STANDARD
TZOFFSETFROM:+0200
TZOFFSETTO:+0100
TZNAME:CET
DTSTART:20271031T010000
END:STANDARD
END:VTIMEZONE
BEGIN:VEVENT
DTSTART;TZID=Europe/Brussels:20260513T100000
DTEND;TZID=Europe/Brussels:20260513T123000
DTSTAMP:20260423T025332
CREATED:20260114T101837Z
LAST-MODIFIED:20260421T122559Z
UID:10000539-1778666400-1778675400@fesefa.be
SUMMARY:[COMPLET] Matinée EP – Axe 1 : le cadre EP et votre réalité
DESCRIPTION:Votre association est reconnue en axe 1 et vous souhaitez échanger autour de vos activités d’éducation permanente ? \n\n\n\nLa FESEFA organise une matinée dédiée spécifiquement à l’axe 1 afin de vous donner l’opportunité de revenir sur les prescrits légaux (publics populaires\, thématiques d’action\, impact territorial\, partenariats…)\, d’examiner les critères quantitatifs et qualitatifs de l’axe 1 et de les mettre en perspective avec vos pratiques\, et de partager vos réalités de terrain avec d’autres professionnel·les du secteur. \n\n\n\n\n\nMéthodologie : au départ de vos réalités\, de vos questionnements\, en utilisant des documents-ressources et à travers un partage d’expériences. \n\n\n\nPublics : cette matinée est destinée à tout membre de vos équipes ou de vos instances qui travaille sur les activités d’axe 1 (que votre association soit membre de la FESEFA ou non) \n\n\n\nAu plaisir de vous y rencontrer ! \n\n\n\n\n\nInscription : via ce formulaire ;\n\n\n\nLieu : FESEFA\, rue d’Arenberg 44\, 1000 Bruxelles\, à l’espace The 44 (1er étage). Sonnez au « The 44 ».\n\n\n\nHoraire : de 10h à 12h30 (Nous vous accueillons dans nos espaces communs à partir de 9h45 pour la formation débutant à 10h. Avant cela\, nous sommes en réunion d’équipe. Si vous arrivez plus tôt\, n’hésitez pas à patienter dans l’un des nombreux cafés situés à proximité de la FESEFA)\n\n\n\nMatinée gratuite – 2 personnes max. par association.\n\n\nPolitique d’annulation: Afin de garantir la qualité de nos matinées EP et laisser la place aux échanges\, les places y sont limitées. Votre inscription engage votre participation. En cas d’absence veuillez nous en aviser dès que possible par email pascale.linard@fesefa.be ou téléphone 02/315 96 17. En cas d’absence non excusée à deux reprises\, nous ne donnons plus la priorité lors d’une nouvelle demande de participation ; celle-ci sera mise en liste d’attente. Merci pour votre compréhension et le suivi mutuel que cela implique. \n\n\n\nNB – Pour assister dans les meilleures conditions à nos matinées centrées sur un axe particulier\, nous vous conseillons d’avoir préalablement suivi une de nos matinées consacrées aux fondamentaux du Décret EP. \n\n\n\nNB2 – Même si la matinée est affichée comme étant complète\, n’hésitez pas à nous contacter pour vous inscrire sur une liste d’attente. Nous vous recontacterons dans le cas d’un désistement. \n\n\n\n*Matinée organisée sous réserve d’un nombre suffisant de participant·es
URL:https://fesefa.be/event/matinee-ep-axe-1-le-cadre-ep-et-votre-realite-18/
LOCATION:FESEFA\, Rue d'Arenberg\, 44\, Bruxelles\, 1000
CATEGORIES:Formation,Formation EP
ORGANIZER;CN="FESEFA":MAILTO:info@fesefa.be
END:VEVENT
BEGIN:VEVENT
DTSTART;TZID=Europe/Brussels:20260520T093000
DTEND;TZID=Europe/Brussels:20260520T123000
DTSTAMP:20260423T025332
CREATED:20251219T093807Z
LAST-MODIFIED:20260105T090123Z
UID:10000536-1779269400-1779280200@fesefa.be
SUMMARY:mRGPD — Comment gérer les données quand une collaboration prend fin ?
DESCRIPTION:Lorsqu’un partenariat touche à sa fin\, ou lorsqu’une collaboratrice ou un collaborateur est absent·e ou quitte votre structure\, une série de questions se posent par rapport à la gestion des données à caractère personnel collectées ou conservées au long de ce projet ou de cette collaboration. \nAu-delà de la gestion des outils informatiques – que faire des identifiants\, des boîtes e-mail et des fichiers ? – et des instruments de diffusion – pages web\, postages sur les réseaux sociaux –\, cette séance s’intéressera à la question du transfert des données entre des membres du personnel ainsi qu’à la question de la conservation des données dans la durée tant dans une logique de justification des subventions que dans une optique d’archivage et de mémoire institutionnelle. \nLors de cette séance\, nous répondrons aux questions suivantes : \n\nQue faire des données d’un collaborateur absent ou qui quitte votre organisation ?\nComment organiser la gestion et l’effacement des données à la fin d’un partenariat ?\nQuelles données peut-on conserver\, pendant combien de temps et à quel titre ?\nQue pouvons-nous (ou devons-nous) faire avec les données qui ne doivent plus être conservées ?\n\nInscrivez-vous via ce formulaire en ligne. 
URL:https://fesefa.be/event/mrgpd-fin-de-collaborations/
LOCATION:En ligne\, Zoom
CATEGORIES:Formation juridique
END:VEVENT
BEGIN:VEVENT
DTSTART;TZID=Europe/Brussels:20260526T093000
DTEND;TZID=Europe/Brussels:20260526T123000
DTSTAMP:20260423T025332
CREATED:20251219T093826Z
LAST-MODIFIED:20251219T095656Z
UID:10000531-1779787800-1779798600@fesefa.be
SUMMARY:mASBL — Les convocations et procès-verbaux de l’assemblée générale et de l’organe d’administration 
DESCRIPTION:Les réunions de l’AG nécessitent au moins deux écrits : une convocation\, en amont de la réunion\, et un procès-verbal\, au terme de la réunion. Bien que ces écrits ne soient pas obligatoires pour l’OA\, ils sont vivement recommandés.  \nLors de cette matinée\, nous verrons comment rédiger\, diffuser et conserver ces écrits :   \n\nQuels éléments mentionner dans la convocation ? \n\n\nQuel niveau de détails prévoir dans les procès-verbaux ? \n\n\nÀ qui et comment les communiquer ? \n\n\nOù et comment les conserver ? \n\nInscrivez-vous via ce formulaire en ligne. 
URL:https://fesefa.be/event/masbl-les-convocations-et-proces-verbaux-de-l-assemblee-generale-et-l-organe-d-administration/
LOCATION:En ligne\, Zoom
CATEGORIES:Formation juridique
END:VEVENT
BEGIN:VEVENT
DTSTART;TZID=Europe/Brussels:20260529T093000
DTEND;TZID=Europe/Brussels:20260529T123000
DTSTAMP:20260423T025332
CREATED:20251219T093858Z
LAST-MODIFIED:20251219T095512Z
UID:10000525-1780047000-1780057800@fesefa.be
SUMMARY:MRT — Comment organiser le temps de travail ? (partie I)
DESCRIPTION:Deux matinées sont prévues pour examiner toutes les modalités d’organisation du temps de travail dans votre association. Nous vous conseillons de participer aux deux séances afin d’avoir un aperçu complet des options disponibles. \nUne attention particulière est portée aux nouveautés que le gouvernement Arizona entend apporter en la matière – la suppression de la durée hebdomadaire de travail minimum\, les modifications du régime du travail de nuit\, les « horaires accordéon »\, etc. -\, et leur impact sur l’organisation du temps de travail dans nos secteurs. \nCes matinées répondront aux questions suivantes : \n\nComment organiser les prestations à horaire fixe ou variable\, qu’elles soient à temps plein ou à temps partiel ?\nComment puis-je mettre en place des horaires flottants dans mon association ?\nComment mobiliser la dérogation socioculturelle pour organiser des prestations plus longues\, pour organiser le travail de nuit\, le travail du dimanche ou encore le travail pendant un jour férié ? Puis-je combiner cette dérogation avec les horaires flottants ?\nComment organiser la réduction collective du temps de travail et quelles sont les implications dans l’organisation des prestations ?\nQuelle est la différence entre heures supplémentaires\, complémentaires ou inconfortables ?\nQuelles sont les compensations que je dois accorder aux travailleurs et travailleuses qui dépassent leurs horaires ? Comment comptabiliser correctement le nombre d’heures de récupération et calculer l’éventuel sursalaire ?\n\nInscrivez-vous via ce formulaire en ligne. \n 
URL:https://fesefa.be/event/mrt-temps-travail-1/
LOCATION:En ligne\, Zoom
CATEGORIES:Formation juridique
END:VEVENT
END:VCALENDAR