BEGIN:VCALENDAR
VERSION:2.0
PRODID:-//FESEFA - ECPv6.15.17.1//NONSGML v1.0//EN
CALSCALE:GREGORIAN
METHOD:PUBLISH
X-ORIGINAL-URL:https://fesefa.be
X-WR-CALDESC:Évènements pour FESEFA
REFRESH-INTERVAL;VALUE=DURATION:PT1H
X-Robots-Tag:noindex
X-PUBLISHED-TTL:PT1H
BEGIN:VTIMEZONE
TZID:Europe/Brussels
BEGIN:DAYLIGHT
TZOFFSETFROM:+0100
TZOFFSETTO:+0200
TZNAME:CEST
DTSTART:20230326T010000
END:DAYLIGHT
BEGIN:STANDARD
TZOFFSETFROM:+0200
TZOFFSETTO:+0100
TZNAME:CET
DTSTART:20231029T010000
END:STANDARD
BEGIN:DAYLIGHT
TZOFFSETFROM:+0100
TZOFFSETTO:+0200
TZNAME:CEST
DTSTART:20240331T010000
END:DAYLIGHT
BEGIN:STANDARD
TZOFFSETFROM:+0200
TZOFFSETTO:+0100
TZNAME:CET
DTSTART:20241027T010000
END:STANDARD
BEGIN:DAYLIGHT
TZOFFSETFROM:+0100
TZOFFSETTO:+0200
TZNAME:CEST
DTSTART:20250330T010000
END:DAYLIGHT
BEGIN:STANDARD
TZOFFSETFROM:+0200
TZOFFSETTO:+0100
TZNAME:CET
DTSTART:20251026T010000
END:STANDARD
END:VTIMEZONE
BEGIN:VEVENT
DTSTART;TZID=Europe/Brussels:20240108T100000
DTEND;TZID=Europe/Brussels:20240108T123000
DTSTAMP:20260421T133231
CREATED:20231214T095500Z
LAST-MODIFIED:20231214T131943Z
UID:10000365-1704708000-1704717000@fesefa.be
SUMMARY:! Nouveau ! - La demande de principe : permanence questions/réponses
DESCRIPTION:Si votre association envisage de déposer une demande de principe pour le 31 janvier 2024 (que ce soit pour la première fois ou suite à une décision négative)\, nous vous invitons à participer à une séance de questions/réponses qui se tiendra le lundi 8 janvier 2024 de 10h à 12h30 (en ligne).  \n\n\n\nCette matinée s’inscrit dans la continuité des deux séances d’information qui se sont tenues les 28 septembre et 5 décembre 2023 et qui étaient intitulées La demande de principe : 1ère étape de la procédure de reconnaissance en Éducation permanente. \n\n\n\nProgramme :  \n\n\n\n\nde 10h à 11h : une brève présentation des enjeux de la demande de principe sera proposée ;\n\n\n\nde 11h à 11h15 : pause ;\n\n\n\nde 11h15 à 12h30 : une permanence sera organisée pour répondre aux éventuelles questions.\n\n\n\n\nPublic : toute personne membre de l’équipe ou des instances d’une association qui explore l’opportunité de s’engager dans un processus de reconnaissance en Éducation permanente. \n\n\n\n->Un conseiller EP de la FESEFA sera présent en ligne pour répondre à vos éventuelles questions sur cette procédure et sur les interrogations qui auraient pu survenir suite aux séances d’information préalables.  \n\n\n\nPour les associations qui n’auraient pas pu participer à ces séances préalables\, nous vous invitons à prendre connaissance des prescrits légaux autour de la demande de principe (particulièrement les pages 8 à 14 du document de synthèse de l’administration)\, de la circulaire du 7 mars 2018\,  ainsi que du formulaire prévu pour introduire cette demande avant de prendre part à cette permanence. \n\n\n\nAu plaisir de vous y rencontrer ! \n\n\n\n\nInscription : via ce formulaire ;\n\n\n\nLieu : en ligne\, un lien vous sera communiqué une fois l’inscription validée ;\n\n\n\nHoraire : de 10h à 12h30 (possibilité de participer soit dès 10h; soit dès 11h15);\n\n\n\nMatinée gratuite – 2 personnes max. par association.\n\n\n\n\n \n\n\n\n*Matinée organisée sous réserve d’un nombre suffisant de participant·es
URL:https://fesefa.be/event/nouveau-la-demande-de-principe-permanence-questions-reponses/
LOCATION:FESEFA\, Rue d'Arenberg\, 44\, Bruxelles\, 1000
CATEGORIES:Formation,Formation EP
ORGANIZER;CN="FESEFA":MAILTO:info@fesefa.be
END:VEVENT
BEGIN:VEVENT
DTSTART;TZID=Europe/Brussels:20240117T100000
DTEND;TZID=Europe/Brussels:20240117T123000
DTSTAMP:20260421T133231
CREATED:20230905T071638Z
LAST-MODIFIED:20231026T095156Z
UID:10000328-1705485600-1705494600@fesefa.be
SUMMARY:Matinée EP – Décret Éducation permanente : les fondamentaux
DESCRIPTION:Votre association est reconnue en vertu du Décret EP ? Vous avez besoin de connaître les fondamentaux du secteur EP\, de son action\, les notions-clés\, les logiques de chaque axe de reconnaissance ? \n\n\n\nLa FESEFA vous donne l’opportunité de vous familiariser avec le cadre légal des reconnaissances en Éducation permanente : philosophie générale\, présentation par axe\, modifications suite à la réforme de 2018\, contrôle et évaluation… Cette matinée vous permet de vous informer sur ces bases ou d’actualiser vos connaissances des textes légaux en lien avec les modifications en application suite à la réforme de 2018 pour toutes les associations reconnues en EP. \n\n\n\nPublic : tout·e membre de vos équipes ou de vos instances (associations reconnues en EP\, membres de la FESEFA ou non). \n\n\n\nAu plaisir de vous y rencontrer ! \n\n\n\n\nInscription : via ce formulaire ;\n\n\n\nLieu : FESEFA\, rue d’Arenberg\, 44\, 1000 Bruxelles\, à l’espace The 44 (1er étage) ;\n\n\n\nHoraire : de 10h à 12h30 ;\n\n\n\nMatinée gratuite – 2 personnes max. par association.\n\n\n\n\nNB – Même si la matinée est affichée comme étant complète\, n’hésitez pas à nous contacter pour vous inscrire sur une liste d’attente. Nous vous recontacterons dans le cas d’un désistement. \n\n\n\n*Matinée organisée sous réserve d’un nombre suffisant de participant·es
URL:https://fesefa.be/event/matinee-ep-decret-education-permanente-les-fondamentaux-19/
LOCATION:FESEFA\, Rue d'Arenberg\, 44\, Bruxelles\, 1000
CATEGORIES:Formation,Formation EP
ORGANIZER;CN="FESEFA":MAILTO:info@fesefa.be
END:VEVENT
BEGIN:VEVENT
DTSTART;TZID=Europe/Brussels:20240125T140000
DTEND;TZID=Europe/Brussels:20240125T153000
DTSTAMP:20260421T133231
CREATED:20231201T153525Z
LAST-MODIFIED:20231201T153550Z
UID:10000363-1706191200-1706196600@fesefa.be
SUMMARY:Séances d’information pour les nouveaux membres et les nouvelles directions
DESCRIPTION:Que votre association soit nouvellement affiliée à la FESEFA\, que vous ayez pris récemment la direction et/ou la coordination d’une association membre\, que vous soyez tout simplement curieux ou curieuse\, cet événement pourrait vous intéresser ! \n\n\n\nTrop souvent encore\, nous constatons que certains de nos membres ne connaissent pas bien leur Fédération : ni les services qu’elle leur rend\, ni le paysage institutionnel dans lequel elle évolue et travaille au quotidien notamment via les nombreux mandats de représentation qu’elle porte au sein de diverses instances. \n\n\n\nNous relançons donc des séances d’information sur la FESEFA et le paysage institutionnel dans lequel elle s’inscrit\, organisées à distance et sans obligation d’inscription.  \n\n\n\nLa CESSoC\, le Fonds Maribel\, le Fonds 4S\, la CP 329\, les ANM\, etc… Ces termes et acronymes n’auront plus de secret pour vous. \n\n\n\nMais bien davantage\, vous pourrez rencontrer directement les membres de l’équipe et leur poser vos questions sur la FESEFA et les nombreux services qu’elle propose à ses membres : représentation\, soutien et conseil juridique et sectoriel\, mise à disposition d’outils\, accompagnement\, information\, formation\, etc. \n\n\n\nVoici les dates des deux prochaines séances : \n\n\n\n\njeudi 21 décembre 2023\, de 14h à 15h30 ;\n\n\n\njeudi 25 janvier 2024\, de 14h à 15h30.\n\n\n\n\nLa participation est gratuite et l’inscription n’est pas nécessaire : vous pouvez simplement cliquer sur les liens Zoom au jour et à l’heure annoncés pour participer à la séance.
URL:https://fesefa.be/event/seances-dinformation-pour-les-nouveaux-membres-et-les-nouvelles-directions/2024-01-25/
CATEGORIES:Événement FESEFA
END:VEVENT
BEGIN:VEVENT
DTSTART;TZID=Europe/Brussels:20240126T093000
DTEND;TZID=Europe/Brussels:20240126T123000
DTSTAMP:20260421T133231
CREATED:20240117T102330Z
LAST-MODIFIED:20240117T103953Z
UID:10000369-1706261400-1706272200@fesefa.be
SUMMARY:Matinée relations de travail — Les vacances annuelles et les autres congés
DESCRIPTION:Cette matinée décortique les règles essentielles et les nouveautés en matière de vacances annuelles (congés légaux) : \n\nComment calculer le nombre de jours de congés acquis par un travailleur ou une travailleuse ?\nComment organiser adéquatement la prise des vacances annuelles ? Peut-on les reporter d’une année à l’autre ?\nQue faire si un travailleur tombe malade pendant ses vacances ?\nC’est quoi les pécules de vacances ?\nQue faire lorsqu’un nouveau travailleur remet une attestation de vacances de son précédent employeur ?\nQue sont les vacances européennes ou supplémentaires ?\n\nCette matinée examine également le régime des congés prévus par certains secteurs. \nElle donne des conseils\, enfin\, à tous les employeurs qui souhaitent instaurer des congés extra-légaux. \nInscrivez-vous via ce formulaire en ligne.
URL:https://fesefa.be/event/mrt-les-vacances-annuelles-et-les-autres-conges/
LOCATION:En ligne
CATEGORIES:Formation juridique
END:VEVENT
END:VCALENDAR