BEGIN:VCALENDAR
VERSION:2.0
PRODID:-//FESEFA - ECPv6.15.17.1//NONSGML v1.0//EN
CALSCALE:GREGORIAN
METHOD:PUBLISH
X-WR-CALNAME:FESEFA
X-ORIGINAL-URL:https://fesefa.be
X-WR-CALDESC:Évènements pour FESEFA
REFRESH-INTERVAL;VALUE=DURATION:PT1H
X-Robots-Tag:noindex
X-PUBLISHED-TTL:PT1H
BEGIN:VTIMEZONE
TZID:Europe/Brussels
BEGIN:DAYLIGHT
TZOFFSETFROM:+0100
TZOFFSETTO:+0200
TZNAME:CEST
DTSTART:20220327T010000
END:DAYLIGHT
BEGIN:STANDARD
TZOFFSETFROM:+0200
TZOFFSETTO:+0100
TZNAME:CET
DTSTART:20221030T010000
END:STANDARD
BEGIN:DAYLIGHT
TZOFFSETFROM:+0100
TZOFFSETTO:+0200
TZNAME:CEST
DTSTART:20230326T010000
END:DAYLIGHT
BEGIN:STANDARD
TZOFFSETFROM:+0200
TZOFFSETTO:+0100
TZNAME:CET
DTSTART:20231029T010000
END:STANDARD
BEGIN:DAYLIGHT
TZOFFSETFROM:+0100
TZOFFSETTO:+0200
TZNAME:CEST
DTSTART:20240331T010000
END:DAYLIGHT
BEGIN:STANDARD
TZOFFSETFROM:+0200
TZOFFSETTO:+0100
TZNAME:CET
DTSTART:20241027T010000
END:STANDARD
END:VTIMEZONE
BEGIN:VEVENT
DTSTART;TZID=Europe/Brussels:20231205T133000
DTEND;TZID=Europe/Brussels:20231205T160000
DTSTAMP:20260421T144401
CREATED:20231109T140923Z
LAST-MODIFIED:20231205T070258Z
UID:10000355-1701783000-1701792000@fesefa.be
SUMMARY:(Complet) Séance d'info - La demande de principe : 1ère étape de la procédure de reconnaissance en Éducation permanente
DESCRIPTION:Votre association n’est pas reconnue en Éducation permanente (EP) ? Vous désirez en apprendre davantage sur le cadre légal de l’EP en Fédération Wallonie-Bruxelles\, sur les différentes étapes et démarches à effectuer pour une reconnaissance en EP ? Vous souhaitez en savoir plus sur la première étape de la procédure de reconnaissance : la demande de principe ? \n\n\n\nEn tant que fédération représentative du secteur de l’EP\, la FESEFA organise une séance d’information autour de la demande de principe et de la reconnaissance dans le cadre du Décret EP. \n\n\n\nCette séance à notamment pour objectifs d’aborder : \n\n\n\n\nla philosophie qui sous-tend le secteur ;\n\n\n\nles textes cadres de l’EP : Décret du 17 juillet 2003 et Arrêté d’exécution ;\n\n\n\nla procédure de demande de principe\, première étape formelle en vue d’une reconnaissance en EP ;\n\n\n\nles prescrits de l’article 1er du Décret EP et la circulaire de 2018.\n\n\n\n\nPublic : toute personne membre de l’équipe ou des instances d’une association qui explore l’opportunité de s’engager dans un processus de reconnaissance en Éducation permanente. \n\n\n\nAu plaisir de vous y rencontrer ! \n\n\n\n\nInscription : via ce formulaire ;\n\n\n\nLieu : FESEFA\, rue d’Arenberg 44\, 1000 Bruxelles\, à l’espace The 44 (1er étage) ;\n\n\n\nHoraire : de 13h30 à 16h00 (accueil à partir de 13h15) ;\n\n\n\nMatinée gratuite – 2 personnes max. par association.\n\n\n\n\nNB – Même si la matinée est affichée comme étant complète\, n’hésitez pas à nous contacter pour vous inscrire sur une liste d’attente. Nous vous recontacterons dans le cas d’un désistement.
URL:https://fesefa.be/event/seance-dinfo-la-demande-de-principe-1ere-etape-de-la-procedure-de-reconnaissance-en-education-permanente/
LOCATION:FESEFA\, Rue d'Arenberg\, 44\, Bruxelles\, 1000
CATEGORIES:Formation,Formation EP
ORGANIZER;CN="FESEFA":MAILTO:info@fesefa.be
END:VEVENT
BEGIN:VEVENT
DTSTART;TZID=Europe/Brussels:20231208T093000
DTEND;TZID=Europe/Brussels:20231208T123000
DTSTAMP:20260421T144401
CREATED:20230907T101559Z
LAST-MODIFIED:20231020T091526Z
UID:10000343-1702027800-1702038600@fesefa.be
SUMMARY:Matinée ASBL [changement de date]
DESCRIPTION:Les matinées asbl s’inscrivent dans la continuité des matinées statutaires — vous pouvez donc venir poser toutes vos questions relatives à la mise à jour de vos statuts — tout en élargissant leur périmètre. En effet\, ces matinées asbl sont aussi l’occasion de poser toutes vos questions sur la vie de votre structure : comment organiser les instances\, comment résoudre des difficultés au sein des organes\, que faire pour gérer les risques liés à la gestion de l’association et la responsabilité correspondante des gestionnaires et administrateurs. Vous pouvez vous inscrire via ce formulaire en ligne. 
URL:https://fesefa.be/event/matinee-asbl-4/
LOCATION:En ligne\, Zoom
CATEGORIES:Formation,Formation juridique
END:VEVENT
BEGIN:VEVENT
DTSTART;TZID=Europe/Brussels:20231213T093000
DTEND;TZID=Europe/Brussels:20231213T123000
DTSTAMP:20260421T144401
CREATED:20230914T135233Z
LAST-MODIFIED:20230914T135233Z
UID:10000351-1702459800-1702470600@fesefa.be
SUMMARY:Mercredi RGPD (Le sujet numérique et ses droits)
DESCRIPTION:Plus qu’une permanence pour répondre à vos questions sur toutes les matières liées à la protection de la vie privée dans la vie de votre association\, les Mercredi RGPD sont désormais l’occasion de découvrir des contenus et supports pédagogiques en construction au sein de votre Fédération. Pour la dernière séance de l’année\, nous vous proposons de discuter une fiche thématique sur les droits des personnes physiques au regard de leurs données personnelles. Le « sujet numérique » — qu’il soit l’usager de votre site web\, un de vos travailleurs ou encore un membre ou administrateur de votre asbl — s’est vu reconnaître une série de droits par le RGPD : vos obligations en tant que responsable de traitement vont varier selon le type de traitement\, sa finalité et le fondement juridique que vous avez choisi pour justifier vos traitements. Connaître ces différences est indispensable pour assurer la protection des données « par défaut et dès la conception » dans votre structure. Comprendre la portée de ces . Vous pouvez vous inscrire via ce formulaire en ligne. 
URL:https://fesefa.be/event/mercredi-rgpd-le-sujet-numerique-et-ses-droits/
LOCATION:En ligne\, Zoom
CATEGORIES:Formation,Formation juridique
END:VEVENT
BEGIN:VEVENT
DTSTART;TZID=Europe/Brussels:20231215T093000
DTEND;TZID=Europe/Brussels:20231215T123000
DTSTAMP:20260421T144401
CREATED:20230914T144546Z
LAST-MODIFIED:20230914T144546Z
UID:10000353-1702632600-1702643400@fesefa.be
SUMMARY:Matinée juridique — Comment (et quand) mettre à jour son règlement de travail
DESCRIPTION:Le règlement de travail est un document clé de la relation entre employeur et travailleurs·ses\, d’où l’intérêt qu’il reflète la réalité des pratiques internes et soit conforme au cadre législatif en vigueur. Or\, ce dernier a subi plusieurs évolutions ces derniers mois : droit à la déconnexion\, droit individuel à la formation\, suppression du certificat médicat d’un jour\, modification de la législation anti-discrimination\, etc. Cette matinée est l’occasion de parcourir les essentiels du règlement de travail ainsi que les nouveautés et la procédure à respecter pour le modifier. Vous pouvez vous inscrire à cette matinée juridique via le formulaire en ligne sur notre site.
URL:https://fesefa.be/event/matinee-juridique-comment-et-quand-mettre-a-jour-son-reglement-de-travail/
LOCATION:En ligne\, Zoom
CATEGORIES:Formation,Formation juridique
END:VEVENT
BEGIN:VEVENT
DTSTART;TZID=Europe/Brussels:20231215T100000
DTEND;TZID=Europe/Brussels:20231215T100000
DTSTAMP:20260421T144401
CREATED:20230905T072008Z
LAST-MODIFIED:20231215T110406Z
UID:10000333-1702634400-1702634400@fesefa.be
SUMMARY:Matinée EP – Décret Éducation permanente : les fondamentaux
DESCRIPTION:Votre association est reconnue en vertu du Décret EP ? Vous avez besoin de connaître les fondamentaux du secteur EP\, de son action\, les notions-clés\, les logiques de chaque axe de reconnaissance ? \n\n\n\nLa FESEFA vous donne l’opportunité de vous familiariser avec le cadre légal des reconnaissances en Éducation permanente : philosophie générale\, présentation par axe\, modifications suite à la réforme de 2018\, contrôle et évaluation… Cette matinée vous permet de vous informer sur ces bases ou d’actualiser vos connaissances des textes légaux en lien avec les modifications en application suite à la réforme de 2018 pour toutes les associations reconnues en EP. \n\n\n\nPublic : tout·e membre de vos équipes ou de vos instances (associations reconnues en EP\, membres de la FESEFA ou non). \n\n\n\nAu plaisir de vous y rencontrer ! \n\n\n\n\nInscription : via ce formulaire ;\n\n\n\nLieu : FESEFA\, rue d’Arenberg\, 44\, 1000 Bruxelles\, à l’espace The 44 (1er étage) ;\n\n\n\nHoraire : de 10h à 12h30 ;\n\n\n\nMatinée gratuite – 2 personnes max. par association.\n\n\n\n\nNB – Même si la matinée est affichée comme étant complète\, n’hésitez pas à nous contacter pour vous inscrire sur une liste d’attente. Nous vous recontacterons dans le cas d’un désistement. \n\n\n\n*Matinée organisée sous réserve d’un nombre suffisant de participant·es
URL:https://fesefa.be/event/matinee-ep-decret-education-permanente-les-fondamentaux-24/
LOCATION:FESEFA\, Rue d'Arenberg\, 44\, Bruxelles\, 1000
CATEGORIES:Formation,Formation EP
ORGANIZER;CN="FESEFA":MAILTO:info@fesefa.be
END:VEVENT
BEGIN:VEVENT
DTSTART;TZID=Europe/Brussels:20231220T100000
DTEND;TZID=Europe/Brussels:20231220T123000
DTSTAMP:20260421T144401
CREATED:20230905T072539Z
LAST-MODIFIED:20231214T091743Z
UID:10000337-1703066400-1703075400@fesefa.be
SUMMARY:[Complet] Matinée EP – Axe 3 : la fusion des anciens sous-axes et les différentes réalisations
DESCRIPTION:Votre association est reconnue en axe 3 ou s’intéresse à cet axe : Quels sont les différents types de réalisations ? Quels sont les enjeux suite à la réforme de 2018 pour l’axe 3 (fusion des anciens sous-axes 3.1 et 3.2 ; recherche participative; accent qualitatif ; etc.) ? \n\n\n\nLa FESEFA organise une matinée dédiée spécifiquement à l’axe 3 afin de vous donner l’opportunité de revenir sur les critères légaux pour chaque type de réalisations (services collectifs ; outils pédagogiques et culturels ; mise à disposition de ressources documentaires ; analyses ; études ; recherches participatives)\, d’examiner en détail les conséquences de la réforme de 2018 et de partager vos réalités de terrain et vos pratiques avec d’autres professionnel·les du secteur. \n\n\n\nAvant de suivre cette matinée\, nous vous invitons à participer à une matinée Décret Education permanente : les fondamentaux. \n\n\n\nPublic : tout membre de vos équipes ou de vos instances. Elle s’adresse particulièrement aux personnes qui travaillent sur l’axe 3. \n\n\n\nAu plaisir de vous y rencontrer ! \n\n\n\n\nInscription : via ce formulaire ;\n\n\n\nLieu : FESEFA\, rue d’Arenberg 44\, 1000 Bruxelles\, à l’espace The 44 (1er étage) ;\n\n\n\nHoraire : de 10h à 12h30 ;\n\n\n\nMatinée gratuite – 2 personnes max. par association.\n\n\n\n\nNB – Pour assister dans les meilleures conditions à nos matinées centrées sur un axe particulier\, nous vous conseillons d’avoir préalablement suivi une de nos matinées consacrées aux fondamentaux du décret EP. \n\n\n\nNB2 – Même si la matinée est affichée comme étant complète\, n’hésitez pas à nous contacter pour vous inscrire sur une liste d’attente. Nous vous recontacterons le cas  dans d’un désistement.  \n\n\n\n*Matinée organisée sous réserve d’un nombre suffisant de participant·es
URL:https://fesefa.be/event/matinee-ep-axe-3-6/
LOCATION:FESEFA\, Rue d'Arenberg\, 44\, Bruxelles\, 1000
CATEGORIES:Formation,Formation EP
ORGANIZER;CN="FESEFA":MAILTO:info@fesefa.be
END:VEVENT
BEGIN:VEVENT
DTSTART;TZID=Europe/Brussels:20231221T100000
DTEND;TZID=Europe/Brussels:20231221T123000
DTSTAMP:20260421T144401
CREATED:20230905T071457Z
LAST-MODIFIED:20231214T092836Z
UID:10000327-1703152800-1703161800@fesefa.be
SUMMARY:[Complet] - Matinée EP – Décret Éducation permanente : les fondamentaux
DESCRIPTION:Votre association est reconnue en vertu du Décret EP ? Vous avez besoin de connaître les fondamentaux du secteur EP\, de son action\, les notions-clés\, les logiques de chaque axe de reconnaissance ? \n\n\n\nLa FESEFA vous donne l’opportunité de vous familiariser avec le cadre légal des reconnaissances en Éducation permanente : philosophie générale\, présentation par axe\, modifications suite à la réforme de 2018\, contrôle et évaluation… Cette matinée vous permet de vous informer sur ces bases ou d’actualiser vos connaissances des textes légaux en lien avec les modifications en application suite à la réforme de 2018 pour toutes les associations reconnues en EP. \n\n\n\nPublic : tout·e membre de vos équipes ou de vos instances (associations reconnues en EP\, membres de la FESEFA ou non). \n\n\n\nAu plaisir de vous y rencontrer ! \n\n\n\n\nInscription : via ce formulaire ;\n\n\n\nLieu : FESEFA\, rue d’Arenberg\, 44\, 1000 Bruxelles\, à l’espace The 44 (1er étage) ;\n\n\n\nHoraire : de 10h à 12h30 ;\n\n\n\nMatinée gratuite – 2 personnes max. par association.\n\n\n\n\nNB – Même si la matinée est affichée comme étant complète\, n’hésitez pas à nous contacter pour vous inscrire sur une liste d’attente. Nous vous recontacterons dans le cas d’un désistement. \n\n\n\n*Matinée organisée sous réserve d’un nombre suffisant de participant·es
URL:https://fesefa.be/event/matinee-ep-decret-education-permanente-les-fondamentaux-18/
LOCATION:FESEFA\, Rue d'Arenberg\, 44\, Bruxelles\, 1000
CATEGORIES:Formation,Formation EP
ORGANIZER;CN="FESEFA":MAILTO:info@fesefa.be
END:VEVENT
BEGIN:VEVENT
DTSTART;TZID=Europe/Brussels:20231221T140000
DTEND;TZID=Europe/Brussels:20231221T153000
DTSTAMP:20260421T144401
CREATED:20231201T153525Z
LAST-MODIFIED:20231201T153550Z
UID:10000362-1703167200-1703172600@fesefa.be
SUMMARY:Séances d’information pour les nouveaux membres et les nouvelles directions
DESCRIPTION:Que votre association soit nouvellement affiliée à la FESEFA\, que vous ayez pris récemment la direction et/ou la coordination d’une association membre\, que vous soyez tout simplement curieux ou curieuse\, cet événement pourrait vous intéresser ! \n\n\n\nTrop souvent encore\, nous constatons que certains de nos membres ne connaissent pas bien leur Fédération : ni les services qu’elle leur rend\, ni le paysage institutionnel dans lequel elle évolue et travaille au quotidien notamment via les nombreux mandats de représentation qu’elle porte au sein de diverses instances. \n\n\n\nNous relançons donc des séances d’information sur la FESEFA et le paysage institutionnel dans lequel elle s’inscrit\, organisées à distance et sans obligation d’inscription.  \n\n\n\nLa CESSoC\, le Fonds Maribel\, le Fonds 4S\, la CP 329\, les ANM\, etc… Ces termes et acronymes n’auront plus de secret pour vous. \n\n\n\nMais bien davantage\, vous pourrez rencontrer directement les membres de l’équipe et leur poser vos questions sur la FESEFA et les nombreux services qu’elle propose à ses membres : représentation\, soutien et conseil juridique et sectoriel\, mise à disposition d’outils\, accompagnement\, information\, formation\, etc. \n\n\n\nVoici les dates des deux prochaines séances : \n\n\n\n\njeudi 21 décembre 2023\, de 14h à 15h30 ;\n\n\n\njeudi 25 janvier 2024\, de 14h à 15h30.\n\n\n\n\nLa participation est gratuite et l’inscription n’est pas nécessaire : vous pouvez simplement cliquer sur les liens Zoom au jour et à l’heure annoncés pour participer à la séance.
URL:https://fesefa.be/event/seances-dinformation-pour-les-nouveaux-membres-et-les-nouvelles-directions/2023-12-21/
CATEGORIES:Événement FESEFA
END:VEVENT
END:VCALENDAR