BEGIN:VCALENDAR
VERSION:2.0
PRODID:-//FESEFA - ECPv6.15.17.1//NONSGML v1.0//EN
CALSCALE:GREGORIAN
METHOD:PUBLISH
X-WR-CALNAME:FESEFA
X-ORIGINAL-URL:https://fesefa.be
X-WR-CALDESC:Évènements pour FESEFA
REFRESH-INTERVAL;VALUE=DURATION:PT1H
X-Robots-Tag:noindex
X-PUBLISHED-TTL:PT1H
BEGIN:VTIMEZONE
TZID:Europe/Brussels
BEGIN:DAYLIGHT
TZOFFSETFROM:+0100
TZOFFSETTO:+0200
TZNAME:CEST
DTSTART:20220327T010000
END:DAYLIGHT
BEGIN:STANDARD
TZOFFSETFROM:+0200
TZOFFSETTO:+0100
TZNAME:CET
DTSTART:20221030T010000
END:STANDARD
BEGIN:DAYLIGHT
TZOFFSETFROM:+0100
TZOFFSETTO:+0200
TZNAME:CEST
DTSTART:20230326T010000
END:DAYLIGHT
BEGIN:STANDARD
TZOFFSETFROM:+0200
TZOFFSETTO:+0100
TZNAME:CET
DTSTART:20231029T010000
END:STANDARD
BEGIN:DAYLIGHT
TZOFFSETFROM:+0100
TZOFFSETTO:+0200
TZNAME:CEST
DTSTART:20240331T010000
END:DAYLIGHT
BEGIN:STANDARD
TZOFFSETFROM:+0200
TZOFFSETTO:+0100
TZNAME:CET
DTSTART:20241027T010000
END:STANDARD
END:VTIMEZONE
BEGIN:VEVENT
DTSTART;TZID=Europe/Brussels:20230914T093000
DTEND;TZID=Europe/Brussels:20230914T163000
DTSTAMP:20260422T001730
CREATED:20221128T111948Z
LAST-MODIFIED:20230905T121526Z
UID:10000292-1694683800-1694709000@fesefa.be
SUMMARY:[Complet] Formation EP - Auto-évaluation et rapport général d'évaluation : sens\, enjeux\, pratiques
DESCRIPTION:La réforme du Décret de 2003 transforme  les pratiques de justification qui sont demandées aux associations\, notamment en introduisant une exigence d’auto-évaluation. \n\n\n\nLa formation\, en partenariat avec Jean Blairon\, vise à contextualiser cette nouvelle exigence\, à en nommer les enjeux et à en décrire les composantes. \n\n\n\nLes contenus suivants seront abordés : \n\n\n\n– distinction entre évaluation et contrôle ; \n\n\n\n– évaluation et pratique réflexive ; \n\n\n\n– l’auto-évaluation dans le prescrit légal ; \n\n\n\n– examen des questions d’auto-évaluation proposées par les services du gouvernement ; \n\n\n\n– questions pratiques. \n\n\n\nDate : le 14 septembre 2023Heures : 9h30 – 16h30Prix : 90 € \n\n\n\nLieu : A la FESEFA \n\n\n\nNombre maximum de participant·e·s : 12 \n\n\n\nFormateurs·rices : Jean Blairon (RTA) et le pôle EP de la FESEFA \n\n\n\n \n\n\n\nModalités d’inscription : \n\n\n\nL’inscription se fait par email à l’adresse info@fesefa.be. Merci de préciser : Nom/prénom/adresse mail/fonction au sein de l’association/numéro de téléphone. \n\n\n\nLe paiement doit être effectué dans les 10 jours ouvrables suivant la réception de l’email de confirmation. L’inscription sera effective après le versement de la PAF de 90 € sur le compte TRIODOS de la FESEFA : IBAN : BE17 5230 4027 8721 / BIC : TRIOBEBB. Cette formation peut être remboursée pour partie par le Fonds 4S. Une facture sera envoyée par email dans les 15 jours suivant le paiement. \n\n\n\nUne attestation de présence sera délivrée en fin de formation. \n\n\n\nPolitique d’annulation et de remboursement : \n\n\n\nEn cas d’absence (quel que soit le type d’absence)\, les frais d’inscription seront uniquement remboursés en cas d’annulation au moins 15 jours ouvrables avant la date de début de formation. Après cette date\, aucun remboursement ne sera possible.
URL:https://fesefa.be/event/formation-ep-auto-evaluation-et-rapport-general-devaluation-sens-enjeux-pratiques-4/
LOCATION:FESEFA\, Rue d'Arenberg\, 44\, Bruxelles\, 1000
CATEGORIES:Formation EP
ORGANIZER;CN="FESEFA":MAILTO:info@fesefa.be
END:VEVENT
BEGIN:VEVENT
DTSTART;TZID=Europe/Brussels:20230918T093000
DTEND;TZID=Europe/Brussels:20230918T123000
DTSTAMP:20260422T001730
CREATED:20230907T101126Z
LAST-MODIFIED:20230914T132313Z
UID:10000340-1695029400-1695040200@fesefa.be
SUMMARY:Matinée ASBL
DESCRIPTION:Les matinées asbl s’inscrivent dans la continuité des matinées statutaires — vous pouvez donc venir poser toutes vos questions relatives à la mise à jour de vos statuts — tout en élargissant leur périmètre. En effet\, ces matinées asbl sont aussi l’occasion de poser toutes vos questions sur la vie de votre structure : comment organiser les instances\, comment résoudre des difficultés au sein des organes\, que faire pour gérer les risques liés à la gestion de l’association et la responsabilité correspondante des gestionnaires et administrateurs. Vous pouvez vous inscrire via ce formulaire en ligne.
URL:https://fesefa.be/event/matinee-asbl/
LOCATION:En ligne\, Zoom
CATEGORIES:Formation,Formation juridique
END:VEVENT
BEGIN:VEVENT
DTSTART;TZID=Europe/Brussels:20230920T093000
DTEND;TZID=Europe/Brussels:20230920T123000
DTSTAMP:20260422T001730
CREATED:20230907T102155Z
LAST-MODIFIED:20230914T132235Z
UID:10000344-1695202200-1695213000@fesefa.be
SUMMARY:Mercredi RGPD (Inventaire des traitements)
DESCRIPTION:Plus qu’une permanence pour répondre à vos questions sur toutes les matières liées à la protection de la vie privée dans la vie de votre association\, les Mercredi RGPD sont désormais l’occasion de découvrir des contenus et supports pédagogiques en construction au sein de votre Fédération. Pour cette première date\, nous vous présenterons des outils pour vous aider à réaliser un inventaire des traitements de données à caractère personnel. Il s’agit d’une étape initiale et centrale du processus de mise en conformité de votre association avec les exigences règlementaires. Vous pouvez vous inscrire via ce formulaire en ligne.
URL:https://fesefa.be/event/mercredi-rgpd-inventaire-des-traitements/
LOCATION:En ligne\, Zoom
CATEGORIES:Formation,Formation juridique
END:VEVENT
BEGIN:VEVENT
DTSTART;TZID=Europe/Brussels:20230929T093000
DTEND;TZID=Europe/Brussels:20230929T123000
DTSTAMP:20260422T001730
CREATED:20230907T102603Z
LAST-MODIFIED:20230914T132537Z
UID:10000346-1695979800-1695990600@fesefa.be
SUMMARY:Matinée juridique — La réintégration des travailleurs en incapacité de longue durée
DESCRIPTION:Le paysage de la gestion des incapacités de longue durée et du retour au travail de vos collaborateurs·rices a été bousculé en profondeur en 2022 par plusieurs réformes : nouveaux·elles acteurs·rices\, nouvelles procédures\, nouveaux délais et nouveaux incitants. Cette séance d’information détaillera l’ensemble de ces nouveautés afin d’outiller les gestionnaires de ressources humaines à prendre en charge ces nouveaux parcours en toute sérénité. Vous pouvez vous inscrire via ce formulaire en ligne.
URL:https://fesefa.be/event/matinee-juridique-la-reintegration-des-travailleurs-en-incapacite-de-longue-duree/
LOCATION:En ligne\, Zoom
CATEGORIES:Formation,Formation juridique
END:VEVENT
END:VCALENDAR