BEGIN:VCALENDAR
VERSION:2.0
PRODID:-//FESEFA - ECPv6.15.20//NONSGML v1.0//EN
CALSCALE:GREGORIAN
METHOD:PUBLISH
X-WR-CALNAME:FESEFA
X-ORIGINAL-URL:https://fesefa.be
X-WR-CALDESC:Évènements pour FESEFA
REFRESH-INTERVAL;VALUE=DURATION:PT1H
X-Robots-Tag:noindex
X-PUBLISHED-TTL:PT1H
BEGIN:VTIMEZONE
TZID:Europe/Paris
BEGIN:DAYLIGHT
TZOFFSETFROM:+0100
TZOFFSETTO:+0200
TZNAME:CEST
DTSTART:20220327T010000
END:DAYLIGHT
BEGIN:STANDARD
TZOFFSETFROM:+0200
TZOFFSETTO:+0100
TZNAME:CET
DTSTART:20221030T010000
END:STANDARD
BEGIN:DAYLIGHT
TZOFFSETFROM:+0100
TZOFFSETTO:+0200
TZNAME:CEST
DTSTART:20230326T010000
END:DAYLIGHT
BEGIN:STANDARD
TZOFFSETFROM:+0200
TZOFFSETTO:+0100
TZNAME:CET
DTSTART:20231029T010000
END:STANDARD
BEGIN:DAYLIGHT
TZOFFSETFROM:+0100
TZOFFSETTO:+0200
TZNAME:CEST
DTSTART:20240331T010000
END:DAYLIGHT
BEGIN:STANDARD
TZOFFSETFROM:+0200
TZOFFSETTO:+0100
TZNAME:CET
DTSTART:20241027T010000
END:STANDARD
END:VTIMEZONE
BEGIN:VEVENT
DTSTART;TZID=Europe/Paris:20230503T093000
DTEND;TZID=Europe/Paris:20230503T123000
DTSTAMP:20260423T002128
CREATED:20221116T082129Z
LAST-MODIFIED:20230327T152642Z
UID:10000213-1683106200-1683117000@fesefa.be
SUMMARY:[COMPLET] Matinée EP - Axe 3
DESCRIPTION:Suite au succès des matinées organisées en 2019\, 2020\, 2021et 2022 et à la demande de plusieurs associations reconnues en axe 3\, la FESEFA organise de nouveau en 2023 une matinée dédiée à l’axe 3. \n\n\n\nCette matinée sera centrée sur l’application des nouvelles dispositions du décret EP modifié en 2018\, liée à une reconnaissance en axe 3. \n\n\n\nCette rencontre a notamment pour objectifs : \n\n\n\n\nd’interroger des concepts du décret et les différents types de réalisations (outil pédagogique\, recherche participative\, service collectif…) ;\n\n\n\nd’analyser les conséquences de certaines nouvelles dispositions du décret (fusion des sous-axes 3.1 et 3.2\, diminution des exigences quantitatives\, transversalité…) ;\n\n\n\nd’échanger des bonnes pratiques.\n\n\n\n\nElle est gratuite et accessible à tout membre de vos équipes ou de vos instances. Elle s’adresse particulièrement aux personnes qui travaillent sur l’axe 3. \n\n\n\nAu plaisir de vous y rencontrer ! \n\n\n\nVotre association est reconnue en EP et vous avez besoin de connaître les fondamentaux du secteur EP\, de son action\, les notions-clés\, les logiques de chaque axe de reconnaissance ? \n\n\n\nLa FESEFA vous donne l’opportunité de vous familiariser avec le cadre légal des reconnaissances en Éducation permanente : philosophie générale\, présentation par axe\, modifications suite à la réforme de 2018\, contrôle et évaluation… \n\n\n\nCette matinée vous permet de vous informer sur ces bases ou d’actualiser vos connaissances des textes légaux en lien avec les modifications applicables suite à la réforme de 2018 pour toutes les associations reconnues en EP. \n\n\n\nCes matinées sont gratuites et accessibles à tout membre de vos équipes ou de vos instances (associations reconnues en EP\, membres ou non). \n\n\n\nAu plaisir de vous y rencontrer ! \n\n\n\n– Inscription : info@fesefa.be \n\n\n\n– Avec votre : Nom / prénom / adresse mail / fonction au sein de l’association / numéro de téléphone– En présentiel à la FESEFA\, au 44 rue d’Arenberg à 1000 Bruxelles\, à l’espace The 44 (1er étage)– Matinée gratuite – 2 personnes max. par association \n\n\n\nL’accueil débute à 9h45\, la matinée de formation commence à 10h. \n\n\n\n  \n\n\n\nNB : pour assister dans les meilleures conditions à nos matinées centrées sur un axe particulier\, nous vous conseillons d’avoir préalablement suivi une de nos matinées consacrées aux fondamentaux du décret EP. \n\n\n\nNB2 – Même si la formation est affichée comme étant complète\, n’hésitez pas à nous contacter pour vous inscrire sur une liste d’attente. Nous vous recontacterons le cas dans d’un désistement.
URL:https://fesefa.be/event/matinee-ep-axe-3-3/
LOCATION:FESEFA\, Rue d'Arenberg\, 44\, Bruxelles\, 1000
CATEGORIES:Formation EP
ORGANIZER;CN="FESEFA":MAILTO:info@fesefa.be
END:VEVENT
BEGIN:VEVENT
DTSTART;TZID=Europe/Paris:20230504T093000
DTEND;TZID=Europe/Paris:20230504T123000
DTSTAMP:20260423T002128
CREATED:20230502T100810Z
LAST-MODIFIED:20230907T103855Z
UID:10000309-1683192600-1683203400@fesefa.be
SUMMARY:[Nouvelle date] Matinée statutaire
DESCRIPTION:Si vous êtes dans le processus de révision des statuts de votre association\, dans le but de les rendre compatibles avec le Code des sociétés et des associations (CSA)\, cette séance de questions et réponses a été organisée pour vous !  \nL’un·e de nos juristes sera à la disposition des participant·e·s et répondra à leurs questions tout au long de la matinée. Ces séances sont ouvertes aux affilié·e·s\, où qu’ils ou elles en soient dans le processus de mise en conformité : aucune connaissance préalable n’est exigée.  \nCette séance est gratuite\, mais l’inscription est requise (vers le formulaire d’inscription). Votre participation peut avoir lieu à distance (via Zoom)\, ou au siège de la FESEFA.
URL:https://fesefa.be/event/nouvelle-date-matinee-statutaire/
LOCATION:En ligne\, Zoom
CATEGORIES:Formation,Formation juridique
END:VEVENT
BEGIN:VEVENT
DTSTART;TZID=Europe/Paris:20230510T093000
DTEND;TZID=Europe/Paris:20230510T123000
DTSTAMP:20260423T002128
CREATED:20230502T101011Z
LAST-MODIFIED:20230907T103855Z
UID:10000312-1683711000-1683721800@fesefa.be
SUMMARY:[Nouvelle date] Matinée statutaire
DESCRIPTION:Si vous êtes dans le processus de révision des statuts de votre association\, dans le but de les rendre compatibles avec le Code des sociétés et des associations (CSA)\, cette séance de questions et réponses a été organisée pour vous !  \nL’un·e de nos juristes sera à la disposition des participant·e·s et répondra à leurs questions tout au long de la matinée. Ces séances sont ouvertes aux affilié·e·s\, où qu’ils ou elles en soient dans le processus de mise en conformité : aucune connaissance préalable n’est exigée.  \nCette séance est gratuite\, mais l’inscription est requise (vers le formulaire d’inscription). Votre participation peut avoir lieu à distance (via Zoom)\, ou au siège de la FESEFA.
URL:https://fesefa.be/event/nouvelle-date-matinee-statutaire-2/
LOCATION:En ligne\, Zoom
CATEGORIES:Formation,Formation juridique
END:VEVENT
BEGIN:VEVENT
DTSTART;TZID=Europe/Paris:20230516T093000
DTEND;TZID=Europe/Paris:20230516T123000
DTSTAMP:20260423T002128
CREATED:20221116T082321Z
LAST-MODIFIED:20230417T093037Z
UID:10000214-1684229400-1684240200@fesefa.be
SUMMARY:[Complet] Matinée EP - Décret Éducation permanente : les fondamentaux
DESCRIPTION:  \n \nVotre association est reconnue en EP et vous avez besoin de connaître les fondamentaux du secteur EP\, de son action\, les notions-clés\, les logiques de chaque axe de reconnaissance ? \nLa FESEFA vous donne l’opportunité de vous familiariser avec le cadre légal des reconnaissances en Éducation permanente : philosophie générale\, présentation par axe\, modifications suite à la réforme de 2018\, contrôle et évaluation… \nCette matinée vous permet de vous informer sur ces bases ou d’actualiser vos connaissances des textes légaux en lien avec les modifications applicables suite à la réforme de 2018 pour toutes les associations reconnues en EP. \nCes matinées sont gratuites et accessibles à tout membre de vos équipes ou de vos instances (associations reconnues en EP\, membres ou non). \nAu plaisir de vous y rencontrer ! \n– Inscription : info@fesefa.be \n– Avec votre : Nom/prénom/adresse mail/fonction au sein de l’association/numéro de téléphone– En présentiel à la FESEFA\, au 44 rue d’Arenberg à 1000 Bruxelles– Matinée gratuite – 2 personnes max. par association \nL’accueil débute à 9h30\, la matinée de formation commence à 10h. \nNB – Même si la formation est affichée comme étant complète\, n’hésitez pas à nous contacter pour vous inscrire sur une liste d’attente. Nous vous recontacterons le cas  dans d’un désistement. \n 
URL:https://fesefa.be/event/matinee-ep-decret-education-permanente-les-fondamentaux-13/
LOCATION:FESEFA\, Rue d'Arenberg\, 44\, Bruxelles\, 1000
CATEGORIES:Formation EP
ORGANIZER;CN="FESEFA":MAILTO:info@fesefa.be
END:VEVENT
BEGIN:VEVENT
DTSTART;TZID=Europe/Paris:20230516T093000
DTEND;TZID=Europe/Paris:20230516T123000
DTSTAMP:20260423T002128
CREATED:20230502T101140Z
LAST-MODIFIED:20230907T103855Z
UID:10000313-1684229400-1684240200@fesefa.be
SUMMARY:[Nouvelle date] Matinée statutaire
DESCRIPTION:Si vous êtes dans le processus de révision des statuts de votre association\, dans le but de les rendre compatibles avec le Code des sociétés et des associations (CSA)\, cette séance de questions et réponses a été organisée pour vous !  \nL’un·e de nos juristes sera à la disposition des participant·e·s et répondra à leurs questions tout au long de la matinée. Ces séances sont ouvertes aux affilié·e·s\, où qu’ils ou elles en soient dans le processus de mise en conformité : aucune connaissance préalable n’est exigée.  \nCette séance est gratuite\, mais l’inscription est requise (vers le formulaire d’inscription). Votre participation peut avoir lieu à distance (via Zoom)\, ou au siège de la FESEFA.
URL:https://fesefa.be/event/nouvelle-date-matinee-statutaire-3/
LOCATION:En ligne\, Zoom
CATEGORIES:Formation,Formation juridique
END:VEVENT
BEGIN:VEVENT
DTSTART;TZID=Europe/Paris:20230517T093000
DTEND;TZID=Europe/Paris:20230517T123000
DTSTAMP:20260423T002128
CREATED:20230516T115418Z
LAST-MODIFIED:20230907T103555Z
UID:10000322-1684315800-1684326600@fesefa.be
SUMMARY:Mercredi RGPD
DESCRIPTION:Ces permanences juridiques mensuelles vous donnent l’opportunité d’échanger avec le conseiller spécialisé dans les thématiques de la protection des données et de la vie privée. Il s’agit des séances de questions et réponses\, sans introduction théorique ni connaissance préalable exigée.  \nQue vos questions portent sur les étapes de la mise en conformité de votre structure avec le RGPD\, ou que vous ayez des questions spécifiques sur les différents aspects de la vie privée dans la relation de travail\, dans la gouvernance de l’asbl\, ou encore dans vos rapports avec vos publics et bénéficiaires\, les mercredis RGPD sont l’occasion d’en discuter dans un cadre informel et d’échanger avec d’autres structures de nos secteurs. \nCette séance est gratuite\, mais l’inscription est requise (vers le formulaire d’inscription). Votre participation peut avoir lieu à distance (via Zoom)\, ou au siège de la FESEFA.
URL:https://fesefa.be/event/mercredi-rgpd-9/
LOCATION:En ligne\, Zoom
CATEGORIES:Formation,Formation juridique
END:VEVENT
BEGIN:VEVENT
DTSTART;TZID=Europe/Paris:20230522T093000
DTEND;TZID=Europe/Paris:20230522T123000
DTSTAMP:20260423T002128
CREATED:20230502T101217Z
LAST-MODIFIED:20230907T103855Z
UID:10000314-1684747800-1684758600@fesefa.be
SUMMARY:[Nouvelle date] Matinée statutaire
DESCRIPTION:Si vous êtes dans le processus de révision des statuts de votre association\, dans le but de les rendre compatibles avec le Code des sociétés et des associations (CSA)\, cette séance de questions et réponses a été organisée pour vous !  \nL’un·e de nos juristes sera à la disposition des participant·e·s et répondra à leurs questions tout au long de la matinée. Ces séances sont ouvertes aux affilié·e·s\, où qu’ils ou elles en soient dans le processus de mise en conformité : aucune connaissance préalable n’est exigée.  \nCette séance est gratuite\, mais l’inscription est requise (vers le formulaire d’inscription). Votre participation peut avoir lieu à distance (via Zoom)\, ou au siège de la FESEFA.
URL:https://fesefa.be/event/nouvelle-date-matinee-statutaire-4/
LOCATION:En ligne\, Zoom
CATEGORIES:Formation,Formation juridique
END:VEVENT
BEGIN:VEVENT
DTSTART;TZID=Europe/Paris:20230526T093000
DTEND;TZID=Europe/Paris:20230526T123000
DTSTAMP:20260423T002128
CREATED:20230418T100530Z
LAST-MODIFIED:20230907T103426Z
UID:10000306-1685093400-1685104200@fesefa.be
SUMMARY:Matinée juridique - Les autres formes de collaboration : volontariat\, régime « Article 17 »\, RPI\, etc.
DESCRIPTION:Dans la vie de nombreuses associations\, il arrive que la réalisation de certaines activités — de par leur caractère occasionnel ou saisonnier\, ou en raison des limites financières de l’opérateur — ne puissent être confiées à des travailleurs·ses engagé·e·s sous un contrat de travail classique. \nDans ces hypothèses\, il est possible de confier certaines tâches ou missions à des collaborateurs·trices dans le cadre de différents dispositifs légaux alternatifs : les contrats dits « Article 17 »\, le volontariat ou encore dans le cadre du régime des petites indemnités (RPI). \nCette matinée juridique explicitera dans les grandes lignes les différents régimes proposés ci-dessus (conditions d’accès\, encadrement juridique et administratif\, etc.)\, afin que vous puissiez\, en toute sécurité\, avoir recours à ces modalités dans le cadre de vos activités. \nVous pouvez vous inscrire à cette matinée juridique en suivant ce lien.
URL:https://fesefa.be/event/matinee-juridique-les-autres-formes-de-collaboration-volontariat-regime-article-17-rpi-etc/
LOCATION:En ligne\, Zoom
CATEGORIES:Formation,Formation juridique
END:VEVENT
END:VCALENDAR