BEGIN:VCALENDAR
VERSION:2.0
PRODID:-//FESEFA - ECPv6.15.20//NONSGML v1.0//EN
CALSCALE:GREGORIAN
METHOD:PUBLISH
X-ORIGINAL-URL:https://fesefa.be
X-WR-CALDESC:Évènements pour FESEFA
REFRESH-INTERVAL;VALUE=DURATION:PT1H
X-Robots-Tag:noindex
X-PUBLISHED-TTL:PT1H
BEGIN:VTIMEZONE
TZID:Europe/Paris
BEGIN:DAYLIGHT
TZOFFSETFROM:+0100
TZOFFSETTO:+0200
TZNAME:CEST
DTSTART:20210328T010000
END:DAYLIGHT
BEGIN:STANDARD
TZOFFSETFROM:+0200
TZOFFSETTO:+0100
TZNAME:CET
DTSTART:20211031T010000
END:STANDARD
BEGIN:DAYLIGHT
TZOFFSETFROM:+0100
TZOFFSETTO:+0200
TZNAME:CEST
DTSTART:20220327T010000
END:DAYLIGHT
BEGIN:STANDARD
TZOFFSETFROM:+0200
TZOFFSETTO:+0100
TZNAME:CET
DTSTART:20221030T010000
END:STANDARD
BEGIN:DAYLIGHT
TZOFFSETFROM:+0100
TZOFFSETTO:+0200
TZNAME:CEST
DTSTART:20230326T010000
END:DAYLIGHT
BEGIN:STANDARD
TZOFFSETFROM:+0200
TZOFFSETTO:+0100
TZNAME:CET
DTSTART:20231029T010000
END:STANDARD
END:VTIMEZONE
BEGIN:VEVENT
DTSTART;TZID=Europe/Paris:20221102T093000
DTEND;TZID=Europe/Paris:20221102T123000
DTSTAMP:20260423T172314
CREATED:20220928T124349Z
LAST-MODIFIED:20230907T103556Z
UID:10000283-1667381400-1667392200@fesefa.be
SUMMARY:Mercredi RGPD
DESCRIPTION:Ces permanences juridiques mensuelles vous donnent l’opportunité d’échanger avec le conseiller spécialisé dans les thématiques de la protection des données et de la vie privée. Il s’agit des séances de questions et réponses\, sans introduction théorique ni connaissance préalable exigée.  \nQue vos questions portent sur les étapes de la mise en conformité de votre structure avec le RGPD\, ou que vous ayez des questions spécifiques sur les différents aspects de la vie privée dans la relation de travail\, dans la gouvernance de l’asbl\, ou encore dans vos rapports avec vos publics et bénéficiaires\, les mercredis RGPD sont l’occasion d’en discuter dans un cadre informel et d’échanger avec d’autres structures de nos secteurs. \nCette séance est gratuite\, mais l’inscription est requise (vers le formulaire d’inscription). Votre participation peut avoir lieu à distance (via Zoom)\, ou au siège de la FESEFA. \n 
URL:https://fesefa.be/event/mercredi-rgpd-3/
LOCATION:FESEFA\, Rue d'Arenberg\, 44\, Bruxelles\, 1000
CATEGORIES:Formation,Formation juridique
END:VEVENT
BEGIN:VEVENT
DTSTART;TZID=Europe/Paris:20221108T093000
DTEND;TZID=Europe/Paris:20221108T123000
DTSTAMP:20260423T172314
CREATED:20220928T122510Z
LAST-MODIFIED:20230907T103952Z
UID:10000269-1667899800-1667910600@fesefa.be
SUMMARY:Matinée statutaire
DESCRIPTION:Si vous êtes dans le processus de révision des statuts de votre association\,  dans le but de les rendre compatibles avec le Code des sociétés et des associations (CSA)\, cette séance de questions et réponses a été organisée pour vous !  \nL’un·e de nos juristes sera à la disposition des participant·e·s et répondra à leurs questions tout au long de la matinée. Ces séances sont ouvertes aux affilié·e·s\, où qu’ils ou elles en soient dans le processus de mise en conformité : aucune connaissance préalable n’est exigée.  \nCette séance est gratuite\, mais l’inscription est requise (vers le formulaire d’inscription). Votre participation peut avoir lieu à distance (via Zoom)\, ou au siège de la FESEFA.
URL:https://fesefa.be/event/matinee-statutaire-5/
LOCATION:FESEFA\, Rue d'Arenberg\, 44\, Bruxelles\, 1000
CATEGORIES:Formation,Formation juridique
END:VEVENT
BEGIN:VEVENT
DTSTART;TZID=Europe/Paris:20221110T093000
DTEND;TZID=Europe/Paris:20221110T123000
DTSTAMP:20260423T172314
CREATED:20220831T085716Z
LAST-MODIFIED:20230228T081309Z
UID:10000264-1668072600-1668083400@fesefa.be
SUMMARY:[COMPLET] Matinée d’information sur la reconnaissance dans le cadre du décret EP - ! Nouveau !
DESCRIPTION:! Nouveau !  \n\n\n\nVotre association n’est pas reconnue en Éducation permanente (EP) ? Vous souhaitez en savoir plus sur le cadre légal de l’EP en Fédération Wallonie-Bruxelles\, sur les différentes étapes et démarches à effectuer pour une reconnaissance en EP ? \n\n\n\nDans le cadre de sa reconnaissance en tant que fédération représentative du secteur de l’EP\, la FESEFA organise une matinée d’information pour les associations non reconnues en EP et intéressées par la reconnaissance en EP.  \n\n\n\nCette matinée à notamment pour objectifs d’aborder : \n\n\n\n\nla philosophie qui sous-tend le secteur ;\n\n\n\nles textes cadres de l’EP : Décret du 17 juillet 2003 et arrêtés d’exécution ;\n\n\n\nla procédure de demande de principe\, première étape formelle en vue d’une reconnaissance en EP ;\n\n\n\nl’auto-évaluation et la circulaire de 2018\n\n\n\n\nPublic : Toute personne membre de l’équipe ou des instances d’une association qui explore l’opportunité de s’engager dans un processus de reconnaissance en Éducation permanente.  \n\n\n\n→ Pour toucher le plus d’associations possible\, la FESEFA fait appel à ses membres pour bien vouloir transmettre cette information à toute association qui pourrait être intéressée.  \n\n\n\nAu plaisir de vous y rencontrer ! \n\n\n\n– Inscription : info@fesefa.be (Nom/Prénom/Fonction/Nom de votre asbl/Tél/Courriel) \n\n\n\n– Lieu : FESEFA\, rue d’Arenberg 44\, 1000 Bruxelles \n\n\n\n– Date : Jeudi  10 novembre 2022 de 9h45 à 12h30 \n\n\n\n– Matinée gratuite – 2 personnes max. par association
URL:https://fesefa.be/event/matinee-dinformation-sur-la-reconnaissance-dans-le-cadre-du-decret-ep-nouveau/
LOCATION:FESEFA\, Rue d'Arenberg\, 44\, Bruxelles\, 1000
CATEGORIES:Formation
ORGANIZER;CN="FESEFA":MAILTO:info@fesefa.be
END:VEVENT
BEGIN:VEVENT
DTSTART;TZID=Europe/Paris:20221117T094500
DTEND;TZID=Europe/Paris:20221117T123000
DTSTAMP:20260423T172314
CREATED:20220525T062744Z
LAST-MODIFIED:20230119T122026Z
UID:10000257-1668678300-1668688200@fesefa.be
SUMMARY:Matinée EP - Décret Éducation permanente : les fondamentaux
DESCRIPTION:Votre association est reconnue en EP et vous avez besoin de connaître les fondamentaux du secteur EP\, de son action\, les notions-clés\, les logiques de chaque axe de reconnaissance ? \nLa FESEFA vous donne l’opportunité de vous familiariser avec le cadre légal des reconnaissances en Éducation permanente : philosophie générale\, présentation par axe\, modifications suite à la réforme de 2018\, contrôle et évaluation… \nCette matinée vous permet de vous informer sur ces bases ou d’actualiser vos connaissances des textes légaux en lien avec les modifications applicables suite à la réforme de 2018 pour toutes les associations reconnues en EP. \nCes matinées sont gratuites et accessibles à tout membre de vos équipes ou de vos instances (associations reconnues en EP\, membres ou non). \nAu plaisir de vous y rencontrer ! \n– Inscription : info@fesefa.be\n– Jeudi 17 novembre 2022 de 10h à 12h30 (Accueil à partir de 9h45)\n– En présentiel à la FESEFA au 44 rue d’Arenberg à 1000 Bruxelles\n– Matinée gratuite – 2 personnes max. par association
URL:https://fesefa.be/event/10563/
LOCATION:FESEFA\, Rue d'Arenberg\, 44\, Bruxelles\, 1000
CATEGORIES:Formation
ORGANIZER;CN="FESEFA":MAILTO:info@fesefa.be
END:VEVENT
BEGIN:VEVENT
DTSTART;TZID=Europe/Paris:20221123T093000
DTEND;TZID=Europe/Paris:20221123T123000
DTSTAMP:20260423T172314
CREATED:20220928T122633Z
LAST-MODIFIED:20230907T103855Z
UID:10000270-1669195800-1669206600@fesefa.be
SUMMARY:Matinée statutaire
DESCRIPTION:Si vous êtes dans le processus de révision des statuts de votre association\,  dans le but de les rendre compatibles avec le Code des sociétés et des associations (CSA)\, cette séance de questions et réponses a été organisée pour vous !  \nL’un·e de nos juristes sera à la disposition des participant·e·s et répondra à leurs questions tout au long de la matinée. Ces séances sont ouvertes aux affilié·e·s\, où qu’ils ou elles en soient dans le processus de mise en conformité : aucune connaissance préalable n’est exigée.  \nCette séance est gratuite\, mais l’inscription est requise (vers le formulaire d’inscription). Votre participation peut avoir lieu à distance (via Zoom)\, ou au siège de la FESEFA.
URL:https://fesefa.be/event/matinee-statutaire-6/
LOCATION:FESEFA\, Rue d'Arenberg\, 44\, Bruxelles\, 1000
CATEGORIES:Formation,Formation juridique
END:VEVENT
BEGIN:VEVENT
DTSTART;TZID=Europe/Paris:20221129T093000
DTEND;TZID=Europe/Paris:20221129T123000
DTSTAMP:20260423T172314
CREATED:20220614T135255Z
LAST-MODIFIED:20230228T081326Z
UID:10000262-1669714200-1669725000@fesefa.be
SUMMARY:[COMPLET] Matinée EP - Axe 1 : le cadre EP et votre réalité
DESCRIPTION:Votre association est reconnue en axe 1 et vous souhaitez échanger autour du cadre de vos activités d’éducation permanente ? \n\n\n\nLa FESEFA organise le 29 novembre 2022 une matinée dédiée spécifiquement à l’axe 1 afin de vous donner l’opportunité de revenir sur les prescrits légaux et de partager vos réalités de terrain avec d’autres professionnel·le·s du secteur. \n\n\n\nCette matinée a notamment pour objectifs : \n\n\n\n\nde revenir sur les concepts-clés du décret pour l’axe 1 (activités régulières\, thématique d’action\, impact territorial…) ;\n\n\n\nd’examiner les critères quantitatifs et qualitatifs de l’axe 1 et de les mettre en perspective avec vos pratiques ;\n\n\n\nd’enrichir mutuellement votre action à travers les échanges qui prendront place.\n\n\n\n\nMéthodologie : au départ de vos réalités\, de vos questionnements\, en utilisant des documents-ressources et à travers un partage d’expériences. \n\n\n\nPublics : Cette matinée est destinée à tout membre de vos équipes ou de vos instances qui travaille sur les activités d’axe 1 (que votre association soit membre de la FESEFA ou non) \n\n\n\nAu plaisir de vous y rencontrer ! \n\n\n\n\nInscription : info@fesefa.be (Nom/Prénom/Fonction/Nom de votre asbl/Tél/Courriel)\n\n\n\nLieu : FESEFA\, rue d’Arenberg\, 44\, 1000 Bruxelles\n\n\n\nDate : le 29 novembre 2022\, de 9h45 à 12h30 (accueil à partir de 9h30)\n\n\n\nMatinée gratuite – 2 personnes max. par association\n\n\n\n\nNB : Même si la formation est affichée comme étant complète\, n’hésitez pas à nous contacter pour vous inscrire sur une liste d’attente. Nous vous recontacterons dans le cas d’un désistement. \n\n\n\nPour assister dans les meilleures conditions à nos matinées centrées sur un axe particulier\, nous vous conseillons d’avoir préalablement suivi une de nos matinées consacrées aux fondamentaux du décret EP.
URL:https://fesefa.be/event/matinee-ep-axe-1-le-cadre-ep-et-votre-realite-4/
LOCATION:FESEFA\, Rue d'Arenberg\, 44\, Bruxelles\, 1000
CATEGORIES:Formation
ORGANIZER;CN="FESEFA":MAILTO:info@fesefa.be
END:VEVENT
END:VCALENDAR