BEGIN:VCALENDAR
VERSION:2.0
PRODID:-//FESEFA - ECPv6.15.20//NONSGML v1.0//EN
CALSCALE:GREGORIAN
METHOD:PUBLISH
X-WR-CALNAME:FESEFA
X-ORIGINAL-URL:https://fesefa.be
X-WR-CALDESC:Évènements pour FESEFA
REFRESH-INTERVAL;VALUE=DURATION:PT1H
X-Robots-Tag:noindex
X-PUBLISHED-TTL:PT1H
BEGIN:VTIMEZONE
TZID:Europe/Paris
BEGIN:DAYLIGHT
TZOFFSETFROM:+0100
TZOFFSETTO:+0200
TZNAME:CEST
DTSTART:20210328T010000
END:DAYLIGHT
BEGIN:STANDARD
TZOFFSETFROM:+0200
TZOFFSETTO:+0100
TZNAME:CET
DTSTART:20211031T010000
END:STANDARD
BEGIN:DAYLIGHT
TZOFFSETFROM:+0100
TZOFFSETTO:+0200
TZNAME:CEST
DTSTART:20220327T010000
END:DAYLIGHT
BEGIN:STANDARD
TZOFFSETFROM:+0200
TZOFFSETTO:+0100
TZNAME:CET
DTSTART:20221030T010000
END:STANDARD
BEGIN:DAYLIGHT
TZOFFSETFROM:+0100
TZOFFSETTO:+0200
TZNAME:CEST
DTSTART:20230326T010000
END:DAYLIGHT
BEGIN:STANDARD
TZOFFSETFROM:+0200
TZOFFSETTO:+0100
TZNAME:CET
DTSTART:20231029T010000
END:STANDARD
END:VTIMEZONE
BEGIN:VEVENT
DTSTART;TZID=Europe/Paris:20221004T094500
DTEND;TZID=Europe/Paris:20221004T123000
DTSTAMP:20260424T002542
CREATED:20220525T062634Z
LAST-MODIFIED:20230228T081346Z
UID:10000256-1664876700-1664886600@fesefa.be
SUMMARY:[COMPLET] Matinée EP - Décret Éducation permanente : les fondamentaux
DESCRIPTION:Vous avez besoin de connaître les fondamentaux du secteur EP\, de son action\, les notions-clés\, les logiques de chaque axe de reconnaissance ? \n\n\n\nLa FESEFA vous donne l’opportunité de vous familiariser avec le cadre légal des reconnaissances en Éducation permanente : philosophie générale\, présentation par axe\, modifications suite à la réforme de 2018\, contrôle et évaluation… \n\n\n\nCette matinée vous permet de vous informer sur ces bases ou d’actualiser vos connaissances des textes légaux en lien avec les modifications applicables suite à la réforme de 2018 pour toutes les associations reconnues en EP. \n\n\n\nCes matinées sont gratuites et accessibles à tout membre de vos équipes ou de vos instances (associations reconnues en EP\, membres ou non). \n\n\n\nAu plaisir de vous y rencontrer ! \n\n\n\n– Inscription : jonas.hanin@fesefa.be (Nom/prénom/adresse mail/fonction au sein de l’association/numéro de téléphone)– Mardi 04 octobre 2022 de 10h à 12h30 (Accueil à partir de 9h45)– En présentiel à la FESEFA au 44 rue d’Arenberg à 1000 Bruxelles– Matinée gratuite – 2 personnes max. par association
URL:https://fesefa.be/event/matinee-ep-decret-education-permanente-les-fondamentaux-8/
LOCATION:FESEFA\, Rue d'Arenberg\, 44\, Bruxelles\, 1000
CATEGORIES:Formation
ORGANIZER;CN="FESEFA":MAILTO:info@fesefa.be
END:VEVENT
BEGIN:VEVENT
DTSTART;TZID=Europe/Paris:20221011T093000
DTEND;TZID=Europe/Paris:20221011T123000
DTSTAMP:20260424T002542
CREATED:20220928T122040Z
LAST-MODIFIED:20230907T103952Z
UID:10000267-1665480600-1665491400@fesefa.be
SUMMARY:Matinée statutaire
DESCRIPTION:Si vous êtes dans le processus de révision des statuts de votre association\,  dans le but de les rendre compatibles avec le Code des sociétés et des associations (CSA)\, cette séance de questions et réponses a été organisée pour vous !  \nL’un·e de nos juristes sera à la disposition des participant·e·s et répondra à leurs questions tout au long de la matinée. Ces séances sont ouvertes aux affilié·e·s\, où qu’ils ou elles en soient dans le processus de mise en conformité : aucune connaissance préalable n’est exigée. \nCette séance est gratuite\, mais l’inscription est requise (vers le formulaire d’inscription). Votre participation peut avoir lieu à distance (via Zoom)\, ou au siège de la FESEFA.
URL:https://fesefa.be/event/matinee-statutaire-3/
LOCATION:FESEFA\, Rue d'Arenberg\, 44\, Bruxelles\, 1000
CATEGORIES:Formation,Formation juridique
END:VEVENT
BEGIN:VEVENT
DTSTART;TZID=Europe/Paris:20221013T093000
DTEND;TZID=Europe/Paris:20221013T123000
DTSTAMP:20260424T002542
CREATED:20220614T135011Z
LAST-MODIFIED:20230228T081335Z
UID:10000261-1665653400-1665664200@fesefa.be
SUMMARY:[COMPLET] Matinée EP - Axe 1 : le cadre EP et votre réalité
DESCRIPTION:! Nouveau !  \n\n\n\nVotre association est reconnue en axe 1 et vous souhaitez échanger autour du cadre de vos activités d’éducation permanente ? \n\n\n\nLa FESEFA organise le 13 octobre 2022 une matinée dédiée spécifiquement à l’axe 1 afin de vous donner l’opportunité de revenir sur les prescrits légaux et de partager vos réalités de terrain avec d’autres professionnel·le·s du secteur. \n\n\n\nCette matinée a notamment pour objectifs : \n\n\n\n-de revenir sur les concepts-clés du décret pour l’axe 1 (activités régulières\, thématique d’action\, impact territorial…) ; \n\n\n\n– d’examiner les critères quantitatifs et qualitatifs de l’axe 1 et de les mettre en perspective avec vos pratiques ; \n\n\n\n– d’enrichir mutuellement votre action à travers les échanges qui prendront place. \n\n\n\nMéthodologie : au départ de vos réalités\, de vos questionnements\, en utilisant des documents-ressources et à travers un partage d’expériences. \n\n\n\nPublics : Cette matinée est destinée à tout membre de vos équipes ou de vos instances qui travaille sur les activités d’axe 1 (que votre association soit membre de la FESEFA ou non) \n\n\n\nAu plaisir de vous y rencontrer ! \n\n\n\n– Inscription : jonas.hanin@fesefa.be (Nom/Prénom/Fonction/Nom de votre asbl/Tél/Courriel) \n\n\n\n– Lieu : FESEFA\, rue d’Arenberg\, 44\, 1000 Bruxelles \n\n\n\n– Date : le 13 octobre 2022\, de 9h45 à 12h30 (accueil à partir de 9h30) \n\n\n\n– Matinée gratuite – 2 personnes max. par association \n\n\n\nNB : pour assister dans les meilleures conditions à nos matinées centrées sur un axe particulier\, nous vous conseillons d’avoir préalablement suivi une de nos matinées consacrées aux fondamentaux du décret EP.
URL:https://fesefa.be/event/matinee-ep-axe-1-le-cadre-ep-et-votre-realite-3/
LOCATION:FESEFA\, Rue d'Arenberg\, 44\, Bruxelles\, 1000
CATEGORIES:Formation
ORGANIZER;CN="FESEFA":MAILTO:info@fesefa.be
END:VEVENT
BEGIN:VEVENT
DTSTART;TZID=Europe/Paris:20221019T093000
DTEND;TZID=Europe/Paris:20221019T123000
DTSTAMP:20260424T002542
CREATED:20220928T124301Z
LAST-MODIFIED:20230907T103556Z
UID:10000282-1666171800-1666182600@fesefa.be
SUMMARY:Mercredi RGPD
DESCRIPTION:Ces permanences juridiques mensuelles vous donnent l’opportunité d’échanger avec le conseiller spécialisé dans les thématiques de la protection des données et de la vie privée. Il s’agit des séances de questions et réponses\, sans introduction théorique ni connaissance préalable exigée. \nQue vos questions portent sur les étapes de la mise en conformité de votre structure avec le RGPD\, ou que vous ayez des questions spécifiques sur les différents aspects de la vie privée dans la relation de travail\, dans la gouvernance de l’asbl\, ou encore dans vos rapports avec vos publics et bénéficiaires\, les mercredis RGPD sont l’occasion d’en discuter dans un cadre informel et d’échanger avec d’autres structures de nos secteurs. \nCette séance est gratuite\, mais l’inscription est requise (vers le formulaire d’inscription). Votre participation peut avoir lieu à distance (via Zoom)\, ou au siège de la FESEFA. \n 
URL:https://fesefa.be/event/mercredi-rgpd-2/
LOCATION:FESEFA\, Rue d'Arenberg\, 44\, Bruxelles\, 1000
CATEGORIES:Formation,Formation juridique
END:VEVENT
BEGIN:VEVENT
DTSTART;TZID=Europe/Paris:20221027T093000
DTEND;TZID=Europe/Paris:20221027T123000
DTSTAMP:20260424T002542
CREATED:20220928T122336Z
LAST-MODIFIED:20230907T103952Z
UID:10000268-1666863000-1666873800@fesefa.be
SUMMARY:Matinée statutaire
DESCRIPTION:Si vous êtes dans le processus de révision des statuts de votre association\,  dans le but de les rendre compatibles avec le Code des sociétés et des associations (CSA)\, cette séance de questions et réponses a été organisée pour vous !  \nL’un·e de nos juristes sera à la disposition des participant·e·s et répondra à leurs questions tout au long de la matinée. Ces séances sont ouvertes aux affilié·e·s\, où qu’ils ou elles en soient dans le processus de mise en conformité : aucune connaissance préalable n’est exigée.  \nCette séance est gratuite\, mais l’inscription est requise (vers le formulaire d’inscription). Votre participation peut avoir lieu à distance (via Zoom)\, ou au siège de la FESEFA.
URL:https://fesefa.be/event/matinee-statutaire-4/
LOCATION:FESEFA\, Rue d'Arenberg\, 44\, Bruxelles\, 1000
CATEGORIES:Formation,Formation juridique
END:VEVENT
BEGIN:VEVENT
DTSTART;TZID=Europe/Paris:20221027T093000
DTEND;TZID=Europe/Paris:20221027T163000
DTSTAMP:20260424T002542
CREATED:20220317T085652Z
LAST-MODIFIED:20230228T081353Z
UID:10000251-1666863000-1666888200@fesefa.be
SUMMARY:[COMPLET] Formation EP - Auto-évaluation et rapport général d'évaluation : sens\, enjeux\, pratiques
DESCRIPTION:La réforme du Décret de 2003 transforme  les pratiques de justification qui sont demandées aux associations\, notamment en introduisant une exigence d’auto-évaluation. \nLa formation\, en partenariat avec Jean Blairon\, vise à contextualiser cette nouvelle exigence\, à en nommer les enjeux et à en décrire les composantes. \nLes contenus suivants seront abordés : \n– distinction entre évaluation et contrôle ; \n– évaluation et pratique réflexive ; \n– l’auto-évaluation dans le prescrit légal ; \n– examen des questions d’auto-évaluation proposées par les services du gouvernement ; \n– questions pratiques. \nDate : le 27 octobre 2022\nHeures : 9h30 – 16h30\nPrix : 90 €\nL’inscription sera effective après le versement de la PAF de 90 € (comprenant documentation écrite\, boissons et lunchs) sur le compte TRIODOS de la FESEFA : IBAN : BE17 5230 4027 8721 / BIC : TRIOBEBB. Cette formation peut être remboursée pour partie par le Fonds 4S. \nNombre maximum de participant·e·s : 12 \nFormateur : Jean Blairon (RTA) \nInscription : info@fesefa.be \nLieu : A la FESEFA
URL:https://fesefa.be/event/formation-ep-auto-evaluation-et-rapport-general-devaluation-sens-enjeux-pratiques-3/
LOCATION:FESEFA\, Rue d'Arenberg\, 44\, Bruxelles\, 1000
CATEGORIES:Formation
END:VEVENT
END:VCALENDAR