BEGIN:VCALENDAR
VERSION:2.0
PRODID:-//FESEFA - ECPv6.15.20//NONSGML v1.0//EN
CALSCALE:GREGORIAN
METHOD:PUBLISH
X-WR-CALNAME:FESEFA
X-ORIGINAL-URL:https://fesefa.be
X-WR-CALDESC:Évènements pour FESEFA
REFRESH-INTERVAL;VALUE=DURATION:PT1H
X-Robots-Tag:noindex
X-PUBLISHED-TTL:PT1H
BEGIN:VTIMEZONE
TZID:Europe/Paris
BEGIN:DAYLIGHT
TZOFFSETFROM:+0100
TZOFFSETTO:+0200
TZNAME:CEST
DTSTART:20210328T010000
END:DAYLIGHT
BEGIN:STANDARD
TZOFFSETFROM:+0200
TZOFFSETTO:+0100
TZNAME:CET
DTSTART:20211031T010000
END:STANDARD
BEGIN:DAYLIGHT
TZOFFSETFROM:+0100
TZOFFSETTO:+0200
TZNAME:CEST
DTSTART:20220327T010000
END:DAYLIGHT
BEGIN:STANDARD
TZOFFSETFROM:+0200
TZOFFSETTO:+0100
TZNAME:CET
DTSTART:20221030T010000
END:STANDARD
BEGIN:DAYLIGHT
TZOFFSETFROM:+0100
TZOFFSETTO:+0200
TZNAME:CEST
DTSTART:20230326T010000
END:DAYLIGHT
BEGIN:STANDARD
TZOFFSETFROM:+0200
TZOFFSETTO:+0100
TZNAME:CET
DTSTART:20231029T010000
END:STANDARD
END:VTIMEZONE
BEGIN:VEVENT
DTSTART;TZID=Europe/Paris:20220906T093000
DTEND;TZID=Europe/Paris:20220906T123000
DTSTAMP:20260424T055057
CREATED:20220531T075146Z
LAST-MODIFIED:20230119T122526Z
UID:10000260-1662456600-1662467400@fesefa.be
SUMMARY:Matinée EP - Axe 1 : le cadre EP et votre réalité
DESCRIPTION:! Nouveau !  \nVotre association est reconnue en axe 1 et vous souhaitez échanger autour du cadre de vos activités d’éducation permanente ? \nLa FESEFA organise le 6 septembre 2022 une matinée dédiée spécifiquement à l’axe 1 afin de vous donner l’opportunité de revenir sur les prescrits légaux et de partager vos réalités de terrain avec d’autres professionnel·le·s du secteur. \nCette matinée a notamment pour objectifs : \n-de revenir sur les concepts-clés du décret pour l’axe 1 (activités régulières\, thématique d’action\, impact territorial…) ; \n– d’examiner les critères quantitatifs et qualitatifs de l’axe 1 et de les mettre en perspective avec vos pratiques ; \n– d’enrichir mutuellement votre action à travers les échanges qui prendront place. \nMéthodologie : au départ de vos réalités\, de vos questionnements\, en utilisant des documents-ressources et à travers un partage d’expériences. \nPublics : Cette matinée est destinée à tout membre de vos équipes ou de vos instances qui travaille sur les activités d’axe 1 (que votre association soit membre de la FESEFA ou non) \nAu plaisir de vous y rencontrer ! \n– Inscription : jonas.hanin@fesefa.be (Nom/Prénom/Fonction/Nom de votre asbl/Tél/Courriel) \n– Lieu : FESEFA\, rue d’Arenberg\, 44\, 1000 Bruxelles \n– Date : le 6 septembre 2022\, de 10h à 12h30 (accueil à partir de 9h45) \n– Matinée gratuite – 2 personnes max. par association
URL:https://fesefa.be/event/matinee-ep-axe-1-le-cadre-ep-et-votre-realite-2/
LOCATION:FESEFA\, Rue d'Arenberg\, 44\, Bruxelles\, 1000
CATEGORIES:Formation
ORGANIZER;CN="FESEFA":MAILTO:info@fesefa.be
END:VEVENT
BEGIN:VEVENT
DTSTART;TZID=Europe/Paris:20220914T093000
DTEND;TZID=Europe/Paris:20220914T123000
DTSTAMP:20260424T055057
CREATED:20220928T124211Z
LAST-MODIFIED:20230907T103556Z
UID:10000281-1663147800-1663158600@fesefa.be
SUMMARY:Mercredi RGPD
DESCRIPTION:Ces permanences juridiques mensuelles vous donnent l’opportunité d’échanger avec le conseiller spécialisé dans les thématiques de la protection des données et de la vie privée. Il s’agit des séances de questions et réponses\, sans introduction théorique ni connaissance préalable exigée.  \nQue vos questions portent sur les étapes de la mise en conformité de votre structure avec le RGPD\, ou que vous ayez des questions spécifiques sur les différents aspects de la vie privée dans la relation de travail\, dans la gouvernance de l’asbl\, ou encore dans vos rapports avec vos publics et bénéficiaires\, les mercredis RGPD sont l’occasion d’en discuter dans un cadre informel et d’échanger avec d’autres structures de nos secteurs. \nCette séance est gratuite\, mais l’inscription est requise (vers le formulaire d’inscription). Votre participation peut avoir lieu à distance (via Zoom)\, ou au siège de la FESEFA. \n 
URL:https://fesefa.be/event/mercredi-rgpd/
LOCATION:FESEFA\, Rue d'Arenberg\, 44\, Bruxelles\, 1000
CATEGORIES:Formation,Formation juridique
END:VEVENT
BEGIN:VEVENT
DTSTART;TZID=Europe/Paris:20220915T094500
DTEND;TZID=Europe/Paris:20220915T123000
DTSTAMP:20260424T055057
CREATED:20220525T062449Z
LAST-MODIFIED:20230119T122143Z
UID:10000255-1663235100-1663245000@fesefa.be
SUMMARY:Matinée EP - Décret Éducation permanente : les fondamentaux
DESCRIPTION:Vous avez besoin de connaître les fondamentaux du secteur EP\, de son action\, les notions-clés\, les logiques de chaque axe de reconnaissance ? \nLa FESEFA vous donne l’opportunité de vous familiariser avec le cadre légal des reconnaissances en Éducation permanente : philosophie générale\, présentation par axe\, modifications suite à la réforme de 2018\, contrôle et évaluation… \nCette matinée vous permet de vous informer sur ces bases ou d’actualiser vos connaissances des textes légaux en lien avec les modifications applicables suite à la réforme de 2018 pour toutes les associations reconnues en EP. \nCes matinées sont gratuites et accessibles à tout membre de vos équipes ou de vos instances (associations reconnues en EP\, membres ou non). \nAu plaisir de vous y rencontrer ! \n– Inscription : jonas.hanin@fesefa.be (Nom/Prénom/Fonction/Nom de votre asbl/Tél/Courriel)\n– Jeudi 15 septembre 2022 de 10h à 12h30 (Accueil à partir de 9h45)\n– En présentiel à la FESEFA au 44 rue d’Arenberg à 1000 Bruxelles.\n– Matinée gratuite – 2 personnes max. par association
URL:https://fesefa.be/event/matinee-ep-decret-education-permanente-les-fondamentaux-7/
LOCATION:FESEFA\, Rue d'Arenberg\, 44\, Bruxelles\, 1000
CATEGORIES:Formation
ORGANIZER;CN="FESEFA":MAILTO:info@fesefa.be
END:VEVENT
BEGIN:VEVENT
DTSTART;TZID=Europe/Paris:20220919T093000
DTEND;TZID=Europe/Paris:20220919T123000
DTSTAMP:20260424T055057
CREATED:20220928T121737Z
LAST-MODIFIED:20230907T103952Z
UID:10000265-1663579800-1663590600@fesefa.be
SUMMARY:Matinée statutaire
DESCRIPTION:Si vous êtes dans le processus de révision des statuts de votre association\,  dans le but de les rendre compatibles avec le Code des sociétés et des associations (CSA)\, cette séance de questions et réponses a été organisée pour vous !  \nL’un·e de nos juristes sera à la disposition des participant·e·s et répondra à leurs questions tout au long de la matinée. Ces séances sont ouvertes aux affilié·e·s\, où qu’ils ou elles en soient dans le processus de mise en conformité : aucune connaissance préalable n’est exigée. \nCette séance est gratuite\, mais l’inscription est requise (vers le formulaire d’inscription). Votre participation peut avoir lieu à distance (via Zoom)\, ou au siège de la FESEFA.
URL:https://fesefa.be/event/matinee-statutaire/
LOCATION:FESEFA\, Rue d'Arenberg\, 44\, Bruxelles\, 1000
CATEGORIES:Formation,Formation juridique
END:VEVENT
BEGIN:VEVENT
DTSTART;TZID=Europe/Paris:20220929T093000
DTEND;TZID=Europe/Paris:20220929T123000
DTSTAMP:20260424T055057
CREATED:20220629T103942Z
LAST-MODIFIED:20230228T081318Z
UID:10000263-1664443800-1664454600@fesefa.be
SUMMARY:[COMPLET] Matinée EP - Axe 3
DESCRIPTION:Suite au succès des matinées organisées en 2019\, 2020 et 2021 et à la demande de plusieurs associations reconnues en axe 3\, la FESEFA organise de nouveau en 2022 une matinée dédiée à l’axe 3. \n\n\n\nCette matinée sera centrée sur l’application des nouvelles dispositions du décret EP modifié en 2018\, liée à une reconnaissance en axe 3. \n\n\n\nCette rencontre a notamment pour objectifs : \n\n\n\n– d’interroger des concepts du décret et les différents types de réalisations (outil pédagogique\, recherche participative\, service collectif…) ; \n\n\n\n– d’analyser les conséquences de certaines nouvelles dispositions du décret (fusion des sous-axes 3.1 et 3.2\, diminution des exigences quantitatives\, transversalité…) ; \n\n\n\n– d’échanger des bonnes pratiques. \n\n\n\nElle est gratuite et accessible à tout membre de vos équipes ou de vos instances. Elle s’adresse particulièrement aux personnes qui travaillent sur l’axe 3. \n\n\n\nAu plaisir de vous y rencontrer ! \n\n\n\n– Inscription : jonas.hanin@fesefa.be (Nom/Prénom/Fonction/Nom de votre asbl/Tél/Courriel)– Jeudi 29 septembre 2022 de 10h à 12h30 (Accueil à partir de 9h45)– En présentiel à la FESEFA au 44 rue d’Arenberg à 1000 Bruxelles– Matinée gratuite – 2 personnes max. par association \n\n\n\nNB : pour assister dans les meilleures conditions à nos matinées centrées sur un axe particulier\, nous vous conseillons d’avoir préalablement suivi une de nos matinées consacrées aux fondamentaux du décret EP.
URL:https://fesefa.be/event/matinee-ep-axe-3/
LOCATION:FESEFA\, Rue d'Arenberg\, 44\, Bruxelles\, 1000
CATEGORIES:Formation
ORGANIZER;CN="FESEFA":MAILTO:info@fesefa.be
END:VEVENT
BEGIN:VEVENT
DTSTART;TZID=Europe/Paris:20220929T093000
DTEND;TZID=Europe/Paris:20220929T123000
DTSTAMP:20260424T055057
CREATED:20220928T121943Z
LAST-MODIFIED:20230907T103952Z
UID:10000266-1664443800-1664454600@fesefa.be
SUMMARY:Matinée statutaire
DESCRIPTION:Si vous êtes dans le processus de révision des statuts de votre association\,  dans le but de les rendre compatibles avec le Code des sociétés et des associations (CSA)\, cette séance de questions et réponses a été organisée pour vous !  \nL’un·e de nos juristes sera à la disposition des participant·e·s et répondra à leurs questions tout au long de la matinée. Ces séances sont ouvertes aux affilié·e·s\, où qu’ils ou elles en soient dans le processus de mise en conformité : aucune connaissance préalable n’est exigée. \nCette séance est gratuite\, mais l’inscription est requise (vers le formulaire d’inscription). Votre participation peut avoir lieu à distance (via Zoom)\, ou au siège de la FESEFA.
URL:https://fesefa.be/event/matinee-statutaire-2/
LOCATION:FESEFA\, Rue d'Arenberg\, 44\, Bruxelles\, 1000
CATEGORIES:Formation,Formation juridique
END:VEVENT
END:VCALENDAR