BEGIN:VCALENDAR
VERSION:2.0
PRODID:-//FESEFA - ECPv6.15.20//NONSGML v1.0//EN
CALSCALE:GREGORIAN
METHOD:PUBLISH
X-ORIGINAL-URL:https://fesefa.be
X-WR-CALDESC:Évènements pour FESEFA
REFRESH-INTERVAL;VALUE=DURATION:PT1H
X-Robots-Tag:noindex
X-PUBLISHED-TTL:PT1H
BEGIN:VTIMEZONE
TZID:Europe/Paris
BEGIN:DAYLIGHT
TZOFFSETFROM:+0100
TZOFFSETTO:+0200
TZNAME:CEST
DTSTART:20200329T010000
END:DAYLIGHT
BEGIN:STANDARD
TZOFFSETFROM:+0200
TZOFFSETTO:+0100
TZNAME:CET
DTSTART:20201025T010000
END:STANDARD
BEGIN:DAYLIGHT
TZOFFSETFROM:+0100
TZOFFSETTO:+0200
TZNAME:CEST
DTSTART:20210328T010000
END:DAYLIGHT
BEGIN:STANDARD
TZOFFSETFROM:+0200
TZOFFSETTO:+0100
TZNAME:CET
DTSTART:20211031T010000
END:STANDARD
BEGIN:DAYLIGHT
TZOFFSETFROM:+0100
TZOFFSETTO:+0200
TZNAME:CEST
DTSTART:20220327T010000
END:DAYLIGHT
BEGIN:STANDARD
TZOFFSETFROM:+0200
TZOFFSETTO:+0100
TZNAME:CET
DTSTART:20221030T010000
END:STANDARD
END:VTIMEZONE
BEGIN:VEVENT
DTSTART;TZID=Europe/Paris:20210902T100000
DTEND;TZID=Europe/Paris:20210902T123000
DTSTAMP:20260425T162659
CREATED:20210525T082857Z
LAST-MODIFIED:20230119T132908Z
UID:10000220-1630576800-1630585800@fesefa.be
SUMMARY:Matinée EP - Réforme du Décret EP
DESCRIPTION:Suite à l’évaluation du Décret EP de 2003\, de nouvelles dispositions sont entrées en vigueur depuis le 1er janvier 2019. Elles concernent toutes les associations reconnues en Éducation permanente. \nLa FESEFA vous donne l’opportunité de vous familiariser avec ces modifications décrétales lors de Matinées EP entièrement consacrées à la présentation de cette réforme. Elles sont gratuites et accessibles à tout membre de vos équipes ou de vos instances. \nAu plaisir de vous y rencontrer ! \nNous vous proposons  une forme virtuelle avec zoom. \n\nInscription : info@fesefa.be (Nom/Prénom/Fonction/Nom de votre asbl/Tél/Courriel)\nPar visioconférence : via l’application zoom (les liens vous parviendront ultérieurement)\nJeudi 2 septembre 2021 de 10h à 12h30
URL:https://fesefa.be/event/matinee-ep-reforme-du-decret-ep-19/
CATEGORIES:Formation
END:VEVENT
BEGIN:VEVENT
DTSTART;TZID=Europe/Paris:20210913T100000
DTEND;TZID=Europe/Paris:20210913T120000
DTSTAMP:20260425T162659
CREATED:20210827T100806Z
LAST-MODIFIED:20230907T103427Z
UID:10000225-1631527200-1631534400@fesefa.be
SUMMARY:Matinée juridique - Comment implémenter le télétravail structurel ou occasionnel au sein de l'ASBL ?
DESCRIPTION:Télétravail\, plus\, moins\, encore ? Pour nombre d’entre nous le confinement a permis de découvrir une autre forme de prestation et d’organisation du travail : le télétravail. Certain·e·s envisagent d’implémenter le télétravail de manière structurelle\, d’autres préfèrent une pratique occasionnelle. \nAu cours de cette matinée juridique\, les participant·e·s auront une vue précise sur cette forme d’organisation du travail. \nNous nous pencherons sur la CCT n° 85 qui pose le cadre du télétravail dit structurel. Nous analyserons comment organiser pratiquement cette forme de télétravail. Faut-il conclure une convention ? Faut-il modifier le règlement de travail ? Faut-il indemniser les travailleurs·ses ? Quels outils de travail\, matériel\, etc. doit-on mettre à disposition des travailleurs·ses travaillant à distance ? \nEnfin\, nous verrons également une autre forme de télétravail : le télétravail occasionnel. Nous analyserons dans quelles hypothèses il est possible de recourir à ce dispositif et examinerons ses différents avantages et inconvénients. \nNous vous proposons  une forme virtuelle avec zoom\, d’une durée de deux heures. \n– Inscription : info@fesefa.be (Nom/Prénom/Fonction/Nom de votre asbl/Tél/Courriel) \n– Par visioconférence : via l’application zoom (les liens vous parviendront ultérieurement) \n–  Lundi 13 septembre 2021 de 10h à 12h \nNos matinées sont gratuites / 10 participant·e·s maximum
URL:https://fesefa.be/event/matinee-juridique-comment-implementer-le-teletravail-structurel-ou-occasionnel-au-sein-de-lasbl-3/
CATEGORIES:Formation,Formation juridique
END:VEVENT
BEGIN:VEVENT
DTSTART;TZID=Europe/Paris:20210924T100000
DTEND;TZID=Europe/Paris:20210924T120000
DTSTAMP:20260425T162659
CREATED:20210827T100643Z
LAST-MODIFIED:20230907T103427Z
UID:10000224-1632477600-1632484800@fesefa.be
SUMMARY:Matinée juridique - Comment implémenter le télétravail structurel ou occasionnel au sein de l'ASBL ?
DESCRIPTION:Télétravail\, plus\, moins\, encore ? Pour nombre d’entre nous le confinement a permis de découvrir une autre forme de prestation et d’organisation du travail : le télétravail. Certain·e·s envisagent d’implémenter le télétravail de manière structurelle\, d’autres préfèrent une pratique occasionnelle. \nAu cours de cette matinée juridique\, les participant·e·s auront une vue précise sur cette forme d’organisation du travail. \nNous nous pencherons sur la CCT n° 85 qui pose le cadre du télétravail dit structurel. Nous analyserons comment organiser pratiquement cette forme de télétravail. Faut-il conclure une convention ? Faut-il modifier le règlement de travail ? Faut-il indemniser les travailleurs·ses ? Quels outils de travail\, matériel\, etc. doit-on mettre à disposition des travailleurs·ses travaillant à distance ? \nEnfin\, nous verrons également une autre forme de télétravail : le télétravail occasionnel. Nous analyserons dans quelles hypothèses il est possible de recourir à ce dispositif et examinerons ses différents avantages et inconvénients. \n  \nNous vous proposons  une forme virtuelle avec zoom\, d’une durée de deux heures. \n– Inscription : info@fesefa.be (Nom/Prénom/Fonction/Nom de votre asbl/Tél/Courriel) \n– Par visioconférence : via l’application zoom (les liens vous parviendront ultérieurement) \n–  Vendredi 24 septembre 2021 de 10h à 12h \nNos matinées sont gratuites / 10 participant·e·s maximum
URL:https://fesefa.be/event/matinee-juridique-comment-implementer-le-teletravail-structurel-ou-occasionnel-au-sein-de-lasbl-2/
CATEGORIES:Formation,Formation juridique
END:VEVENT
END:VCALENDAR