BEGIN:VCALENDAR
VERSION:2.0
PRODID:-//FESEFA - ECPv6.15.20//NONSGML v1.0//EN
CALSCALE:GREGORIAN
METHOD:PUBLISH
X-ORIGINAL-URL:https://fesefa.be
X-WR-CALDESC:Évènements pour FESEFA
REFRESH-INTERVAL;VALUE=DURATION:PT1H
X-Robots-Tag:noindex
X-PUBLISHED-TTL:PT1H
BEGIN:VTIMEZONE
TZID:Europe/Paris
BEGIN:DAYLIGHT
TZOFFSETFROM:+0100
TZOFFSETTO:+0200
TZNAME:CEST
DTSTART:20200329T010000
END:DAYLIGHT
BEGIN:STANDARD
TZOFFSETFROM:+0200
TZOFFSETTO:+0100
TZNAME:CET
DTSTART:20201025T010000
END:STANDARD
BEGIN:DAYLIGHT
TZOFFSETFROM:+0100
TZOFFSETTO:+0200
TZNAME:CEST
DTSTART:20210328T010000
END:DAYLIGHT
BEGIN:STANDARD
TZOFFSETFROM:+0200
TZOFFSETTO:+0100
TZNAME:CET
DTSTART:20211031T010000
END:STANDARD
BEGIN:DAYLIGHT
TZOFFSETFROM:+0100
TZOFFSETTO:+0200
TZNAME:CEST
DTSTART:20220327T010000
END:DAYLIGHT
BEGIN:STANDARD
TZOFFSETFROM:+0200
TZOFFSETTO:+0100
TZNAME:CET
DTSTART:20221030T010000
END:STANDARD
END:VTIMEZONE
BEGIN:VEVENT
DTSTART;TZID=Europe/Paris:20210506T100000
DTEND;TZID=Europe/Paris:20210506T123000
DTSTAMP:20260426T042945
CREATED:20210225T135539Z
LAST-MODIFIED:20230119T132923Z
UID:10000207-1620295200-1620304200@fesefa.be
SUMMARY:Matinée EP - Réforme du Décret EP
DESCRIPTION:Suite à l’évaluation du Décret EP de 2003\, de nouvelles dispositions sont entrées en vigueur depuis le 1er janvier 2019. Elles concernent toutes les associations reconnues en Éducation permanente. \nLa FESEFA vous donne l’opportunité de vous familiariser avec ces modifications décrétales lors de Matinées EP entièrement consacrées à la présentation de cette réforme. Elles sont gratuites et accessibles à tout membre de vos équipes ou de vos instances. \nAu plaisir de vous y rencontrer ! \nNous vous proposons  une forme virtuelle avec zoom. \n\nInscription : info@fesefa.be (Nom/Prénom/Fonction/Nom de votre asbl/Tél/Courriel)\nPar visioconférence : via l’application zoom (les liens vous parviendront ultérieurement)\nJeudi 6 mai 2021 de 10h à 12h30
URL:https://fesefa.be/event/matinee-ep-reforme-du-decret-ep-20/
CATEGORIES:Formation
END:VEVENT
BEGIN:VEVENT
DTSTART;TZID=Europe/Paris:20210512T100000
DTEND;TZID=Europe/Paris:20210512T123000
DTSTAMP:20260426T042945
CREATED:20210505T140537Z
LAST-MODIFIED:20230119T133956Z
UID:10000218-1620813600-1620822600@fesefa.be
SUMMARY:Séance d'information - Décret emploi socioculturel
DESCRIPTION:Le Décret déterminant les conditions de subventionnement de l’emploi dans les secteurs socioculturels de la Communauté française organise le subventionnement de l’emploi dans la plupart des secteurs socioculturels et sportif en Fédération Wallonie-Bruxelles. Son financement est rendu possible pour partie grâce aux moyens des Accords du Non Marchand successifs et aux budgets sectoriels. \nL’objectif de cette séance d’information est de faire un tour d’horizon rapide de ce décret\, des emplois qu’il (co-)finance\, afin de vous familiariser avec les principes généraux de cette réglementation complexe. \nNous y aborderons les différentes modifications qui ont été apportées au texte en 2018 et qui permettent d’optimaliser l’utilisation et la justification de la subvention à l’emploi. \nLe principe de « globalisation » décidé exceptionnellement et annoncé par la Ministre Linard pour les années 2020 et 2021 (années Covid) sera également expliqué. \nCette séance s’adresse en priorité aux personnes qui sont amenées dans leur structure à gérer et à justifier cette subvention mais qui n’ont pas encore eu l’occasion de prendre connaissance de cette réglementation. \nAfin de préparer au mieux cette séance d’info\, nous vous invitons à prendre connaissance de la documentation suivante :  le PFB n°135\, le texte modifiant le Décret sur l’Emploi socioculturel de 2008 qui a été voté au Parlement de la Communauté française le 21 février 2018 ainsi que l’arrêté d’exécution qui a été signé le 20 juin 2018. \n\nNous vous proposons  une forme virtuelle avec zoom. \n\nInscription : info@fesefa.be (Nom/Prénom/Fonction/Nom de votre asbl/Tél/Courriel)\nPar visioconférence : via l’application zoom (les liens vous parviendront ultérieurement)\nMercredi 12 mai 2021 de 10h à 12h30
URL:https://fesefa.be/event/seance-dinformation-decret-emploi-socioculturel/
CATEGORIES:Formation
END:VEVENT
BEGIN:VEVENT
DTSTART;TZID=Europe/Paris:20210519T100000
DTEND;TZID=Europe/Paris:20210519T123000
DTSTAMP:20260426T042945
CREATED:20210310T084417Z
LAST-MODIFIED:20230119T123301Z
UID:10000212-1621418400-1621427400@fesefa.be
SUMMARY:Matinée EP - Axe 3
DESCRIPTION:Suite au succès des matinées organisées en 2019 et 2020 et à la demande de plusieurs associations reconnues en axe 3\, la FESEFA organise de nouveau en 2021 des matinées dédiées à l’axe 3. \nCes matinées seront centrées sur l’application des nouvelles dispositions du décret EP modifié\, liée à une reconnaissance en axe 3. \nLes matinées ont notamment pour objectifs : \n– d’interroger des concepts du décret (outil pédagogique\, recherche participative…) ; \n– d’analyser les conséquences de certaines nouvelles dispositions du décret (fusion des sous-axes 3.1 et 3.2\, globalisation de l’évaluation\, transversalité…) ; \n– d’échanger des bonnes pratiques. \nAttention ! Pour l’instant\, les matinées axe 3 sont réservées aux associations reconnues en axe 3. \nElles sont gratuites et accessibles à tout membre de vos équipes ou de vos instances. \nAu plaisir de vous y rencontrer ! \nNous vous proposons  une forme virtuelle avec zoom. \n– Inscription : info@fesefa.be (Nom/Prénom/Fonction/Nom de votre asbl/Tél/Courriel) \n– Par visioconférence : via l’application zoom (les liens vous parviendront ultérieurement) \n– Mercredi 19 mai 10h-12h30
URL:https://fesefa.be/event/matinee-axe-3-2/
CATEGORIES:Formation
END:VEVENT
BEGIN:VEVENT
DTSTART;TZID=Europe/Paris:20210520T093000
DTEND;TZID=Europe/Paris:20210520T163000
DTSTAMP:20260426T042945
CREATED:20210125T103052Z
LAST-MODIFIED:20230119T133932Z
UID:10000203-1621503000-1621528200@fesefa.be
SUMMARY:Formation - Le règlement de travail
DESCRIPTION:En tant qu’employeur·e\, la Loi vous oblige à rédiger un règlement de travail\, sous peine de sanctions. Un certain nombre de dispositions sont régies par la Loi. Certaines dispositions doivent impérativement être mentionnées dans le règlement de travail (par exemple\, les horaires de travail\, le mode et l’époque de paiement de la rémunération\, les pénalités\, etc.)\, d’autres dispositions peuvent faire l’objet de flexibilité et de choix organisationnel. \nLes objectifs de la formation sont les suivants : \n– comprendre et s’approprier le cadre légal ;\n– mettre à jour ou adapter son règlement de travail ;\n– mener une réflexion sur les mesures organisationnelles encadrant la relation de travail et l’adapter au besoin de l’association ;\n– comprendre les procédures administratives en cas de modification de son règlement de travail. \nCette formation aura lieu par visioconférence\, via l’application ZOOM. \nInscription : info@fesefa.be  \nL’inscription sera effective après le versement de la PAF de 90 € sur le compte TRIODOS de la FESEFA : IBAN : BE17 5230 4027 8721 / BIC : TRIOBEBB. Cette formation peut être remboursée pour partie par le Fonds 4S.\n– Par visioconférence : via l’application zoom (les liens vous parviendront ultérieurement)\n– Date : le 20 mai 2021\n– Heures : 9h30-16h30\n– 10 participant·e·s maximum \n 
URL:https://fesefa.be/event/le-reglement-de-travail/
CATEGORIES:Formation
END:VEVENT
BEGIN:VEVENT
DTSTART;TZID=Europe/Paris:20210526T100000
DTEND;TZID=Europe/Paris:20210526T123000
DTSTAMP:20260426T042945
CREATED:20210511T060804Z
LAST-MODIFIED:20230119T133710Z
UID:10000219-1622023200-1622032200@fesefa.be
SUMMARY:Séance d'information - Décret emploi socioculturel [NOUVELLE DATE]
DESCRIPTION:Le Décret déterminant les conditions de subventionnement de l’emploi dans les secteurs socioculturels de la Communauté française organise le subventionnement de l’emploi dans la plupart des secteurs socioculturels et sportif en Fédération Wallonie-Bruxelles. Son financement est rendu possible pour partie grâce aux moyens des Accords du Non Marchand successifs et aux budgets sectoriels. \nL’objectif de cette séance d’information est de faire un tour d’horizon rapide de ce décret\, des emplois qu’il (co-)finance\, afin de vous familiariser avec les principes généraux de cette réglementation complexe. \nNous y aborderons les différentes modifications qui ont été apportées au texte en 2018 et qui permettent d’optimaliser l’utilisation et la justification de la subvention à l’emploi. \nLe principe de “globalisation” décidé exceptionnellement et annoncé par la Ministre Linard pour les années 2020 et 2021 (années Covid) sera également expliqué. \nCette séance s’adresse en priorité aux personnes qui sont amenées dans leur structure à gérer et à justifier cette subvention mais qui n’ont pas encore eu l’occasion de prendre connaissance de cette réglementation. \nAfin de préparer au mieux cette séance d’info\, nous vous invitons à prendre connaissance de la documentation suivante :  le PFB n°135\, le texte modifiant le Décret sur l’Emploi socioculturel de 2008 qui a été voté au Parlement de la Communauté française le 21 février 2018 ainsi que l’arrêté d’exécution qui a été signé le 20 juin 2018. \n\nNous vous proposons  une forme virtuelle avec zoom. \n\nInscription : info@fesefa.be (Nom/Prénom/Fonction/Nom de votre asbl/Tél/Courriel)\nPar visioconférence : via l’application zoom (les liens vous parviendront ultérieurement)\nMercredi 26 mai 2021 de 10h à 12h30
URL:https://fesefa.be/event/nouvelle-date-seance-dinformation-decret-emploi-socioculturel/
CATEGORIES:Formation
END:VEVENT
BEGIN:VEVENT
DTSTART;TZID=Europe/Paris:20210528T100000
DTEND;TZID=Europe/Paris:20210528T120000
DTSTAMP:20260426T042945
CREATED:20210115T134745Z
LAST-MODIFIED:20230907T104126Z
UID:10000199-1622196000-1622203200@fesefa.be
SUMMARY:Matinée juridique - Vacances annuelles et européennes
DESCRIPTION:Cette matinée juridique est l’occasion de parcourir les différentes règles en matière de vacances annuelles (également appelées congés légaux). À quelles conditions les travailleurs·ses y ont-ils/elles droit ? Comment les calculer ? Comment organiser adéquatement la prise des vacances annuelles ? Faut-il les épuiser obligatoirement avant le 31 décembre ? Qu’est-ce que les simple et double pécule de vacances ? Ce sont quelques-unes des questions qui y seront abordées. \nElle est également l’occasion de se pencher sur un dispositif particulier et relativement récent : les vacances européennes (également appelées vacances supplémentaires). Il peut s’agir d’une solution lorsqu’un·e travailleur·se n’a pas droit à des vacances annuelles. Mais quelles en sont les conditions d’accès et comment concrètement les calculer ? Cela fera également l’objet d’une attention particulière. \nAu plaisir de vous y rencontrer ! \n\n\n\nNous vous proposons  une forme virtuelle avec zoom\, d’une durée de deux heures. \n\nInscription : info@fesefa.be (Nom/Prénom/Fonction/Nom de votre asbl/Tél/Courriel)\nPar visioconférence : via l’application zoom (les liens vous parviendront ultérieurement)\n\nLe vendredi 28 mai 2021 de 10h à 12h\nNos matinées sont gratuites / 10 participant·e·s maximum
URL:https://fesefa.be/event/matinee-juridique-vacances-annuelles-et-europeennes-4/
CATEGORIES:Formation,Formation juridique
END:VEVENT
END:VCALENDAR