BEGIN:VCALENDAR
VERSION:2.0
PRODID:-//FESEFA - ECPv6.15.20//NONSGML v1.0//EN
CALSCALE:GREGORIAN
METHOD:PUBLISH
X-WR-CALNAME:FESEFA
X-ORIGINAL-URL:https://fesefa.be
X-WR-CALDESC:Évènements pour FESEFA
REFRESH-INTERVAL;VALUE=DURATION:PT1H
X-Robots-Tag:noindex
X-PUBLISHED-TTL:PT1H
BEGIN:VTIMEZONE
TZID:Europe/Brussels
BEGIN:DAYLIGHT
TZOFFSETFROM:+0100
TZOFFSETTO:+0200
TZNAME:CEST
DTSTART:20230326T010000
END:DAYLIGHT
BEGIN:STANDARD
TZOFFSETFROM:+0200
TZOFFSETTO:+0100
TZNAME:CET
DTSTART:20231029T010000
END:STANDARD
BEGIN:DAYLIGHT
TZOFFSETFROM:+0100
TZOFFSETTO:+0200
TZNAME:CEST
DTSTART:20240331T010000
END:DAYLIGHT
BEGIN:STANDARD
TZOFFSETFROM:+0200
TZOFFSETTO:+0100
TZNAME:CET
DTSTART:20241027T010000
END:STANDARD
BEGIN:DAYLIGHT
TZOFFSETFROM:+0100
TZOFFSETTO:+0200
TZNAME:CEST
DTSTART:20250330T010000
END:DAYLIGHT
BEGIN:STANDARD
TZOFFSETFROM:+0200
TZOFFSETTO:+0100
TZNAME:CET
DTSTART:20251026T010000
END:STANDARD
END:VTIMEZONE
BEGIN:VEVENT
DTSTART;TZID=Europe/Brussels:20240404T100000
DTEND;TZID=Europe/Brussels:20240404T123000
DTSTAMP:20260423T063625
CREATED:20231214T100210Z
LAST-MODIFIED:20240402T084004Z
UID:10000366-1712224800-1712233800@fesefa.be
SUMMARY:[Complet] Matinée EP – Axe 4 : 'Sensibilisation et information'
DESCRIPTION:Votre association est reconnue en axe 4 et vous souhaitez échanger autour de la réalisation de vos campagnes annuelles et de vos interventions publiques ponctuelles d’Éducation permanente ? \n\n\n\nLa FESEFA organise une matinée dédiée spécifiquement à l’axe 4 afin de vous donner l’opportunité de revenir sur les prescrits légaux (impact territorial\, publics\, lien avec l’article 1er du Décret\, etc.) et la logique propre à cet axe. \n\n\n\nMéthodologie : au départ de vos réalités\, de vos questionnements\, en utilisant des documents-ressources et à travers un partage d’expériences et de pratiques. \n\n\n\nPublic : tout membre de vos équipes ou de vos instances qui travaille sur l’axe 4. Cette matinée n’est accessible qu’aux associations (ou mouvements) reconnues en axe 4. \n\n\n\nAu plaisir de vous y rencontrer ! \n\n\n\n\nInscription : via ce formulaire ;\n\n\n\nLieu : FESEFA\, rue d’Arenberg\, 44\, 1000 Bruxelles\, à l’espace The 44 (1er étage) ;\n\n\n\nHoraire : de 10h à 12h30 ;\n\n\n\nMatinée gratuite – 2 personnes max. par association.\n\n\n\n\nNB – Pour assister dans les meilleures conditions à nos matinées centrées sur un axe particulier\, nous vous conseillons d’avoir préalablement suivi une de nos matinées consacrées aux fondamentaux du Décret EP. \n\n\n\nNB2 – Même si la matinée est affichée comme étant complète\, n’hésitez pas à nous contacter pour vous inscrire sur une liste d’attente. Nous vous recontacterons dans le cas d’un désistement. \n\n\n\n*Matinée organisée sous réserve d’un nombre suffisant de participant·es
URL:https://fesefa.be/event/matinee-ep-axe-4-sensibilisation-et-information/
LOCATION:FESEFA\, Rue d'Arenberg\, 44\, Bruxelles\, 1000
CATEGORIES:Formation,Formation EP
ORGANIZER;CN="FESEFA":MAILTO:info@fesefa.be
END:VEVENT
BEGIN:VEVENT
DTSTART;TZID=Europe/Brussels:20240409T093000
DTEND;TZID=Europe/Brussels:20240409T163000
DTSTAMP:20260423T063625
CREATED:20231214T100843Z
LAST-MODIFIED:20240214T101547Z
UID:10000364-1712655000-1712680200@fesefa.be
SUMMARY:[Complet] ! Nouvelle date ! Auto-évaluation : une opportunité de réflexion pour fonder son action d’EP
DESCRIPTION:La réforme du Décret  EP de 2003 en 2018 a modifié les pratiques de justification exigées des associations\, notamment en introduisant une exigence d’auto-évaluation. Désormais\, dans le cadre du Rapport Général d’Évaluation (RGE)\, les associations reconnues en EP doivent rendre compte des résultats de cette réflexion. Pour accompagner les associations dans ce processus\, le pôle EP propose une formation pour s’approprier cette nouvelle exigence. \n\n\n\nPublics : travailleurs et travailleuses ou membres d’instances d’associations reconnues en EP \n\n\n\nObjectifs:  \n\n\n\n\n\ncontextualiser cette nouvelle exigence issue de la réforme de 2018 ;\nnommer les enjeux pour le secteur et le monde associatif ;\ntravailler les composantes de l’auto-évaluation réflexive exigée dans le cadre du RGE ;\nproposer un espace d’échanges de pratiques.\n\n\n\n\n\nContenus : \n\n\n\n\n\nl’auto-évaluation dans le prescrit légal : contextualisation\, composantes\, temporalité ;\nles 4 questions d’auto-évaluation proposées par la Circulaire du 7 mars 2018 ;\ndes balises du sens de l’auto-évaluation (logiques d’évaluation et de contrôle\, pratique réflexive\, autonomie associative…).\n\n\n\n\n\nMéthodes : \n\n\n\n\n\nPrésentation du cadre légal et administratif (RGE\, formulaires…) ;\nLecture collective de documents de référence ;\nTravail en sous-groupe et échanges de pratiques.\n\n\n\n\n\nFormateurs et formatrices : équipe du pôle EP de la FESEFA \n\n\n\nModalités pratiques : \n\n\n\n\n\nLieu : Centre d’Action Laïque\, Campus de la Plaine\, 1050 Bruxelles\n\n\n\nDate : mardi 9 avril 2024\n\n\n\nHoraires : 09h30 à 16h30\n\n\n\n\n\nNombre de participant·es : maximum 16 – 2 participant·es maximum d’une même association. \n\n\n\nTarifs : \n\n\n\n\n\nAssociations membres de la FESEFA : 90€\n\n\n\nAssociations non membres de la FESEFA : 110€\n\n\n\n\n\nLes repas de midi ne sont pas pris en charge. La formation est remboursable par le Fonds 4S pour les travailleurs·ses des associations de la CP 329.02 – vous trouverez plus d’informations sur le site du Fonds 4S. \n\n\n\nModalités d’inscription : \n\n\n\nL’inscription se fait par email à l’adresse info@fesefa.be. Merci de préciser : Nom/prénom/adresse mail/fonction au sein de l’association/numéro de téléphone. \n\n\n\nLe paiement doit être effectué dans les 10 jours ouvrables suivant la réception de l’email de confirmation. Une facture sera envoyée après la fin de la formation. \n\n\n\nUne attestation de présence sera délivrée en fin de formation. \n\n\n\nPolitique d’annulation et de remboursement : \n\n\n\nEn cas d’absence (quel que soit le type d’absence)\, les frais d’inscription seront uniquement remboursés en cas d’annulation au moins 15 jours ouvrables avant la date de début de formation. Après cette date\, aucun remboursement ne sera possible.Pour toute demande d’information : info@fesefa.be
URL:https://fesefa.be/event/nouvelle-date-auto-evaluation-une-opportunite-de-reflexion-pour-fonder-son-action-dep/
LOCATION:Centre d’Action Laïque\, Campus de la Plaine - ULB CP. 236 (accès 2)\, Bruxelles\,  1050\, Belgique
CATEGORIES:Formation,Formation EP
ORGANIZER;CN="FESEFA":MAILTO:info@fesefa.be
END:VEVENT
BEGIN:VEVENT
DTSTART;TZID=Europe/Brussels:20240416T100000
DTEND;TZID=Europe/Brussels:20240416T123000
DTSTAMP:20260423T063625
CREATED:20230905T071753Z
LAST-MODIFIED:20240308T080839Z
UID:10000331-1713261600-1713270600@fesefa.be
SUMMARY:[Complet] Matinée EP – Décret Éducation permanente : les fondamentaux
DESCRIPTION:Votre association est reconnue en vertu du Décret EP ? Vous avez besoin de connaître les fondamentaux du secteur EP\, de son action\, les notions-clés\, les logiques de chaque axe de reconnaissance ? \n\n\n\nLa FESEFA vous donne l’opportunité de vous familiariser avec le cadre légal des reconnaissances en Éducation permanente : philosophie générale\, présentation par axe\, modifications suite à la réforme de 2018\, contrôle et évaluation… Cette matinée vous permet de vous informer sur ces bases ou d’actualiser vos connaissances des textes légaux en lien avec les modifications en application suite à la réforme de 2018 pour toutes les associations reconnues en EP. \n\n\n\nPublic : tout·e membre de vos équipes ou de vos instances (associations reconnues en EP\, membres de la FESEFA ou non). \n\n\n\nAu plaisir de vous y rencontrer ! \n\n\n\n\nInscription : via ce formulaire ;\n\n\n\nLieu : FESEFA\, rue d’Arenberg\, 44\, 1000 Bruxelles\, à l’espace The 44 (1er étage) ;\n\n\n\nHoraire : de 10h à 12h30 ;\n\n\n\nMatinée gratuite – 2 personnes max. par association.\n\n\n\n\nNB – Même si la matinée est affichée comme étant complète\, n’hésitez pas à nous contacter pour vous inscrire sur une liste d’attente. Nous vous recontacterons dans le cas d’un désistement. \n\n\n\n*Matinée organisée sous réserve d’un nombre suffisant de participant·es
URL:https://fesefa.be/event/matinee-ep-decret-education-permanente-les-fondamentaux-22/
LOCATION:FESEFA\, Rue d'Arenberg\, 44\, Bruxelles\, 1000
CATEGORIES:Formation,Formation EP
ORGANIZER;CN="FESEFA":MAILTO:info@fesefa.be
END:VEVENT
BEGIN:VEVENT
DTSTART;TZID=Europe/Brussels:20240425T100000
DTEND;TZID=Europe/Brussels:20240425T123000
DTSTAMP:20260423T063625
CREATED:20230905T072326Z
LAST-MODIFIED:20240220T092939Z
UID:10000335-1714039200-1714048200@fesefa.be
SUMMARY:[Complet] Matinée EP - Axe 1 : le cadre EP et votre réalité
DESCRIPTION:Votre association est reconnue en axe 1 et vous souhaitez échanger autour de vos activités d’éducation permanente ?  \n\n\n\nLa FESEFA organise une matinée dédiée spécifiquement à l’axe 1 afin de vous donner l’opportunité de revenir sur les prescrits légaux (publics populaires\, thématiques d’action\, impact territorial\, partenariats…)\, d’examiner les critères quantitatifs et qualitatifs de l’axe 1 et de les mettre en perspective avec vos pratiques\, et de partager vos réalités de terrain avec d’autres professionnel·les du secteur. \n\n\n\nMéthodologie : au départ de vos réalités\, de vos questionnements\, en utilisant des documents-ressources et à travers un partage d’expériences. \n\n\n\nMéthodologie : au départ de vos réalités\, de vos questionnements\, en utilisant des documents-ressources et à travers un partage d’expériences. \n\n\n\nPublics : cette matinée est destinée à tout membre de vos équipes ou de vos instances qui travaille sur les activités d’axe 1 (que votre association soit membre de la FESEFA ou non) \n\n\n\nAu plaisir de vous y rencontrer ! \n\n\n\n\nInscription : via ce formulaire ;\n\n\n\nLieu : FESEFA\, rue d’Arenberg 44\, 1000 Bruxelles\, à l’espace The 44 (1er étage) ;\n\n\n\nHoraire : de 10h à 12h30 ;\n\n\n\nMatinée gratuite – 2 personnes max. par association.\n\n\n\n\nNB – Pour assister dans les meilleures conditions à nos matinées centrées sur un axe particulier\, nous vous conseillons d’avoir préalablement suivi une de nos matinées consacrées aux fondamentaux du Décret EP. \n\n\n\nNB2 – Même si la matinée est affichée comme étant complète\, n’hésitez pas à nous contacter pour vous inscrire sur une liste d’attente. Nous vous recontacterons dans le cas d’un désistement. \n\n\n\n*Matinée organisée sous réserve d’un nombre suffisant de participant·es
URL:https://fesefa.be/event/matinee-ep-axe-1-le-cadre-ep-et-votre-realite-9/
LOCATION:FESEFA\, Rue d'Arenberg\, 44\, Bruxelles\, 1000
CATEGORIES:Formation,Formation EP
ORGANIZER;CN="FESEFA":MAILTO:info@fesefa.be
END:VEVENT
END:VCALENDAR