BEGIN:VCALENDAR
VERSION:2.0
PRODID:-//FESEFA - ECPv6.15.20//NONSGML v1.0//EN
CALSCALE:GREGORIAN
METHOD:PUBLISH
X-ORIGINAL-URL:https://fesefa.be
X-WR-CALDESC:Évènements pour FESEFA
REFRESH-INTERVAL;VALUE=DURATION:PT1H
X-Robots-Tag:noindex
X-PUBLISHED-TTL:PT1H
BEGIN:VTIMEZONE
TZID:Europe/Brussels
BEGIN:DAYLIGHT
TZOFFSETFROM:+0100
TZOFFSETTO:+0200
TZNAME:CEST
DTSTART:20220327T010000
END:DAYLIGHT
BEGIN:STANDARD
TZOFFSETFROM:+0200
TZOFFSETTO:+0100
TZNAME:CET
DTSTART:20221030T010000
END:STANDARD
BEGIN:DAYLIGHT
TZOFFSETFROM:+0100
TZOFFSETTO:+0200
TZNAME:CEST
DTSTART:20230326T010000
END:DAYLIGHT
BEGIN:STANDARD
TZOFFSETFROM:+0200
TZOFFSETTO:+0100
TZNAME:CET
DTSTART:20231029T010000
END:STANDARD
BEGIN:DAYLIGHT
TZOFFSETFROM:+0100
TZOFFSETTO:+0200
TZNAME:CEST
DTSTART:20240331T010000
END:DAYLIGHT
BEGIN:STANDARD
TZOFFSETFROM:+0200
TZOFFSETTO:+0100
TZNAME:CET
DTSTART:20241027T010000
END:STANDARD
END:VTIMEZONE
BEGIN:VTIMEZONE
TZID:Europe/Paris
BEGIN:DAYLIGHT
TZOFFSETFROM:+0100
TZOFFSETTO:+0200
TZNAME:CEST
DTSTART:20220327T010000
END:DAYLIGHT
BEGIN:STANDARD
TZOFFSETFROM:+0200
TZOFFSETTO:+0100
TZNAME:CET
DTSTART:20221030T010000
END:STANDARD
BEGIN:DAYLIGHT
TZOFFSETFROM:+0100
TZOFFSETTO:+0200
TZNAME:CEST
DTSTART:20230326T010000
END:DAYLIGHT
BEGIN:STANDARD
TZOFFSETFROM:+0200
TZOFFSETTO:+0100
TZNAME:CET
DTSTART:20231029T010000
END:STANDARD
BEGIN:DAYLIGHT
TZOFFSETFROM:+0100
TZOFFSETTO:+0200
TZNAME:CEST
DTSTART:20240331T010000
END:DAYLIGHT
BEGIN:STANDARD
TZOFFSETFROM:+0200
TZOFFSETTO:+0100
TZNAME:CET
DTSTART:20241027T010000
END:STANDARD
END:VTIMEZONE
BEGIN:VEVENT
DTSTART;TZID=Europe/Brussels:20230206T093000
DTEND;TZID=Europe/Brussels:20230206T123000
DTSTAMP:20260425T132914
CREATED:20230905T071710Z
LAST-MODIFIED:20230905T071711Z
UID:10000329-1675675800-1675686600@fesefa.be
SUMMARY:Matinée EP – Décret Éducation permanente : les fondamentaux
DESCRIPTION:Votre association est reconnue en EP et vous avez besoin de connaître les fondamentaux du secteur EP\, de son action\, les notions-clés\, les logiques de chaque axe de reconnaissance ? \n\n\n\nLa FESEFA vous donne l’opportunité de vous familiariser avec le cadre légal des reconnaissances en Éducation permanente : philosophie générale\, présentation par axe\, modifications suite à la réforme de 2018\, contrôle et évaluation… \n\n\n\nCette matinée vous permet de vous informer sur ces bases ou d’actualiser vos connaissances des textes légaux en lien avec les modifications applicables suite à la réforme de 2018 pour toutes les associations reconnues en EP. \n\n\n\nPublic : tout membre de vos équipes ou de vos instances (associations reconnues en EP\, membres de la FESEFA ou non). \n\n\n\nAu plaisir de vous y rencontrer ! \n\n\n\n\nInscription : info@fesefa.be (Date de la séance/Nom/Prénom/Fonction/Nom de votre asbl/Tél/Courriel) ;\n\n\n\nLieu : FESEFA\, rue d’Arenberg\, 44\, 1000 Bruxelles\, à l’espace The 44 (1er étage) ;\n\n\n\nHoraire : de 10h à 12h30 (accueil à partir de 9h45) ;\n\n\n\nMatinée gratuite – 2 personnes max. par association.\n\n\n\n\nNB – Même si la matinée est affichée comme étant complète\, n’hésitez pas à nous contacter pour vous inscrire sur une liste d’attente. Nous vous recontacterons dans le cas d’un désistement. \n\n\n\n*Matinée organisée sous réserve d’un nombre suffisant de participant·es
URL:https://fesefa.be/event/matinee-ep-decret-education-permanente-les-fondamentaux-20/
LOCATION:FESEFA\, Rue d'Arenberg\, 44\, Bruxelles\, 1000
CATEGORIES:Formation,Formation EP
ORGANIZER;CN="FESEFA":MAILTO:info@fesefa.be
END:VEVENT
BEGIN:VEVENT
DTSTART;TZID=Europe/Paris:20230216T093000
DTEND;TZID=Europe/Paris:20230216T123000
DTSTAMP:20260425T132914
CREATED:20221019T111629Z
LAST-MODIFIED:20230228T081257Z
UID:10000208-1676539800-1676550600@fesefa.be
SUMMARY:[COMPLET] - Matinée EP - Axe 3
DESCRIPTION:! Matinée complète – n’hésitez pas à vous inscrire à une autre date ! \nSuite au succès des matinées organisées en 2019\, 2020\, 2021et 2022 et à la demande de plusieurs associations reconnues en axe 3\, la FESEFA organise de nouveau en 2023 une matinée dédiée à l’axe 3. \nCette matinée sera centrée sur l’application des nouvelles dispositions du décret EP modifié en 2018\, liée à une reconnaissance en axe 3. \nCette rencontre a notamment pour objectifs : \n– d’interroger des concepts du décret et les différents types de réalisations (outil pédagogique\, recherche participative\, service collectif…) ; \n– d’analyser les conséquences de certaines nouvelles dispositions du décret (fusion des sous-axes 3.1 et 3.2\, diminution des exigences quantitatives\, transversalité…) ; \n– d’échanger des bonnes pratiques. \nElle est gratuite et accessible à tout membre de vos équipes ou de vos instances. Elle s’adresse particulièrement aux personnes qui travaillent sur l’axe 3. \nAu plaisir de vous y rencontrer ! \n– Inscription : info@fesefa.be \n– Avec votre : Nom/prénom/adresse mail/fonction au sein de l’association/numéro de téléphone– En présentiel à la FESEFA\, au 44 rue d’Arenberg à 1000 Bruxelles– Matinée gratuite – 2 personnes max. par association \n\n\nL’accueil débute à 9h30\, la matinée de formation commence à 10h. \n\n\nNB : pour assister dans les meilleures conditions à nos matinées centrées sur un axe particulier\, nous vous conseillons d’avoir préalablement suivi une de nos matinées consacrées aux fondamentaux du décret EP. \nNB2 – Même si la formation est affichée comme étant complète\, n’hésitez pas à nous contacter pour vous inscrire sur une liste d’attente. Nous vous recontacterons le cas  dans d’un désistement.
URL:https://fesefa.be/event/matinee-ep-axe-3-2/
LOCATION:FESEFA\, Rue d'Arenberg\, 44\, Bruxelles\, 1000
CATEGORIES:Formation,Formation EP
ORGANIZER;CN="FESEFA":MAILTO:info@fesefa.be
END:VEVENT
END:VCALENDAR