BEGIN:VCALENDAR
VERSION:2.0
PRODID:-//FESEFA - ECPv6.15.20//NONSGML v1.0//EN
CALSCALE:GREGORIAN
METHOD:PUBLISH
X-ORIGINAL-URL:https://fesefa.be
X-WR-CALDESC:Évènements pour FESEFA
REFRESH-INTERVAL;VALUE=DURATION:PT1H
X-Robots-Tag:noindex
X-PUBLISHED-TTL:PT1H
BEGIN:VTIMEZONE
TZID:Europe/Brussels
BEGIN:DAYLIGHT
TZOFFSETFROM:+0100
TZOFFSETTO:+0200
TZNAME:CEST
DTSTART:20250330T010000
END:DAYLIGHT
BEGIN:STANDARD
TZOFFSETFROM:+0200
TZOFFSETTO:+0100
TZNAME:CET
DTSTART:20251026T010000
END:STANDARD
BEGIN:DAYLIGHT
TZOFFSETFROM:+0100
TZOFFSETTO:+0200
TZNAME:CEST
DTSTART:20260329T010000
END:DAYLIGHT
BEGIN:STANDARD
TZOFFSETFROM:+0200
TZOFFSETTO:+0100
TZNAME:CET
DTSTART:20261025T010000
END:STANDARD
BEGIN:DAYLIGHT
TZOFFSETFROM:+0100
TZOFFSETTO:+0200
TZNAME:CEST
DTSTART:20270328T010000
END:DAYLIGHT
BEGIN:STANDARD
TZOFFSETFROM:+0200
TZOFFSETTO:+0100
TZNAME:CET
DTSTART:20271031T010000
END:STANDARD
END:VTIMEZONE
BEGIN:VEVENT
DTSTART;TZID=Europe/Brussels:20260626T093000
DTEND;TZID=Europe/Brussels:20260626T123000
DTSTAMP:20260423T133543
CREATED:20251219T093915Z
LAST-MODIFIED:20251219T095459Z
UID:10000526-1782466200-1782477000@fesefa.be
SUMMARY:MRT — Comment organiser le temps de travail ? (partie II)
DESCRIPTION:Deux matinées sont prévues pour examiner toutes les modalités d’organisation du temps de travail dans votre association. Nous vous conseillons de participer aux deux séances afin d’avoir un aperçu complet des options disponibles. \nUne attention particulière est portée aux nouveautés que le gouvernement Arizona entend apporter en la matière – la suppression de la durée hebdomadaire de travail minimum\, les modifications du régime du travail de nuit\, les « horaires accordéon »\, etc. -\, et leur impact sur l’organisation du temps de travail dans nos secteurs. \nCes matinées répondront aux questions suivantes : \n\nComment organiser les prestations à horaire fixe ou variable\, qu’elles soient à temps plein ou à temps partiel ?\nComment puis-je mettre en place des horaires flottants dans mon association ?\nComment mobiliser la dérogation socioculturelle pour organiser des prestations plus longues\, pour organiser le travail de nuit\, le travail du dimanche ou encore le travail pendant un jour férié ? Puis-je combiner cette dérogation avec les horaires flottants ?\nComment organiser la réduction collective du temps de travail et quelles sont les implications dans l’organisation des prestations ?\nQuelle est la différence entre heures supplémentaires\, complémentaires ou inconfortables ?\nQuelles sont les compensations que je dois accorder aux travailleurs et travailleuses qui dépassent leurs horaires ? Comment comptabiliser correctement le nombre d’heures de récupération et calculer l’éventuel sursalaire ?\n\nInscrivez-vous via ce formulaire en ligne. \n 
URL:https://fesefa.be/event/mrt-temps-travail-2/
LOCATION:En ligne\, Zoom
CATEGORIES:Formation juridique
END:VEVENT
END:VCALENDAR