BEGIN:VCALENDAR
VERSION:2.0
PRODID:-//FESEFA - ECPv6.15.20//NONSGML v1.0//EN
CALSCALE:GREGORIAN
METHOD:PUBLISH
X-ORIGINAL-URL:https://fesefa.be
X-WR-CALDESC:Évènements pour FESEFA
REFRESH-INTERVAL;VALUE=DURATION:PT1H
X-Robots-Tag:noindex
X-PUBLISHED-TTL:PT1H
BEGIN:VTIMEZONE
TZID:Europe/Brussels
BEGIN:DAYLIGHT
TZOFFSETFROM:+0100
TZOFFSETTO:+0200
TZNAME:CEST
DTSTART:20250330T010000
END:DAYLIGHT
BEGIN:STANDARD
TZOFFSETFROM:+0200
TZOFFSETTO:+0100
TZNAME:CET
DTSTART:20251026T010000
END:STANDARD
BEGIN:DAYLIGHT
TZOFFSETFROM:+0100
TZOFFSETTO:+0200
TZNAME:CEST
DTSTART:20260329T010000
END:DAYLIGHT
BEGIN:STANDARD
TZOFFSETFROM:+0200
TZOFFSETTO:+0100
TZNAME:CET
DTSTART:20261025T010000
END:STANDARD
BEGIN:DAYLIGHT
TZOFFSETFROM:+0100
TZOFFSETTO:+0200
TZNAME:CEST
DTSTART:20270328T010000
END:DAYLIGHT
BEGIN:STANDARD
TZOFFSETFROM:+0200
TZOFFSETTO:+0100
TZNAME:CET
DTSTART:20271031T010000
END:STANDARD
END:VTIMEZONE
BEGIN:VEVENT
DTSTART;TZID=Europe/Brussels:20260424T093000
DTEND;TZID=Europe/Brussels:20260424T123000
DTSTAMP:20260423T050811
CREATED:20251219T093810Z
LAST-MODIFIED:20251219T093810Z
UID:10000524-1777023000-1777033800@fesefa.be
SUMMARY:MRT — Agir en temps d'incertitude financière : focus sur la masse salariale
DESCRIPTION:Confrontées à des incertitudes ou des difficultés financières\, de plus en plus d’associations envisagent d’alléger les frais liés à leur personnel. \nCette formation vise à lancer aux employeurs des pistes pour favoriser le maintien de l’emploi (et des subventions) et\, si nécessaire\, baliser les ruptures de contrat. \nLors de cette séance\, nous évoquerons les questions suivantes : \n\nConcrètement\, que peut faire l’employeur pour préserver au maximum l’emploi de toutes et tous ? Quelles sont les alternatives aux licenciements ?\nQuand faut-il malgré tout se séparer d’une partie de l’équipe ? Comment le faire au mieux ?\nQuel impact ont ces mesures par rapport aux différents subsides à l’emploi (notamment en termes de respect du volume global de l’emploi) ?\n\nInscrivez-vous via ce formulaire en ligne. \n 
URL:https://fesefa.be/event/mrt-incertitude-financiere-masse-salariale/
LOCATION:En ligne\, Zoom
CATEGORIES:Formation juridique
END:VEVENT
END:VCALENDAR