BEGIN:VCALENDAR
VERSION:2.0
PRODID:-//FESEFA - ECPv6.15.20//NONSGML v1.0//EN
CALSCALE:GREGORIAN
METHOD:PUBLISH
X-WR-CALNAME:FESEFA
X-ORIGINAL-URL:https://fesefa.be
X-WR-CALDESC:Évènements pour FESEFA
REFRESH-INTERVAL;VALUE=DURATION:PT1H
X-Robots-Tag:noindex
X-PUBLISHED-TTL:PT1H
BEGIN:VTIMEZONE
TZID:Europe/Brussels
BEGIN:DAYLIGHT
TZOFFSETFROM:+0100
TZOFFSETTO:+0200
TZNAME:CEST
DTSTART:20250330T010000
END:DAYLIGHT
BEGIN:STANDARD
TZOFFSETFROM:+0200
TZOFFSETTO:+0100
TZNAME:CET
DTSTART:20251026T010000
END:STANDARD
BEGIN:DAYLIGHT
TZOFFSETFROM:+0100
TZOFFSETTO:+0200
TZNAME:CEST
DTSTART:20260329T010000
END:DAYLIGHT
BEGIN:STANDARD
TZOFFSETFROM:+0200
TZOFFSETTO:+0100
TZNAME:CET
DTSTART:20261025T010000
END:STANDARD
BEGIN:DAYLIGHT
TZOFFSETFROM:+0100
TZOFFSETTO:+0200
TZNAME:CEST
DTSTART:20270328T010000
END:DAYLIGHT
BEGIN:STANDARD
TZOFFSETFROM:+0200
TZOFFSETTO:+0100
TZNAME:CET
DTSTART:20271031T010000
END:STANDARD
END:VTIMEZONE
BEGIN:VEVENT
DTSTART;TZID=Europe/Brussels:20260416T093000
DTEND;TZID=Europe/Brussels:20260416T123000
DTSTAMP:20260423T030733
CREATED:20251219T093721Z
LAST-MODIFIED:20251219T100617Z
UID:10000530-1776331800-1776342600@fesefa.be
SUMMARY:mASBL — Comment déposer et publier les actes et décisions d’une asbl ?
DESCRIPTION:Tout gestionnaire d’association doit affronter\, tôt ou tard\, l’obligation de dépôt et de publication de certaines décisions et actes d’une asbl. Un guide pratique rédigé par la FESEFA vous sera communiqué et parcouru lors de la matinée. \nCette séance sera aussi l’occasion de revisiter différents aspects de la procédure de dépôt et de publication des actes et décisions de l’asbl : \n\nComprendre la différence entre la publication dans les Annexes du Moniteur belge et dans la Banque-Carrefour des entreprises ;\nIdentifier les documents nécessaires pour chaque type de dépôt ou publication ;\nComprendre pourquoi et comment remplir les formulaires I et II et leurs différents volets\, en fonction du type de décision ou d’acte ;\nConnaître les différentes règles formelles de dépôt et de publication (modalités de signature\, nombre d’exemplaires à joindre\, habilitation à déposer\, déclaration d’absence d’interdiction de gérer\, etc.) ;\nDécouvrir des formulations-type pour les extraits d’acte à faire publier ;\nCompléter le registre UBO.\n\nInscrivez-vous via ce formulaire en ligne. 
URL:https://fesefa.be/event/masbl-deposer-et-publier-les-actes-et-decisions-d-une-asbl/
LOCATION:En ligne\, Zoom
CATEGORIES:Formation juridique
END:VEVENT
END:VCALENDAR