BEGIN:VCALENDAR
VERSION:2.0
PRODID:-//FESEFA - ECPv6.15.20//NONSGML v1.0//EN
CALSCALE:GREGORIAN
METHOD:PUBLISH
X-ORIGINAL-URL:https://fesefa.be
X-WR-CALDESC:Évènements pour FESEFA
REFRESH-INTERVAL;VALUE=DURATION:PT1H
X-Robots-Tag:noindex
X-PUBLISHED-TTL:PT1H
BEGIN:VTIMEZONE
TZID:Europe/Brussels
BEGIN:DAYLIGHT
TZOFFSETFROM:+0100
TZOFFSETTO:+0200
TZNAME:CEST
DTSTART:20250330T010000
END:DAYLIGHT
BEGIN:STANDARD
TZOFFSETFROM:+0200
TZOFFSETTO:+0100
TZNAME:CET
DTSTART:20251026T010000
END:STANDARD
BEGIN:DAYLIGHT
TZOFFSETFROM:+0100
TZOFFSETTO:+0200
TZNAME:CEST
DTSTART:20260329T010000
END:DAYLIGHT
BEGIN:STANDARD
TZOFFSETFROM:+0200
TZOFFSETTO:+0100
TZNAME:CET
DTSTART:20261025T010000
END:STANDARD
BEGIN:DAYLIGHT
TZOFFSETFROM:+0100
TZOFFSETTO:+0200
TZNAME:CEST
DTSTART:20270328T010000
END:DAYLIGHT
BEGIN:STANDARD
TZOFFSETFROM:+0200
TZOFFSETTO:+0100
TZNAME:CET
DTSTART:20271031T010000
END:STANDARD
END:VTIMEZONE
BEGIN:VEVENT
DTSTART;TZID=Europe/Brussels:20260318T093000
DTEND;TZID=Europe/Brussels:20260318T123000
DTSTAMP:20260422T232852
CREATED:20251219T094005Z
LAST-MODIFIED:20251219T100001Z
UID:10000534-1773826200-1773837000@fesefa.be
SUMMARY:mRGPD — Collaborer et responsabiliser : comment organiser nos activités en respectant la vie privée ?
DESCRIPTION:L’activité quotidienne d’une association est une affaire de collaboration\, de partage et de co-construction. Cette activité va régulièrement mobiliser des données à caractère personnel de personnes physiques – celles de vos membres\, de vos publics ou des bénéficiaires de votre action – qui seront partagées au sein d’une équipe\, ou entre organisations partenaires. En même temps\, l’évolution incessante des modes de collaboration professionnelle – avec la dématérialisation des supports d’information\, le partage facilité de documents et des processus – promet des gains de temps et d’efficacité. Tous ces flux de données posent des questions importantes sur le plan de la protection des données et de la vie privée. \nÉtablir des espaces de collaboration\, déployer des nouvelles technologies et impliquer des nouveaux collaborateurs ou partenaires exigent du responsable de traitement qu’il mette en place des mécanismes de responsabilisation des différentes personnes impliquées. Que ce soit par le biais de conventions spéciales\, clauses dans le contrat de travail ou des dispositions dans le règlement de travail\, le responsable de traitement doit veiller à affirmer la responsabilité de chacun et de chacune dans le respect du RGPD. \nLors de cette séance\, nous évoquerons les questions suivantes : \n\nQuels outils de collaboration privilégier ?\nComment concilier la minimisation des données et la collaboration ?\nComment et pourquoi contrôler les accès et les droits des utilisateurs ?\nComment gérer le partage de documents et espaces avec des organisations ou personnes externes à l’association ?\nComment adapter des instruments existants dans l’association – contrats de travail\, conventions de partenariat\, règlement de travail – pour promouvoir une culture de la protection des données ?\nComment analyser les conventions et accords vous liant à d’autres structures à la lumière des principes du RGPD ?\n\nInscrivez-vous via ce formulaire en ligne.
URL:https://fesefa.be/event/mrgpd-collaborer-et-responsabiliser/
LOCATION:En ligne\, Zoom
CATEGORIES:Formation juridique
END:VEVENT
END:VCALENDAR