BEGIN:VCALENDAR
VERSION:2.0
PRODID:-//FESEFA - ECPv6.15.20//NONSGML v1.0//EN
CALSCALE:GREGORIAN
METHOD:PUBLISH
X-ORIGINAL-URL:https://fesefa.be
X-WR-CALDESC:Évènements pour FESEFA
REFRESH-INTERVAL;VALUE=DURATION:PT1H
X-Robots-Tag:noindex
X-PUBLISHED-TTL:PT1H
BEGIN:VTIMEZONE
TZID:Europe/Brussels
BEGIN:DAYLIGHT
TZOFFSETFROM:+0100
TZOFFSETTO:+0200
TZNAME:CEST
DTSTART:20250330T010000
END:DAYLIGHT
BEGIN:STANDARD
TZOFFSETFROM:+0200
TZOFFSETTO:+0100
TZNAME:CET
DTSTART:20251026T010000
END:STANDARD
BEGIN:DAYLIGHT
TZOFFSETFROM:+0100
TZOFFSETTO:+0200
TZNAME:CEST
DTSTART:20260329T010000
END:DAYLIGHT
BEGIN:STANDARD
TZOFFSETFROM:+0200
TZOFFSETTO:+0100
TZNAME:CET
DTSTART:20261025T010000
END:STANDARD
BEGIN:DAYLIGHT
TZOFFSETFROM:+0100
TZOFFSETTO:+0200
TZNAME:CEST
DTSTART:20270328T010000
END:DAYLIGHT
BEGIN:STANDARD
TZOFFSETFROM:+0200
TZOFFSETTO:+0100
TZNAME:CET
DTSTART:20271031T010000
END:STANDARD
END:VTIMEZONE
BEGIN:VEVENT
DTSTART;TZID=Europe/Brussels:20260310T093000
DTEND;TZID=Europe/Brussels:20260310T123000
DTSTAMP:20260423T011953
CREATED:20251219T093335Z
LAST-MODIFIED:20251219T093627Z
UID:10000529-1773135000-1773145800@fesefa.be
SUMMARY:mASBL — Responsabilité des membres de l'organe d'administration
DESCRIPTION:Les membres de l’organe d’administration et délégué·es à la gestion journalière sont soumis\, depuis l’entrée en vigueur du Code des sociétés et des associations\, à un régime de responsabilité civile solidaire. \nCette séance expliquera dans quelles conditions un gestionnaire peut donc être contraint de payer avec son patrimoine personnel tout le dommage causé par une faute de l’organe d’administration (licenciement irrégulier d’une travailleuse ou d’un travailleur\, non-paiement des cotisations ONSS\, poursuite de l’activité alors que la situation financière est insoutenable\, etc.). \nPendant la séance\, nous aborderons les questions suivantes : \n\nQu’est-ce que la responsabilité civile et comment est-elle mise en œuvre concrètement ?\nQuelle est la différence entre la responsabilité de l’association et celle de ses gestionnaires ?\nLe fait d’être salarié de l’association change-t-il le risque auquel s’expose le gestionnaire ?\nLes plafonds de responsabilité prévus dans le CSA sont-ils toujours applicables ?\nQue faire pour diminuer le risque d’avoir sa responsabilité de gestionnaire engagée ?\n\nInscrivez-vous via ce formulaire en ligne.
URL:https://fesefa.be/event/masbl-responsabilite-membres-oa/
LOCATION:En ligne\, Zoom
CATEGORIES:Formation juridique
END:VEVENT
END:VCALENDAR