BEGIN:VCALENDAR
VERSION:2.0
PRODID:-//FESEFA - ECPv6.15.20//NONSGML v1.0//EN
CALSCALE:GREGORIAN
METHOD:PUBLISH
X-WR-CALNAME:FESEFA
X-ORIGINAL-URL:https://fesefa.be
X-WR-CALDESC:Évènements pour FESEFA
REFRESH-INTERVAL;VALUE=DURATION:PT1H
X-Robots-Tag:noindex
X-PUBLISHED-TTL:PT1H
BEGIN:VTIMEZONE
TZID:Europe/Brussels
BEGIN:DAYLIGHT
TZOFFSETFROM:+0100
TZOFFSETTO:+0200
TZNAME:CEST
DTSTART:20250330T010000
END:DAYLIGHT
BEGIN:STANDARD
TZOFFSETFROM:+0200
TZOFFSETTO:+0100
TZNAME:CET
DTSTART:20251026T010000
END:STANDARD
BEGIN:DAYLIGHT
TZOFFSETFROM:+0100
TZOFFSETTO:+0200
TZNAME:CEST
DTSTART:20260329T010000
END:DAYLIGHT
BEGIN:STANDARD
TZOFFSETFROM:+0200
TZOFFSETTO:+0100
TZNAME:CET
DTSTART:20261025T010000
END:STANDARD
BEGIN:DAYLIGHT
TZOFFSETFROM:+0100
TZOFFSETTO:+0200
TZNAME:CEST
DTSTART:20270328T010000
END:DAYLIGHT
BEGIN:STANDARD
TZOFFSETFROM:+0200
TZOFFSETTO:+0100
TZNAME:CET
DTSTART:20271031T010000
END:STANDARD
END:VTIMEZONE
BEGIN:VEVENT
DTSTART;TZID=Europe/Brussels:20260305T133000
DTEND;TZID=Europe/Brussels:20260305T160000
DTSTAMP:20260422T230606
CREATED:20260126T085018Z
LAST-MODIFIED:20260126T090404Z
UID:10000540-1772717400-1772726400@fesefa.be
SUMMARY:Séance d’information sur le Décret relatif à l’emploi socioculturel
DESCRIPTION:La FESEFA organise une séance d’information\, réservée à ses membres\, sur le Décret relatif à l’Emploi socioculturel le jeudi 5 mars 2026 (après-midi). \nCette séance a comme objectifs de : \n\nrappeler les fondamentaux du Décret ;\nexpliquer le principe de globalisation adopté en décembre 2023 ;\nprésenter brièvement l’application de justification en ligne « SICE » ;\nrappeler les différentes étapes du parcours de la subvention de l’emploi organisée et encadrée par le Décret.\n\nModalités pratiques : \n\nLieu : FESEFA\, rue d’Arenberg 44\, 1000 Bruxelles\nDate : 5 mars 2026\nHoraires : 13h30 – 16h\n\nNombre de participant·es : 10 personnes max (une personne par association) – possibilité de se mettre sur liste d’attente en vue d’organiser une autre séance. \nModalités d’inscription : par e-mail à l’adresse info@fesefa.be. \nMerci de préciser : nom / prénom / adresse mail / association / fonction au sein de l’association / numéro de téléphone.
URL:https://fesefa.be/event/seance-dinformation-sur-le-decret-relatif-a-lemploi-socioculturel/
LOCATION:FESEFA\, Rue d'Arenberg\, 44\, Bruxelles\, 1000
CATEGORIES:Événement FESEFA
END:VEVENT
END:VCALENDAR