BEGIN:VCALENDAR
VERSION:2.0
PRODID:-//FESEFA - ECPv6.15.20//NONSGML v1.0//EN
CALSCALE:GREGORIAN
METHOD:PUBLISH
X-WR-CALNAME:FESEFA
X-ORIGINAL-URL:https://fesefa.be
X-WR-CALDESC:Évènements pour FESEFA
REFRESH-INTERVAL;VALUE=DURATION:PT1H
X-Robots-Tag:noindex
X-PUBLISHED-TTL:PT1H
BEGIN:VTIMEZONE
TZID:Europe/Brussels
BEGIN:DAYLIGHT
TZOFFSETFROM:+0100
TZOFFSETTO:+0200
TZNAME:CEST
DTSTART:20250330T010000
END:DAYLIGHT
BEGIN:STANDARD
TZOFFSETFROM:+0200
TZOFFSETTO:+0100
TZNAME:CET
DTSTART:20251026T010000
END:STANDARD
BEGIN:DAYLIGHT
TZOFFSETFROM:+0100
TZOFFSETTO:+0200
TZNAME:CEST
DTSTART:20260329T010000
END:DAYLIGHT
BEGIN:STANDARD
TZOFFSETFROM:+0200
TZOFFSETTO:+0100
TZNAME:CET
DTSTART:20261025T010000
END:STANDARD
BEGIN:DAYLIGHT
TZOFFSETFROM:+0100
TZOFFSETTO:+0200
TZNAME:CEST
DTSTART:20270328T010000
END:DAYLIGHT
BEGIN:STANDARD
TZOFFSETFROM:+0200
TZOFFSETTO:+0100
TZNAME:CET
DTSTART:20271031T010000
END:STANDARD
END:VTIMEZONE
BEGIN:VEVENT
DTSTART;TZID=Europe/Brussels:20260213T093000
DTEND;TZID=Europe/Brussels:20260213T123000
DTSTAMP:20260422T142954
CREATED:20251219T093705Z
LAST-MODIFIED:20251219T093705Z
UID:10000522-1770975000-1770985800@fesefa.be
SUMMARY:MRT — Comment déterminer (et modifier) la rémunération et les avantages des travailleurs au sein de mon asbl ?
DESCRIPTION:La rémunération et les avantages (prime de fin d’année\, chèques-repas\, congés extralégaux\, etc.) qu’un employeur offre à ses travailleurs et travailleuses sont des éléments centraux de la relation de travail. \nCette formation vise à outiller les employeurs pour comprendre leurs obligations en matière de politique salariale ainsi que leur marge de manœuvre pour la modifier. \nLors de cette séance\, nous évoquerons les questions suivantes : \n\nQuelle est la rémunération minimale à payer à chaque membre de l’équipe ? De quels barèmes\, classifications de fonction\, diplôme et ancienneté tenir compte ?\nQuels sont – en plus de la rémunération – les avantages que l’employeur doit (par exemple en vertu d’une disposition sectorielle) ou peut accorder à son équipe ?\nDe quelle latitude dispose l’employeur pour adapter sa politique salariale - notamment face à une situation financière critique ?\n\nInscrivez-vous via ce formulaire en ligne.
URL:https://fesefa.be/event/mrt-remuneration-avantages/
LOCATION:En ligne\, Zoom
CATEGORIES:Formation juridique
END:VEVENT
END:VCALENDAR