BEGIN:VCALENDAR
VERSION:2.0
PRODID:-//FESEFA - ECPv6.15.20//NONSGML v1.0//EN
CALSCALE:GREGORIAN
METHOD:PUBLISH
X-WR-CALNAME:FESEFA
X-ORIGINAL-URL:https://fesefa.be
X-WR-CALDESC:Évènements pour FESEFA
REFRESH-INTERVAL;VALUE=DURATION:PT1H
X-Robots-Tag:noindex
X-PUBLISHED-TTL:PT1H
BEGIN:VTIMEZONE
TZID:Europe/Brussels
BEGIN:DAYLIGHT
TZOFFSETFROM:+0100
TZOFFSETTO:+0200
TZNAME:CEST
DTSTART:20250330T010000
END:DAYLIGHT
BEGIN:STANDARD
TZOFFSETFROM:+0200
TZOFFSETTO:+0100
TZNAME:CET
DTSTART:20251026T010000
END:STANDARD
BEGIN:DAYLIGHT
TZOFFSETFROM:+0100
TZOFFSETTO:+0200
TZNAME:CEST
DTSTART:20260329T010000
END:DAYLIGHT
BEGIN:STANDARD
TZOFFSETFROM:+0200
TZOFFSETTO:+0100
TZNAME:CET
DTSTART:20261025T010000
END:STANDARD
BEGIN:DAYLIGHT
TZOFFSETFROM:+0100
TZOFFSETTO:+0200
TZNAME:CEST
DTSTART:20270328T010000
END:DAYLIGHT
BEGIN:STANDARD
TZOFFSETFROM:+0200
TZOFFSETTO:+0100
TZNAME:CET
DTSTART:20271031T010000
END:STANDARD
END:VTIMEZONE
BEGIN:VEVENT
DTSTART;TZID=Europe/Brussels:20260211T093000
DTEND;TZID=Europe/Brussels:20260211T123000
DTSTAMP:20260422T112616
CREATED:20251219T094211Z
LAST-MODIFIED:20251219T094211Z
UID:10000533-1770802200-1770813000@fesefa.be
SUMMARY:mRGPD — Les sujets numériques et les acteurs de la protection des données
DESCRIPTION:Souvent perçue comme une contrainte administrative\, la protection des données constitue surtout un pilier essentiel de la vie privée dans un environnement numérique où elles sont devenues une ressource convoitée. Comprendre les droits des personnes et le rôle des différents acteurs impliqués dans la protection des données est indispensable pour mettre en œuvre une protection « dès la conception et par défaut » au sein de votre structure. \nCette formation offre une vue d’ensemble claire du paysage institutionnel de la protection des données en Belgique et des droits reconnus aux personnes par le RGPD. \nLors de ce mercredi RGPD\, nous répondrons aux questions suivantes : \n\nQuels sont les droits des personnes physiques dont les données sont traitées ?\nQui peut agir à l’égard d’un responsable de traitement en cas de manquement aux obligations imposées par le RGPD ?\nPar quelles voies ces personnes ou institutions peuvent-elles agir\, et quelles sanctions peuvent être infligées ?\nQuel est l’impact du type de traitement\, de sa finalité et de son fondement juridique sur vos obligations en tant que responsable de traitement ?\nAu sein de l’association\, qui peut être tenu responsable des manquements à ces obligations ?\n\nInscrivez-vous via ce formulaire en ligne.
URL:https://fesefa.be/event/mrgpd-sujets-numeriques-et-acteurs-de-la-protection-des-donnees/
LOCATION:En ligne\, Zoom
CATEGORIES:Formation juridique
END:VEVENT
END:VCALENDAR