BEGIN:VCALENDAR
VERSION:2.0
PRODID:-//FESEFA - ECPv6.15.17.1//NONSGML v1.0//EN
CALSCALE:GREGORIAN
METHOD:PUBLISH
X-ORIGINAL-URL:https://fesefa.be
X-WR-CALDESC:Évènements pour FESEFA
REFRESH-INTERVAL;VALUE=DURATION:PT1H
X-Robots-Tag:noindex
X-PUBLISHED-TTL:PT1H
BEGIN:VTIMEZONE
TZID:Europe/Brussels
BEGIN:DAYLIGHT
TZOFFSETFROM:+0100
TZOFFSETTO:+0200
TZNAME:CEST
DTSTART:20250330T010000
END:DAYLIGHT
BEGIN:STANDARD
TZOFFSETFROM:+0200
TZOFFSETTO:+0100
TZNAME:CET
DTSTART:20251026T010000
END:STANDARD
BEGIN:DAYLIGHT
TZOFFSETFROM:+0100
TZOFFSETTO:+0200
TZNAME:CEST
DTSTART:20260329T010000
END:DAYLIGHT
BEGIN:STANDARD
TZOFFSETFROM:+0200
TZOFFSETTO:+0100
TZNAME:CET
DTSTART:20261025T010000
END:STANDARD
BEGIN:DAYLIGHT
TZOFFSETFROM:+0100
TZOFFSETTO:+0200
TZNAME:CEST
DTSTART:20270328T010000
END:DAYLIGHT
BEGIN:STANDARD
TZOFFSETFROM:+0200
TZOFFSETTO:+0100
TZNAME:CET
DTSTART:20271031T010000
END:STANDARD
END:VTIMEZONE
BEGIN:VEVENT
DTSTART;TZID=Europe/Brussels:20260205T093000
DTEND;TZID=Europe/Brussels:20260205T123000
DTSTAMP:20260422T074347
CREATED:20251219T095120Z
LAST-MODIFIED:20251219T100519Z
UID:10000528-1770283800-1770294600@fesefa.be
SUMMARY:mASBL — Comment organiser au mieux le binôme coordination / organe d’administration ?
DESCRIPTION:Le tandem organe d’administration et direction/coordination est le moteur de la gestion de l’asbl. Il importe donc que chacun y trouve sa juste place.   \nCette formation vise à mettre en lumière la relation – sous tous ses aspects – entre le(s) ou la salarié·e(s) exerçant les fonctions de direction/coordination de l’association et les membres de l’organe d’administration. \nLors de cette séance\, nous évoquerons les questions suivantes :   \n\nComment instaurer des relations transparentes et constructives entre ces deux acteurs majeurs pour le fonctionnement et la continuité des associations ? \n\n\nLors d’un changement de direction ou de renouvellement significatif de l’organe d’administration\, quelles mesures peuvent faciliter la transition et la bonne collaboration ? \n\n\nComment gérer prudemment les tensions qui peuvent émerger entre ces deux acteurs ? \n\n\nDans quelle mesure les deux acteurs partagent ou non la responsabilité pour les manquements commis dans la gestion de l’association ? \n\nInscrivez-vous via ce formulaire en ligne. 
URL:https://fesefa.be/event/masbl-binome-coordination-organe-d-administration/
LOCATION:En ligne\, Zoom
CATEGORIES:Formation juridique
END:VEVENT
END:VCALENDAR