BEGIN:VCALENDAR
VERSION:2.0
PRODID:-//FESEFA - ECPv6.15.17.1//NONSGML v1.0//EN
CALSCALE:GREGORIAN
METHOD:PUBLISH
X-WR-CALNAME:FESEFA
X-ORIGINAL-URL:https://fesefa.be
X-WR-CALDESC:Évènements pour FESEFA
REFRESH-INTERVAL;VALUE=DURATION:PT1H
X-Robots-Tag:noindex
X-PUBLISHED-TTL:PT1H
BEGIN:VTIMEZONE
TZID:Europe/Brussels
BEGIN:DAYLIGHT
TZOFFSETFROM:+0100
TZOFFSETTO:+0200
TZNAME:CEST
DTSTART:20250330T010000
END:DAYLIGHT
BEGIN:STANDARD
TZOFFSETFROM:+0200
TZOFFSETTO:+0100
TZNAME:CET
DTSTART:20251026T010000
END:STANDARD
BEGIN:DAYLIGHT
TZOFFSETFROM:+0100
TZOFFSETTO:+0200
TZNAME:CEST
DTSTART:20260329T010000
END:DAYLIGHT
BEGIN:STANDARD
TZOFFSETFROM:+0200
TZOFFSETTO:+0100
TZNAME:CET
DTSTART:20261025T010000
END:STANDARD
BEGIN:DAYLIGHT
TZOFFSETFROM:+0100
TZOFFSETTO:+0200
TZNAME:CEST
DTSTART:20270328T010000
END:DAYLIGHT
BEGIN:STANDARD
TZOFFSETFROM:+0200
TZOFFSETTO:+0100
TZNAME:CET
DTSTART:20271031T010000
END:STANDARD
END:VTIMEZONE
BEGIN:VEVENT
DTSTART;TZID=Europe/Brussels:20260130T093000
DTEND;TZID=Europe/Brussels:20260130T123000
DTSTAMP:20260422T040553
CREATED:20251219T093626Z
LAST-MODIFIED:20251219T093626Z
UID:10000521-1769765400-1769776200@fesefa.be
SUMMARY:MRT — Tout savoir sur les vacances annuelles et les autres congés
DESCRIPTION:Les employeurs doivent organiser chaque année les congés de leurs travailleuses et travailleurs – qu’il s’agisse des vacances annuelles\, des congés sectoriels voire des congés extra-légaux. \nCette formation vise à décortiquer les règles essentielles et nombreuses nouveautés pour permettre aux employeurs d’organiser au mieux les congés de leur personnel. \nLors de cette séance\, nous évoquerons les questions suivantes : \n\nComment calculer le nombre de jours de congé acquis par un travailleur ou une travailleuse ?\nComment organiser adéquatement la prise des vacances annuelles ? Peut-on les reporter d’une année à l’autre ?\nQue faire si un travailleur tombe malade pendant ses vacances ?\nC’est quoi les pécules de vacances ?\nQue faire lorsqu’un nouveau travailleur remet une attestation de vacances de son précédent employeur ?\nQue sont les vacances européennes ou supplémentaires ?\nQui a droit à des congés prévus par certains secteurs ?\nÀ quoi être attentif en tant qu’employeur si je souhaite octroyer des congés extra-légaux à mes travailleuses et travailleurs ?\n\nInscrivez-vous via ce formulaire en ligne.
URL:https://fesefa.be/event/vacances-annuelles-autres-conges/
LOCATION:En ligne\, Zoom
CATEGORIES:Formation juridique
END:VEVENT
END:VCALENDAR