BEGIN:VCALENDAR
VERSION:2.0
PRODID:-//FESEFA - ECPv6.15.17.1//NONSGML v1.0//EN
CALSCALE:GREGORIAN
METHOD:PUBLISH
X-WR-CALNAME:FESEFA
X-ORIGINAL-URL:https://fesefa.be
X-WR-CALDESC:Évènements pour FESEFA
REFRESH-INTERVAL;VALUE=DURATION:PT1H
X-Robots-Tag:noindex
X-PUBLISHED-TTL:PT1H
BEGIN:VTIMEZONE
TZID:Europe/Brussels
BEGIN:DAYLIGHT
TZOFFSETFROM:+0100
TZOFFSETTO:+0200
TZNAME:CEST
DTSTART:20250330T010000
END:DAYLIGHT
BEGIN:STANDARD
TZOFFSETFROM:+0200
TZOFFSETTO:+0100
TZNAME:CET
DTSTART:20251026T010000
END:STANDARD
BEGIN:DAYLIGHT
TZOFFSETFROM:+0100
TZOFFSETTO:+0200
TZNAME:CEST
DTSTART:20260329T010000
END:DAYLIGHT
BEGIN:STANDARD
TZOFFSETFROM:+0200
TZOFFSETTO:+0100
TZNAME:CET
DTSTART:20261025T010000
END:STANDARD
BEGIN:DAYLIGHT
TZOFFSETFROM:+0100
TZOFFSETTO:+0200
TZNAME:CEST
DTSTART:20270328T010000
END:DAYLIGHT
BEGIN:STANDARD
TZOFFSETFROM:+0200
TZOFFSETTO:+0100
TZNAME:CET
DTSTART:20271031T010000
END:STANDARD
END:VTIMEZONE
BEGIN:VEVENT
DTSTART;TZID=Europe/Brussels:20260114T093000
DTEND;TZID=Europe/Brussels:20260114T123000
DTSTAMP:20260421T211656
CREATED:20251219T094504Z
LAST-MODIFIED:20251219T094614Z
UID:10000532-1768383000-1768393800@fesefa.be
SUMMARY:mRGPD — Inventaire et registre de traitements : comment définir un traitement de données dans votre registre ?
DESCRIPTION:La réalisation d’un registre de traitements de données à caractère personnel est un élément central de tout effort de mise en conformité avec le RGPD. Mais comment définir concrètement les différents traitements de données que votre association effectue ? \nAfin de permettre aux participants de mieux cerner les enjeux de la protection des données à partir de leur propre réalité\, cette séance sera consacrée à l’exercice pratique d’encodage des traitements dans le modèle de registre de traitements en développement au sein de la FESEFA. \nAu terme de cette formation\, les participants pourront : \n\ndécrire clairement la finalité des traitements qu’ils effectuent ;\nchoisir les données nécessaires pour atteindre cette finalité ;\ndéterminer le fondement juridique adéquat pour justifier le traitement ;\ncirconscrire les destinataires – internes et externes – des données qu’ils traitent ;\nfixer une durée de conservation adéquate pour les données traitées ;\n\nInscrivez-vous via ce formulaire en ligne. 
URL:https://fesefa.be/event/mrgpd-inventaire-et-registre-comment-definir-un-traitement/
LOCATION:En ligne\, Zoom
CATEGORIES:Formation juridique
END:VEVENT
END:VCALENDAR