BEGIN:VCALENDAR
VERSION:2.0
PRODID:-//FESEFA - ECPv6.15.17.1//NONSGML v1.0//EN
CALSCALE:GREGORIAN
METHOD:PUBLISH
X-ORIGINAL-URL:https://fesefa.be
X-WR-CALDESC:Évènements pour FESEFA
REFRESH-INTERVAL;VALUE=DURATION:PT1H
X-Robots-Tag:noindex
X-PUBLISHED-TTL:PT1H
BEGIN:VTIMEZONE
TZID:Europe/Brussels
BEGIN:DAYLIGHT
TZOFFSETFROM:+0100
TZOFFSETTO:+0200
TZNAME:CEST
DTSTART:20240331T010000
END:DAYLIGHT
BEGIN:STANDARD
TZOFFSETFROM:+0200
TZOFFSETTO:+0100
TZNAME:CET
DTSTART:20241027T010000
END:STANDARD
BEGIN:DAYLIGHT
TZOFFSETFROM:+0100
TZOFFSETTO:+0200
TZNAME:CEST
DTSTART:20250330T010000
END:DAYLIGHT
BEGIN:STANDARD
TZOFFSETFROM:+0200
TZOFFSETTO:+0100
TZNAME:CET
DTSTART:20251026T010000
END:STANDARD
BEGIN:DAYLIGHT
TZOFFSETFROM:+0100
TZOFFSETTO:+0200
TZNAME:CEST
DTSTART:20260329T010000
END:DAYLIGHT
BEGIN:STANDARD
TZOFFSETFROM:+0200
TZOFFSETTO:+0100
TZNAME:CET
DTSTART:20261025T010000
END:STANDARD
END:VTIMEZONE
BEGIN:VEVENT
DTSTART;TZID=Europe/Brussels:20251008T093000
DTEND;TZID=Europe/Brussels:20251008T123000
DTSTAMP:20260421T103330
CREATED:20250707T134638Z
LAST-MODIFIED:20250707T135705Z
UID:10000503-1759915800-1759926600@fesefa.be
SUMMARY:mASBL — Le calendrier de mon asbl : au-delà de la routine annuelle
DESCRIPTION:À côté du train-train quotidien\, la vie de l’asbl est ponctuée d’épisodes qui\, s’ils ne surviennent pas automatiquement chaque année\, sont fréquents : \n\nl’élection des membres de l’organe d’administration ainsi que toute adaptation liée à un membre de cet organe ;\nun changement au niveau des membres : admission\, démission\, exclusion\, etc. ;\nune adaptation de la délégation à la gestion journalière ou de la représentation de l’asbl ;\nla modification des statuts ;\nl’intégration — dans la vie de l’asbl — de paramètres extérieurs (p. ex. suppression d’un financement\, etc.).\n\nLa Matinée a pour objectif de passer en revue chacun de ces évènements et de vous donner les clés pour que l’asbl anticipe et appréhende au mieux ces épisodes. \nInscrivez-vous via ce formulaire en ligne.
URL:https://fesefa.be/event/calendrier-asbl-au-dela-de-la-routine/
LOCATION:En ligne\, Zoom
CATEGORIES:Formation juridique
END:VEVENT
END:VCALENDAR