BEGIN:VCALENDAR
VERSION:2.0
PRODID:-//FESEFA - ECPv6.15.17.1//NONSGML v1.0//EN
CALSCALE:GREGORIAN
METHOD:PUBLISH
X-ORIGINAL-URL:https://fesefa.be
X-WR-CALDESC:Évènements pour FESEFA
REFRESH-INTERVAL;VALUE=DURATION:PT1H
X-Robots-Tag:noindex
X-PUBLISHED-TTL:PT1H
BEGIN:VTIMEZONE
TZID:Europe/Brussels
BEGIN:DAYLIGHT
TZOFFSETFROM:+0100
TZOFFSETTO:+0200
TZNAME:CEST
DTSTART:20240331T010000
END:DAYLIGHT
BEGIN:STANDARD
TZOFFSETFROM:+0200
TZOFFSETTO:+0100
TZNAME:CET
DTSTART:20241027T010000
END:STANDARD
BEGIN:DAYLIGHT
TZOFFSETFROM:+0100
TZOFFSETTO:+0200
TZNAME:CEST
DTSTART:20250330T010000
END:DAYLIGHT
BEGIN:STANDARD
TZOFFSETFROM:+0200
TZOFFSETTO:+0100
TZNAME:CET
DTSTART:20251026T010000
END:STANDARD
BEGIN:DAYLIGHT
TZOFFSETFROM:+0100
TZOFFSETTO:+0200
TZNAME:CEST
DTSTART:20260329T010000
END:DAYLIGHT
BEGIN:STANDARD
TZOFFSETFROM:+0200
TZOFFSETTO:+0100
TZNAME:CET
DTSTART:20261025T010000
END:STANDARD
END:VTIMEZONE
BEGIN:VEVENT
DTSTART;TZID=Europe/Brussels:20250926T093000
DTEND;TZID=Europe/Brussels:20250926T123000
DTSTAMP:20260421T121344
CREATED:20250707T133517Z
LAST-MODIFIED:20250707T133517Z
UID:10000498-1758879000-1758889800@fesefa.be
SUMMARY:MRT — Comment améliorer le dialogue social dans mon asbl avec ou sans délégation syndicale ?
DESCRIPTION:Le dialogue social joue un rôle central dans la gestion des relations de travail tant sur le plan collectif qu’individuel. Notion bien plus large que la pure « concertation »\, le dialogue social permet aux employeurs de mieux appréhender le vécu et les préoccupations des travailleurs et des travailleuses qu’ils occupent\, d’anticiper des difficultés et de désamorcer des tensions émergentes. \nQue ce soit pour les structures dans lesquelles une délégation syndicale (DS) a été instaurée ou pour celles où aucune instance de concertation n’a été mise sur pied\, cette formation vise à conseiller et outiller les associations qui souhaitent entretenir des relations constructives avec les membres du personnel et leurs éventuels représentants. \nLors de cette séance\, nous évoquerons les questions suivantes : \n\nQu’est-ce que le dialogue social et à quoi peut-il servir ?\nQuelles conditions stimulent un meilleur dialogue en l’absence d’une DS\, et quels écueils éviter ?\nDans quelles circonstances une DS peut-elle être instaurée dans votre asbl ?\nQuels sont les compétences\, pouvoirs et protections dont bénéficient les membres d’une DS ?\nQue faire quand une délégation syndicale n’est plus effective ou dysfonctionne ?\n\nInscrivez-vous via ce formulaire en ligne.
URL:https://fesefa.be/event/mrt-comment-ameliorer-le-dialogue-social-dans-mon-asbl-avec-ou-sans-delegation-syndicale/
LOCATION:En ligne\, Zoom
CATEGORIES:Formation juridique
END:VEVENT
END:VCALENDAR