BEGIN:VCALENDAR
VERSION:2.0
PRODID:-//FESEFA - ECPv6.15.17.1//NONSGML v1.0//EN
CALSCALE:GREGORIAN
METHOD:PUBLISH
X-WR-CALNAME:FESEFA
X-ORIGINAL-URL:https://fesefa.be
X-WR-CALDESC:Évènements pour FESEFA
REFRESH-INTERVAL;VALUE=DURATION:PT1H
X-Robots-Tag:noindex
X-PUBLISHED-TTL:PT1H
BEGIN:VTIMEZONE
TZID:Europe/Brussels
BEGIN:DAYLIGHT
TZOFFSETFROM:+0100
TZOFFSETTO:+0200
TZNAME:CEST
DTSTART:20230326T010000
END:DAYLIGHT
BEGIN:STANDARD
TZOFFSETFROM:+0200
TZOFFSETTO:+0100
TZNAME:CET
DTSTART:20231029T010000
END:STANDARD
BEGIN:DAYLIGHT
TZOFFSETFROM:+0100
TZOFFSETTO:+0200
TZNAME:CEST
DTSTART:20240331T010000
END:DAYLIGHT
BEGIN:STANDARD
TZOFFSETFROM:+0200
TZOFFSETTO:+0100
TZNAME:CET
DTSTART:20241027T010000
END:STANDARD
BEGIN:DAYLIGHT
TZOFFSETFROM:+0100
TZOFFSETTO:+0200
TZNAME:CEST
DTSTART:20250330T010000
END:DAYLIGHT
BEGIN:STANDARD
TZOFFSETFROM:+0200
TZOFFSETTO:+0100
TZNAME:CET
DTSTART:20251026T010000
END:STANDARD
END:VTIMEZONE
BEGIN:VEVENT
DTSTART;TZID=Europe/Brussels:20240212T093000
DTEND;TZID=Europe/Brussels:20240212T123000
DTSTAMP:20260421T175652
CREATED:20240117T103052Z
LAST-MODIFIED:20240207T150655Z
UID:10000375-1707730200-1707741000@fesefa.be
SUMMARY:Matinée asbl — Les membres d’une asbl : admission\, droits et gestion
DESCRIPTION:À partir de 2024\, les matinées asbl se focalisent\, à chaque séance\, sur un aspect de la vie et du fonctionnement de l’association via une brève présentation suivie d’une séance de questions-réponses. Ensuite\, le service juridique répond à toutes vos questions relatives à la vie de votre association : la mise à jour de vos statuts\, la tenue de vos instances\, le rôle des administrateurs\, direction ou personnel\, ou encore la publication des actes de votre asbl. \nEn février\, la matinée asbl se focalise sur les membres de votre association : \n\nQuelle différence entre membres effectifs et adhérents ?\nQuels sont leurs droits et obligations ?\nComment sont-ils admis et à quelle condition peuvent-ils se retirer ou être exclus de l’association ?\nL’admission en tant que membre d’une personne morale ou de travailleurs ou travailleuses de l’asbl pose-t-elle des difficultés particulières ?\n\nInscrivez-vous via ce formulaire en ligne.
URL:https://fesefa.be/event/masbl-les-membres-d-une-asbl/
LOCATION:En ligne
CATEGORIES:Formation juridique
END:VEVENT
END:VCALENDAR