BEGIN:VCALENDAR
VERSION:2.0
PRODID:-//FESEFA - ECPv6.15.17.1//NONSGML v1.0//EN
CALSCALE:GREGORIAN
METHOD:PUBLISH
X-ORIGINAL-URL:https://fesefa.be
X-WR-CALDESC:Évènements pour FESEFA
REFRESH-INTERVAL;VALUE=DURATION:PT1H
X-Robots-Tag:noindex
X-PUBLISHED-TTL:PT1H
BEGIN:VTIMEZONE
TZID:Europe/Brussels
BEGIN:DAYLIGHT
TZOFFSETFROM:+0100
TZOFFSETTO:+0200
TZNAME:CEST
DTSTART:20220327T010000
END:DAYLIGHT
BEGIN:STANDARD
TZOFFSETFROM:+0200
TZOFFSETTO:+0100
TZNAME:CET
DTSTART:20221030T010000
END:STANDARD
BEGIN:DAYLIGHT
TZOFFSETFROM:+0100
TZOFFSETTO:+0200
TZNAME:CEST
DTSTART:20230326T010000
END:DAYLIGHT
BEGIN:STANDARD
TZOFFSETFROM:+0200
TZOFFSETTO:+0100
TZNAME:CET
DTSTART:20231029T010000
END:STANDARD
BEGIN:DAYLIGHT
TZOFFSETFROM:+0100
TZOFFSETTO:+0200
TZNAME:CEST
DTSTART:20240331T010000
END:DAYLIGHT
BEGIN:STANDARD
TZOFFSETFROM:+0200
TZOFFSETTO:+0100
TZNAME:CET
DTSTART:20241027T010000
END:STANDARD
END:VTIMEZONE
BEGIN:VEVENT
DTSTART;TZID=Europe/Brussels:20231213T093000
DTEND;TZID=Europe/Brussels:20231213T123000
DTSTAMP:20260421T174121
CREATED:20230914T135233Z
LAST-MODIFIED:20230914T135233Z
UID:10000351-1702459800-1702470600@fesefa.be
SUMMARY:Mercredi RGPD (Le sujet numérique et ses droits)
DESCRIPTION:Plus qu’une permanence pour répondre à vos questions sur toutes les matières liées à la protection de la vie privée dans la vie de votre association\, les Mercredi RGPD sont désormais l’occasion de découvrir des contenus et supports pédagogiques en construction au sein de votre Fédération. Pour la dernière séance de l’année\, nous vous proposons de discuter une fiche thématique sur les droits des personnes physiques au regard de leurs données personnelles. Le « sujet numérique » — qu’il soit l’usager de votre site web\, un de vos travailleurs ou encore un membre ou administrateur de votre asbl — s’est vu reconnaître une série de droits par le RGPD : vos obligations en tant que responsable de traitement vont varier selon le type de traitement\, sa finalité et le fondement juridique que vous avez choisi pour justifier vos traitements. Connaître ces différences est indispensable pour assurer la protection des données « par défaut et dès la conception » dans votre structure. Comprendre la portée de ces . Vous pouvez vous inscrire via ce formulaire en ligne. 
URL:https://fesefa.be/event/mercredi-rgpd-le-sujet-numerique-et-ses-droits/
LOCATION:En ligne\, Zoom
CATEGORIES:Formation,Formation juridique
END:VEVENT
END:VCALENDAR