BEGIN:VCALENDAR
VERSION:2.0
PRODID:-//FESEFA - ECPv6.15.17.1//NONSGML v1.0//EN
CALSCALE:GREGORIAN
METHOD:PUBLISH
X-WR-CALNAME:FESEFA
X-ORIGINAL-URL:https://fesefa.be
X-WR-CALDESC:Évènements pour FESEFA
REFRESH-INTERVAL;VALUE=DURATION:PT1H
X-Robots-Tag:noindex
X-PUBLISHED-TTL:PT1H
BEGIN:VTIMEZONE
TZID:Europe/Brussels
BEGIN:DAYLIGHT
TZOFFSETFROM:+0100
TZOFFSETTO:+0200
TZNAME:CEST
DTSTART:20220327T010000
END:DAYLIGHT
BEGIN:STANDARD
TZOFFSETFROM:+0200
TZOFFSETTO:+0100
TZNAME:CET
DTSTART:20221030T010000
END:STANDARD
BEGIN:DAYLIGHT
TZOFFSETFROM:+0100
TZOFFSETTO:+0200
TZNAME:CEST
DTSTART:20230326T010000
END:DAYLIGHT
BEGIN:STANDARD
TZOFFSETFROM:+0200
TZOFFSETTO:+0100
TZNAME:CET
DTSTART:20231029T010000
END:STANDARD
BEGIN:DAYLIGHT
TZOFFSETFROM:+0100
TZOFFSETTO:+0200
TZNAME:CEST
DTSTART:20240331T010000
END:DAYLIGHT
BEGIN:STANDARD
TZOFFSETFROM:+0200
TZOFFSETTO:+0100
TZNAME:CET
DTSTART:20241027T010000
END:STANDARD
END:VTIMEZONE
BEGIN:VEVENT
DTSTART;TZID=Europe/Brussels:20231107T093000
DTEND;TZID=Europe/Brussels:20231128T163000
DTSTAMP:20260421T205542
CREATED:20230126T153936Z
LAST-MODIFIED:20231026T091342Z
UID:10000296-1699349400-1701189000@fesefa.be
SUMMARY:[Encore 2 places !] Formation PEPS (Premiers pas dans l'Éducation Permanente et son Secteur)
DESCRIPTION:! Nouveau !  Formation PEPS (Premiers pas dans l’Éducation Permanente et son Secteur) \n\n\n\nLa FESEFA\, en partenariat avec plusieurs associations EP actives dans la formation professionnelle du secteur (CEMEA\, CESEP\, CIEP-MOC\, PAC)\, organise une formation innovante pour les nouveaux·elles travailleurs·ses s’engageant dans l’EP : la formation PEPS\, Premiers pas dans l’Éducation Permanente et son Secteur. \n\n\n\n \n\n\n\nPublic : travailleurs·ses démarrant dans le secteur de l’Éducation permanente \n\n\n\n \n\n\n\nObjectifs : \n\n\n\n\nproposer aux travailleurs·ses un socle de base de connaissances et de pratiques liées au secteur de l’EP ;\n\n\n\nfaire des liens entre la théorie et l’action ;\n\n\n\nfavoriser le partage d’expériences et la mise en réseau des travailleurs·ses de différentes associations.\n\n\n\n\n \n\n\n\nContenus : \n\n\n\nCette formation prendra la forme d’un cycle de 4 modules sur 5 journées\, co-animés par les différents partenaires :  \n\n\n\n\nModule 1 (1 jour) : Histoire\, fondements et principes politiques de l’EP\n\n\n\n\nModule animé par l’équipe du pôle EP de la FESEFA \n\n\n\n\nModule 2 (1 jour) : Paysage sectoriel EP\n\n\n\n\nModule animé par l’équipe du pôle EP de la FESEFA \n\n\n\n\nModule 3 (2 jours) : Module pratique \n\n\n\n\nModule animé (en alternance ou co-animation) par les CEMEA\, le CESEP\, le CIEP-MOC\, PAC \n\n\n\n\nModule 4 (1 jour) : Évaluation et synthèse\n\n\n\n\nModule co-animé par l’équipe du pôle EP de la FESEFA et les associations intervenant dans le module 3 \n\n\n\n \n\n\n\nModalités pratiques : \n\n\n\n\nLieu : Namur\, au CINEX – rue Saint-Nicolas 84 – 5000 Namur\n\n\n\nDates : les mardis 7\, 14\, 21 et 28 novembre et le vendredi 24 novembre\n\n\n\nHoraires : 09h30 à 16h30 (accueil boissons à partir de 9h15)\n\n\n\nNombre de participant·e·s : maximum 16\n\n\n\n\n \n\n\n\nTarifs : \n\n\n\n\nAssociations membres de la FESEFA : 250€\n\n\n\nAssociations non membres de la FESEFA : 300€\n\n\n\n\nLes repas de midi ne sont pas pris en charge. \n\n\n\nLa formation est remboursable par le Fonds 4S pour les travailleurs·ses des associations de la CP 329.02 – vous trouverez plus d’informations sur le site du Fonds 4S. \n\n\n\n \n\n\n\nModalités d’inscription : \n\n\n\nL’inscription se fait par email à l’adresse info@fesefa.be. Merci de préciser : Nom/prénom/adresse mail/fonction au sein de l’association/numéro de téléphone. \n\n\n\nIl est nécessaire d’être disponible les 5 jours de la formation. \n\n\n\nLe paiement doit être effectué dans les 10 jours ouvrables suivant la réception de l’email de confirmation. Une facture sera envoyée après la fin de la formation. \n\n\n\nUne attestation de présence sera délivrée en fin de formation. \n\n\n\nPolitique d’annulation et de remboursement : \n\n\n\nEn cas d’absence (quel que soit le type d’absence)\, les frais d’inscription seront uniquement remboursés en cas d’annulation au moins 15 jours ouvrables avant la date de début de formation. Après cette date\, aucun remboursement ne sera possible. \n\n\n\nPour toute demande d’information : info@fesefa.be 
URL:https://fesefa.be/event/formation-peps-premiers-pas-dans-leducation-permanente-et-son-secteur/
LOCATION:Namur\, Namur
CATEGORIES:Formation EP
ORGANIZER;CN="FESEFA":MAILTO:info@fesefa.be
END:VEVENT
BEGIN:VEVENT
DTSTART;TZID=Europe/Brussels:20231124T093000
DTEND;TZID=Europe/Brussels:20231124T123000
DTSTAMP:20260421T205542
CREATED:20230914T144118Z
LAST-MODIFIED:20230914T144351Z
UID:10000352-1700818200-1700829000@fesefa.be
SUMMARY:! Nouveau ! Matinée juridique — Les travailleurs·ses âgé·es
DESCRIPTION:Que l’âge de la pension approche ou déjà bien plus tôt\, la loi et certaines dispositions propres à nos secteurs prévoient de nombreuses particularités pour les travailleurs·ses à partir d’un certain âge. Cette matinée détaillera les dispositifs principaux qui visent à réduire le temps de travail (crédit-temps fin de carrière ou réduction collective du temps de travail pour les travailleurs·ses de 60 ans ou plus dans le cadre de l’Accord Non Marchand Région wallonne) ou sa pénibilité (octroi de jours de congés extra légaux pour l’ISP bruxellois) voire de faciliter l’accès à la pension (régime de chômage avec complément d’entreprise ou pension anticipée). Seront également examinés l’impact de l’atteinte de l’âge légal de la pension sur le contrat de travail comme les conditions d’engagement d’une personne qui est déjà pensionnée. Vous pouvez vous inscrire à cette matinée juridique via le formulaire en ligne sur notre site.
URL:https://fesefa.be/event/matinee-juridique-les-travailleurs%c2%b7ses-agees-nouveaute/
LOCATION:En ligne\, Zoom
CATEGORIES:Formation,Formation juridique
END:VEVENT
END:VCALENDAR