BEGIN:VCALENDAR
VERSION:2.0
PRODID:-//FESEFA - ECPv6.15.17.1//NONSGML v1.0//EN
CALSCALE:GREGORIAN
METHOD:PUBLISH
X-ORIGINAL-URL:https://fesefa.be
X-WR-CALDESC:Évènements pour FESEFA
REFRESH-INTERVAL;VALUE=DURATION:PT1H
X-Robots-Tag:noindex
X-PUBLISHED-TTL:PT1H
BEGIN:VTIMEZONE
TZID:Europe/Brussels
BEGIN:DAYLIGHT
TZOFFSETFROM:+0100
TZOFFSETTO:+0200
TZNAME:CEST
DTSTART:20220327T010000
END:DAYLIGHT
BEGIN:STANDARD
TZOFFSETFROM:+0200
TZOFFSETTO:+0100
TZNAME:CET
DTSTART:20221030T010000
END:STANDARD
BEGIN:DAYLIGHT
TZOFFSETFROM:+0100
TZOFFSETTO:+0200
TZNAME:CEST
DTSTART:20230326T010000
END:DAYLIGHT
BEGIN:STANDARD
TZOFFSETFROM:+0200
TZOFFSETTO:+0100
TZNAME:CET
DTSTART:20231029T010000
END:STANDARD
BEGIN:DAYLIGHT
TZOFFSETFROM:+0100
TZOFFSETTO:+0200
TZNAME:CEST
DTSTART:20240331T010000
END:DAYLIGHT
BEGIN:STANDARD
TZOFFSETFROM:+0200
TZOFFSETTO:+0100
TZNAME:CET
DTSTART:20241027T010000
END:STANDARD
END:VTIMEZONE
BEGIN:VEVENT
DTSTART;TZID=Europe/Brussels:20231027T093000
DTEND;TZID=Europe/Brussels:20231027T123000
DTSTAMP:20260422T002144
CREATED:20230907T103231Z
LAST-MODIFIED:20230914T132017Z
UID:10000348-1698399000-1698409800@fesefa.be
SUMMARY:Matinée juridique — Organiser le télétravail et respecter le droit à la déconnexion
DESCRIPTION:Devenu un mode de collaboration très répandu dans le secteur socioculturel\, le télétravail — qu’il soit structurel ou occasionnel — doit désormais être intégré de manière prévisible et cohérente dans la gestion du personnel. L’encadrement juridique de cette forme de collaboration génère de nombreuses interrogations (p. ex. à quelle fréquence ? Comment indemniser ?). A ceci se greffe l’instauration d’un droit à la déconnexion qui rend potentiellement plus complexe la gestion de la collaboration à distance\, et réclame une attention particulière lors de la fixation des modalités du télétravail\, mais pas que ! Cette séance d’information vous assistera dans la fixation d’un cadre qui soit à la fois conforme à la législation et compatible avec les pratiques et nécessités de votre structure.  Vous pouvez vous inscrire via ce formulaire en ligne.
URL:https://fesefa.be/event/matinee-juridique-organiser-le-teletravail-et-respecter-le-droit-a-la-deconnexion/
LOCATION:En ligne\, Zoom
CATEGORIES:Formation,Formation juridique
END:VEVENT
END:VCALENDAR