BEGIN:VCALENDAR
VERSION:2.0
PRODID:-//FESEFA - ECPv6.15.17.1//NONSGML v1.0//EN
CALSCALE:GREGORIAN
METHOD:PUBLISH
X-WR-CALNAME:FESEFA
X-ORIGINAL-URL:https://fesefa.be
X-WR-CALDESC:Évènements pour FESEFA
REFRESH-INTERVAL;VALUE=DURATION:PT1H
X-Robots-Tag:noindex
X-PUBLISHED-TTL:PT1H
BEGIN:VTIMEZONE
TZID:Europe/Brussels
BEGIN:DAYLIGHT
TZOFFSETFROM:+0100
TZOFFSETTO:+0200
TZNAME:CEST
DTSTART:20220327T010000
END:DAYLIGHT
BEGIN:STANDARD
TZOFFSETFROM:+0200
TZOFFSETTO:+0100
TZNAME:CET
DTSTART:20221030T010000
END:STANDARD
BEGIN:DAYLIGHT
TZOFFSETFROM:+0100
TZOFFSETTO:+0200
TZNAME:CEST
DTSTART:20230326T010000
END:DAYLIGHT
BEGIN:STANDARD
TZOFFSETFROM:+0200
TZOFFSETTO:+0100
TZNAME:CET
DTSTART:20231029T010000
END:STANDARD
BEGIN:DAYLIGHT
TZOFFSETFROM:+0100
TZOFFSETTO:+0200
TZNAME:CEST
DTSTART:20240331T010000
END:DAYLIGHT
BEGIN:STANDARD
TZOFFSETFROM:+0200
TZOFFSETTO:+0100
TZNAME:CET
DTSTART:20241027T010000
END:STANDARD
END:VTIMEZONE
BEGIN:VEVENT
DTSTART;TZID=Europe/Brussels:20231018T093000
DTEND;TZID=Europe/Brussels:20231018T123000
DTSTAMP:20260421T191917
CREATED:20230907T102312Z
LAST-MODIFIED:20230914T132134Z
UID:10000345-1697621400-1697632200@fesefa.be
SUMMARY:Mercredi RGPD (Fondement de traitement)
DESCRIPTION:Plus qu’une permanence pour répondre à vos questions sur toutes les matières liées à la protection de la vie privée dans la vie de votre association\, les Mercredi RGPD sont désormais l’occasion de découvrir des contenus et supports pédagogiques en construction au sein de votre Fédération. Pour cette deuxième date\, nous présenterons une fiche thématique sur la notion de « fondement de traitement »\, notion-clé qui structure et traverse l’ensemble du RGPD. Il s’agit de la base juridique que vous\, en tant que responsable de traitement\, devez avancer pour justifier les traitements de données à caractère personnel que vous effectuez. Vous pouvez vous inscrire via ce formulaire en ligne. 
URL:https://fesefa.be/event/mercredi-rgpd-fondement-de-traitement/
LOCATION:En ligne\, Zoom
CATEGORIES:Formation,Formation juridique
END:VEVENT
END:VCALENDAR