BEGIN:VCALENDAR
VERSION:2.0
PRODID:-//FESEFA - ECPv6.15.20//NONSGML v1.0//EN
CALSCALE:GREGORIAN
METHOD:PUBLISH
X-WR-CALNAME:FESEFA
X-ORIGINAL-URL:https://fesefa.be
X-WR-CALDESC:Évènements pour FESEFA
REFRESH-INTERVAL;VALUE=DURATION:PT1H
X-Robots-Tag:noindex
X-PUBLISHED-TTL:PT1H
BEGIN:VTIMEZONE
TZID:Europe/Paris
BEGIN:DAYLIGHT
TZOFFSETFROM:+0100
TZOFFSETTO:+0200
TZNAME:CEST
DTSTART:20220327T010000
END:DAYLIGHT
BEGIN:STANDARD
TZOFFSETFROM:+0200
TZOFFSETTO:+0100
TZNAME:CET
DTSTART:20221030T010000
END:STANDARD
BEGIN:DAYLIGHT
TZOFFSETFROM:+0100
TZOFFSETTO:+0200
TZNAME:CEST
DTSTART:20230326T010000
END:DAYLIGHT
BEGIN:STANDARD
TZOFFSETFROM:+0200
TZOFFSETTO:+0100
TZNAME:CET
DTSTART:20231029T010000
END:STANDARD
BEGIN:DAYLIGHT
TZOFFSETFROM:+0100
TZOFFSETTO:+0200
TZNAME:CEST
DTSTART:20240331T010000
END:DAYLIGHT
BEGIN:STANDARD
TZOFFSETFROM:+0200
TZOFFSETTO:+0100
TZNAME:CET
DTSTART:20241027T010000
END:STANDARD
END:VTIMEZONE
BEGIN:VEVENT
DTSTART;TZID=Europe/Paris:20230623T100000
DTEND;TZID=Europe/Paris:20230623T123000
DTSTAMP:20260422T185531
CREATED:20230502T101552Z
LAST-MODIFIED:20230907T103426Z
UID:10000311-1687514400-1687523400@fesefa.be
SUMMARY:Matinée juridique - La gestion des risques psychosociaux : une introduction aux principes\, aux acteurs·trices et aux procédures
DESCRIPTION:Chaque employeur·e doit mettre en place une politique de prévention des risques psychosociaux spécifique selon les besoins de l’association et des travailleurs·ses. Après avoir explicité les différents risques psychosociaux\, nous verrons quel·le·s sont les acteurs·trices qui ont un rôle important dans la prévention des risques et les procédures à mettre en place d’une part pour limiter les risques et d’autre part\, pour gérer les risques psychosociaux qui surgissent au sein de l’association. Cette matinée juridique d’une durée de 2h30 est une introduction à la thématique de la gestion des risques psychosociaux. A la fin de celle-ci vous recevrez une série de documentation pour approfondir la séance d’information. \nVous pouvez vous inscrire à cette matinée juridique en suivant ce lien.
URL:https://fesefa.be/event/matinee-juridique-la-gestion-des-risques-psychosociaux-une-introduction-aux-principes-aux-acteurs%c2%b7trices-et-eux-procedures/
LOCATION:En ligne\, Zoom
CATEGORIES:Formation,Formation juridique
END:VEVENT
END:VCALENDAR