BEGIN:VCALENDAR
VERSION:2.0
PRODID:-//FESEFA - ECPv6.15.20//NONSGML v1.0//EN
CALSCALE:GREGORIAN
METHOD:PUBLISH
X-ORIGINAL-URL:https://fesefa.be
X-WR-CALDESC:Évènements pour FESEFA
REFRESH-INTERVAL;VALUE=DURATION:PT1H
X-Robots-Tag:noindex
X-PUBLISHED-TTL:PT1H
BEGIN:VTIMEZONE
TZID:Europe/Paris
BEGIN:DAYLIGHT
TZOFFSETFROM:+0100
TZOFFSETTO:+0200
TZNAME:CEST
DTSTART:20220327T010000
END:DAYLIGHT
BEGIN:STANDARD
TZOFFSETFROM:+0200
TZOFFSETTO:+0100
TZNAME:CET
DTSTART:20221030T010000
END:STANDARD
BEGIN:DAYLIGHT
TZOFFSETFROM:+0100
TZOFFSETTO:+0200
TZNAME:CEST
DTSTART:20230326T010000
END:DAYLIGHT
BEGIN:STANDARD
TZOFFSETFROM:+0200
TZOFFSETTO:+0100
TZNAME:CET
DTSTART:20231029T010000
END:STANDARD
BEGIN:DAYLIGHT
TZOFFSETFROM:+0100
TZOFFSETTO:+0200
TZNAME:CEST
DTSTART:20240331T010000
END:DAYLIGHT
BEGIN:STANDARD
TZOFFSETFROM:+0200
TZOFFSETTO:+0100
TZNAME:CET
DTSTART:20241027T010000
END:STANDARD
END:VTIMEZONE
BEGIN:VEVENT
DTSTART;TZID=Europe/Paris:20230517T093000
DTEND;TZID=Europe/Paris:20230517T123000
DTSTAMP:20260423T002623
CREATED:20230516T115418Z
LAST-MODIFIED:20230907T103555Z
UID:10000322-1684315800-1684326600@fesefa.be
SUMMARY:Mercredi RGPD
DESCRIPTION:Ces permanences juridiques mensuelles vous donnent l’opportunité d’échanger avec le conseiller spécialisé dans les thématiques de la protection des données et de la vie privée. Il s’agit des séances de questions et réponses\, sans introduction théorique ni connaissance préalable exigée.  \nQue vos questions portent sur les étapes de la mise en conformité de votre structure avec le RGPD\, ou que vous ayez des questions spécifiques sur les différents aspects de la vie privée dans la relation de travail\, dans la gouvernance de l’asbl\, ou encore dans vos rapports avec vos publics et bénéficiaires\, les mercredis RGPD sont l’occasion d’en discuter dans un cadre informel et d’échanger avec d’autres structures de nos secteurs. \nCette séance est gratuite\, mais l’inscription est requise (vers le formulaire d’inscription). Votre participation peut avoir lieu à distance (via Zoom)\, ou au siège de la FESEFA.
URL:https://fesefa.be/event/mercredi-rgpd-9/
LOCATION:En ligne\, Zoom
CATEGORIES:Formation,Formation juridique
END:VEVENT
END:VCALENDAR