BEGIN:VCALENDAR
VERSION:2.0
PRODID:-//FESEFA - ECPv6.15.20//NONSGML v1.0//EN
CALSCALE:GREGORIAN
METHOD:PUBLISH
X-ORIGINAL-URL:https://fesefa.be
X-WR-CALDESC:Évènements pour FESEFA
REFRESH-INTERVAL;VALUE=DURATION:PT1H
X-Robots-Tag:noindex
X-PUBLISHED-TTL:PT1H
BEGIN:VTIMEZONE
TZID:Europe/Paris
BEGIN:DAYLIGHT
TZOFFSETFROM:+0100
TZOFFSETTO:+0200
TZNAME:CEST
DTSTART:20220327T010000
END:DAYLIGHT
BEGIN:STANDARD
TZOFFSETFROM:+0200
TZOFFSETTO:+0100
TZNAME:CET
DTSTART:20221030T010000
END:STANDARD
BEGIN:DAYLIGHT
TZOFFSETFROM:+0100
TZOFFSETTO:+0200
TZNAME:CEST
DTSTART:20230326T010000
END:DAYLIGHT
BEGIN:STANDARD
TZOFFSETFROM:+0200
TZOFFSETTO:+0100
TZNAME:CET
DTSTART:20231029T010000
END:STANDARD
BEGIN:DAYLIGHT
TZOFFSETFROM:+0100
TZOFFSETTO:+0200
TZNAME:CEST
DTSTART:20240331T010000
END:DAYLIGHT
BEGIN:STANDARD
TZOFFSETFROM:+0200
TZOFFSETTO:+0100
TZNAME:CET
DTSTART:20241027T010000
END:STANDARD
END:VTIMEZONE
BEGIN:VEVENT
DTSTART;TZID=Europe/Paris:20230504T093000
DTEND;TZID=Europe/Paris:20230504T123000
DTSTAMP:20260423T002759
CREATED:20230502T100810Z
LAST-MODIFIED:20230907T103855Z
UID:10000309-1683192600-1683203400@fesefa.be
SUMMARY:[Nouvelle date] Matinée statutaire
DESCRIPTION:Si vous êtes dans le processus de révision des statuts de votre association\, dans le but de les rendre compatibles avec le Code des sociétés et des associations (CSA)\, cette séance de questions et réponses a été organisée pour vous !  \nL’un·e de nos juristes sera à la disposition des participant·e·s et répondra à leurs questions tout au long de la matinée. Ces séances sont ouvertes aux affilié·e·s\, où qu’ils ou elles en soient dans le processus de mise en conformité : aucune connaissance préalable n’est exigée.  \nCette séance est gratuite\, mais l’inscription est requise (vers le formulaire d’inscription). Votre participation peut avoir lieu à distance (via Zoom)\, ou au siège de la FESEFA.
URL:https://fesefa.be/event/nouvelle-date-matinee-statutaire/
LOCATION:En ligne\, Zoom
CATEGORIES:Formation,Formation juridique
END:VEVENT
END:VCALENDAR