BEGIN:VCALENDAR
VERSION:2.0
PRODID:-//FESEFA - ECPv6.15.20//NONSGML v1.0//EN
CALSCALE:GREGORIAN
METHOD:PUBLISH
X-WR-CALNAME:FESEFA
X-ORIGINAL-URL:https://fesefa.be
X-WR-CALDESC:Évènements pour FESEFA
REFRESH-INTERVAL;VALUE=DURATION:PT1H
X-Robots-Tag:noindex
X-PUBLISHED-TTL:PT1H
BEGIN:VTIMEZONE
TZID:Europe/Paris
BEGIN:DAYLIGHT
TZOFFSETFROM:+0100
TZOFFSETTO:+0200
TZNAME:CEST
DTSTART:20220327T010000
END:DAYLIGHT
BEGIN:STANDARD
TZOFFSETFROM:+0200
TZOFFSETTO:+0100
TZNAME:CET
DTSTART:20221030T010000
END:STANDARD
BEGIN:DAYLIGHT
TZOFFSETFROM:+0100
TZOFFSETTO:+0200
TZNAME:CEST
DTSTART:20230326T010000
END:DAYLIGHT
BEGIN:STANDARD
TZOFFSETFROM:+0200
TZOFFSETTO:+0100
TZNAME:CET
DTSTART:20231029T010000
END:STANDARD
BEGIN:DAYLIGHT
TZOFFSETFROM:+0100
TZOFFSETTO:+0200
TZNAME:CEST
DTSTART:20240331T010000
END:DAYLIGHT
BEGIN:STANDARD
TZOFFSETFROM:+0200
TZOFFSETTO:+0100
TZNAME:CET
DTSTART:20241027T010000
END:STANDARD
END:VTIMEZONE
BEGIN:VEVENT
DTSTART;TZID=Europe/Paris:20230503T093000
DTEND;TZID=Europe/Paris:20230503T123000
DTSTAMP:20260423T040005
CREATED:20221116T082129Z
LAST-MODIFIED:20230327T152642Z
UID:10000213-1683106200-1683117000@fesefa.be
SUMMARY:[COMPLET] Matinée EP - Axe 3
DESCRIPTION:Suite au succès des matinées organisées en 2019\, 2020\, 2021et 2022 et à la demande de plusieurs associations reconnues en axe 3\, la FESEFA organise de nouveau en 2023 une matinée dédiée à l’axe 3. \n\n\n\nCette matinée sera centrée sur l’application des nouvelles dispositions du décret EP modifié en 2018\, liée à une reconnaissance en axe 3. \n\n\n\nCette rencontre a notamment pour objectifs : \n\n\n\n\nd’interroger des concepts du décret et les différents types de réalisations (outil pédagogique\, recherche participative\, service collectif…) ;\n\n\n\nd’analyser les conséquences de certaines nouvelles dispositions du décret (fusion des sous-axes 3.1 et 3.2\, diminution des exigences quantitatives\, transversalité…) ;\n\n\n\nd’échanger des bonnes pratiques.\n\n\n\n\nElle est gratuite et accessible à tout membre de vos équipes ou de vos instances. Elle s’adresse particulièrement aux personnes qui travaillent sur l’axe 3. \n\n\n\nAu plaisir de vous y rencontrer ! \n\n\n\nVotre association est reconnue en EP et vous avez besoin de connaître les fondamentaux du secteur EP\, de son action\, les notions-clés\, les logiques de chaque axe de reconnaissance ? \n\n\n\nLa FESEFA vous donne l’opportunité de vous familiariser avec le cadre légal des reconnaissances en Éducation permanente : philosophie générale\, présentation par axe\, modifications suite à la réforme de 2018\, contrôle et évaluation… \n\n\n\nCette matinée vous permet de vous informer sur ces bases ou d’actualiser vos connaissances des textes légaux en lien avec les modifications applicables suite à la réforme de 2018 pour toutes les associations reconnues en EP. \n\n\n\nCes matinées sont gratuites et accessibles à tout membre de vos équipes ou de vos instances (associations reconnues en EP\, membres ou non). \n\n\n\nAu plaisir de vous y rencontrer ! \n\n\n\n– Inscription : info@fesefa.be \n\n\n\n– Avec votre : Nom / prénom / adresse mail / fonction au sein de l’association / numéro de téléphone– En présentiel à la FESEFA\, au 44 rue d’Arenberg à 1000 Bruxelles\, à l’espace The 44 (1er étage)– Matinée gratuite – 2 personnes max. par association \n\n\n\nL’accueil débute à 9h45\, la matinée de formation commence à 10h. \n\n\n\n  \n\n\n\nNB : pour assister dans les meilleures conditions à nos matinées centrées sur un axe particulier\, nous vous conseillons d’avoir préalablement suivi une de nos matinées consacrées aux fondamentaux du décret EP. \n\n\n\nNB2 – Même si la formation est affichée comme étant complète\, n’hésitez pas à nous contacter pour vous inscrire sur une liste d’attente. Nous vous recontacterons le cas dans d’un désistement.
URL:https://fesefa.be/event/matinee-ep-axe-3-3/
LOCATION:FESEFA\, Rue d'Arenberg\, 44\, Bruxelles\, 1000
CATEGORIES:Formation EP
ORGANIZER;CN="FESEFA":MAILTO:info@fesefa.be
END:VEVENT
END:VCALENDAR