BEGIN:VCALENDAR
VERSION:2.0
PRODID:-//FESEFA - ECPv6.15.20//NONSGML v1.0//EN
CALSCALE:GREGORIAN
METHOD:PUBLISH
X-WR-CALNAME:FESEFA
X-ORIGINAL-URL:https://fesefa.be
X-WR-CALDESC:Évènements pour FESEFA
REFRESH-INTERVAL;VALUE=DURATION:PT1H
X-Robots-Tag:noindex
X-PUBLISHED-TTL:PT1H
BEGIN:VTIMEZONE
TZID:Europe/Brussels
BEGIN:DAYLIGHT
TZOFFSETFROM:+0100
TZOFFSETTO:+0200
TZNAME:CEST
DTSTART:20220327T010000
END:DAYLIGHT
BEGIN:STANDARD
TZOFFSETFROM:+0200
TZOFFSETTO:+0100
TZNAME:CET
DTSTART:20221030T010000
END:STANDARD
BEGIN:DAYLIGHT
TZOFFSETFROM:+0100
TZOFFSETTO:+0200
TZNAME:CEST
DTSTART:20230326T010000
END:DAYLIGHT
BEGIN:STANDARD
TZOFFSETFROM:+0200
TZOFFSETTO:+0100
TZNAME:CET
DTSTART:20231029T010000
END:STANDARD
BEGIN:DAYLIGHT
TZOFFSETFROM:+0100
TZOFFSETTO:+0200
TZNAME:CEST
DTSTART:20240331T010000
END:DAYLIGHT
BEGIN:STANDARD
TZOFFSETFROM:+0200
TZOFFSETTO:+0100
TZNAME:CET
DTSTART:20241027T010000
END:STANDARD
END:VTIMEZONE
BEGIN:VEVENT
DTSTART;TZID=Europe/Brussels:20230428T093000
DTEND;TZID=Europe/Brussels:20230428T123000
DTSTAMP:20260423T035456
CREATED:20230404T095906Z
LAST-MODIFIED:20230907T103426Z
UID:10000305-1682674200-1682685000@fesefa.be
SUMMARY:Matinée juridique - Comment organiser mon AG ? (en ce compris l’approbation des statuts)
DESCRIPTION:L’assemblée générale statutaire est une grande occasion dans la vie des asbl. \n\n\n\nC’est notamment le moment où l’organe d’administration — et\, par son biais\, la direction de l’association — rend compte de l’exécution des mandats qui leur ont été confiés par les membres effectifs : approbation des comptes et du budget\, décharge aux administrateurs et administratrices et\, le cas échéant\, au commissaire aux comptes. Certaines AG seront également amenées à renouveler la composition de l’organe d’administration\, d’autres auront le rôle désagréable et délicat de révoquer le mandat d’un administrateur ou d’exclure un membre. \n\n\n\nEn cette année 2023\, les AG seront — pour beaucoup de nos membres — l’occasion de mener les discussions requises pour aboutir à la mise à jour des statuts de l’association en conformité avec le Code des sociétés et des associations\, obligation que toute personne morale doit accomplir avant le 1er janvier 2024 ! \n\n\n\nCette matinée juridique vous aidera à planifier et animer votre prochaine assemblée générale dans les meilleures conditions. Elle portera spécialement attention au respect des conditions de forme\, de procédure et de fond nécessaires pour réussir l’approbation des modifications statutaires en toute sérénité !  \n\n\n\nVous pouvez vous inscrire à cette matinée juridique en suivant ce lien.
URL:https://fesefa.be/event/comment-organiser-mon-ag-en-ce-compris-lapprobation-des-statuts/
LOCATION:En ligne\, Zoom
CATEGORIES:Formation,Formation juridique
END:VEVENT
END:VCALENDAR