BEGIN:VCALENDAR
VERSION:2.0
PRODID:-//FESEFA - ECPv6.15.20//NONSGML v1.0//EN
CALSCALE:GREGORIAN
METHOD:PUBLISH
X-WR-CALNAME:FESEFA
X-ORIGINAL-URL:https://fesefa.be
X-WR-CALDESC:Évènements pour FESEFA
REFRESH-INTERVAL;VALUE=DURATION:PT1H
X-Robots-Tag:noindex
X-PUBLISHED-TTL:PT1H
BEGIN:VTIMEZONE
TZID:Europe/Paris
BEGIN:DAYLIGHT
TZOFFSETFROM:+0100
TZOFFSETTO:+0200
TZNAME:CEST
DTSTART:20220327T010000
END:DAYLIGHT
BEGIN:STANDARD
TZOFFSETFROM:+0200
TZOFFSETTO:+0100
TZNAME:CET
DTSTART:20221030T010000
END:STANDARD
BEGIN:DAYLIGHT
TZOFFSETFROM:+0100
TZOFFSETTO:+0200
TZNAME:CEST
DTSTART:20230326T010000
END:DAYLIGHT
BEGIN:STANDARD
TZOFFSETFROM:+0200
TZOFFSETTO:+0100
TZNAME:CET
DTSTART:20231029T010000
END:STANDARD
BEGIN:DAYLIGHT
TZOFFSETFROM:+0100
TZOFFSETTO:+0200
TZNAME:CEST
DTSTART:20240331T010000
END:DAYLIGHT
BEGIN:STANDARD
TZOFFSETFROM:+0200
TZOFFSETTO:+0100
TZNAME:CET
DTSTART:20241027T010000
END:STANDARD
END:VTIMEZONE
BEGIN:VTIMEZONE
TZID:Europe/Brussels
BEGIN:DAYLIGHT
TZOFFSETFROM:+0100
TZOFFSETTO:+0200
TZNAME:CEST
DTSTART:20220327T010000
END:DAYLIGHT
BEGIN:STANDARD
TZOFFSETFROM:+0200
TZOFFSETTO:+0100
TZNAME:CET
DTSTART:20221030T010000
END:STANDARD
BEGIN:DAYLIGHT
TZOFFSETFROM:+0100
TZOFFSETTO:+0200
TZNAME:CEST
DTSTART:20230326T010000
END:DAYLIGHT
BEGIN:STANDARD
TZOFFSETFROM:+0200
TZOFFSETTO:+0100
TZNAME:CET
DTSTART:20231029T010000
END:STANDARD
BEGIN:DAYLIGHT
TZOFFSETFROM:+0100
TZOFFSETTO:+0200
TZNAME:CEST
DTSTART:20240331T010000
END:DAYLIGHT
BEGIN:STANDARD
TZOFFSETFROM:+0200
TZOFFSETTO:+0100
TZNAME:CET
DTSTART:20241027T010000
END:STANDARD
END:VTIMEZONE
BEGIN:VEVENT
DTSTART;TZID=Europe/Paris:20230412T093000
DTEND;TZID=Europe/Paris:20230412T123000
DTSTAMP:20260422T205239
CREATED:20220928T123853Z
LAST-MODIFIED:20230407T075601Z
UID:10000279-1681291800-1681302600@fesefa.be
SUMMARY:Matinée satutaire
DESCRIPTION:Si vous êtes dans le processus de révision des statuts de votre association\, dans le but de les rendre compatibles avec le Code des sociétés et des associations (CSA)\, cette séance de questions et réponses a été organisée pour vous ! \nL’un·e de nos juristes sera à la disposition des participant·es et répondra à leurs questions tout au long de la matinée. Ces séances sont ouvertes aux affilié·es\, où qu’ils ou elles en soient dans le processus de mise en conformité : aucune connaissance préalable n’est exigée. \nCette séance est gratuite\, mais l’inscription est requise ( vers le formulaire d’inscription). Votre participation peut avoir lieu à distance (via Zoom)\, ou au siège de la FESEFA.
URL:https://fesefa.be/event/matinee-satutaire/
LOCATION:FESEFA\, Rue d'Arenberg\, 44\, Bruxelles\, 1000
CATEGORIES:Formation
END:VEVENT
BEGIN:VEVENT
DTSTART;TZID=Europe/Brussels:20230412T093000
DTEND;TZID=Europe/Brussels:20230412T123000
DTSTAMP:20260422T205239
CREATED:20230220T103335Z
LAST-MODIFIED:20230407T075222Z
UID:10000297-1681291800-1681302600@fesefa.be
SUMMARY:[COMPLET] Matinée EP – Axe 1 : le cadre EP et votre réalité
DESCRIPTION:Votre association est reconnue en axe 1 et vous souhaitez échanger autour du cadre de vos activités d’éducation permanente ? \n\n\n\nLa FESEFA organise une matinée dédiée spécifiquement à l’axe 1 afin de vous donner l’opportunité de revenir sur les prescrits légaux et de partager vos réalités de terrain avec d’autres professionnel·le·s du secteur. \n\n\n\nCette matinée a notamment pour objectifs : \n\n\n\n-de revenir sur les concepts-clés du décret pour l’axe 1 (activités régulières\, thématique d’action\, impact territorial…) ; \n\n\n\n– d’examiner les critères quantitatifs et qualitatifs de l’axe 1 et de les mettre en perspective avec vos pratiques ; \n\n\n\n– d’enrichir mutuellement votre action à travers les échanges qui prendront place. \n\n\n\nMéthodologie : au départ de vos réalités\, de vos questionnements\, en utilisant des documents-ressources et à travers un partage d’expériences. \n\n\n\nPublics : Cette matinée est destinée à tout membre de vos équipes ou de vos instances qui travaille sur les activités d’axe 1 (que votre association soit membre de la FESEFA ou non) \n\n\n\nAu plaisir de vous y rencontrer ! \n\n\n\nVotre association est reconnue en EP et vous avez besoin de connaître les fondamentaux du secteur EP\, de son action\, les notions-clés\, les logiques de chaque axe de reconnaissance ? \n\n\n\nLa FESEFA vous donne l’opportunité de vous familiariser avec le cadre légal des reconnaissances en Éducation permanente : philosophie générale\, présentation par axe\, modifications suite à la réforme de 2018\, contrôle et évaluation… \n\n\n\nCette matinée vous permet de vous informer sur ces bases ou d’actualiser vos connaissances des textes légaux en lien avec les modifications applicables suite à la réforme de 2018 pour toutes les associations reconnues en EP. \n\n\n\nCes matinées sont gratuites et accessibles à tout membre de vos équipes ou de vos instances (associations reconnues en EP\, membres ou non). \n\n\n\nAu plaisir de vous y rencontrer ! \n\n\n\n– Inscription : info@fesefa.be \n\n\n\n– Avec votre : Nom / prénom / adresse mail / fonction au sein de l’association / numéro de téléphone– En présentiel à la FESEFA\, au 44 rue d’Arenberg à 1000 Bruxelles\, à l’espace The 44 (1er étage)– Matinée gratuite – 2 personnes max. par association \n\n\n\nL’accueil débute à 9h30\, la matinée d’information commence à 9h45. \n\n\n\n \n\n\n\nNB – Pour assister dans les meilleures conditions à nos matinées centrées sur un axe particulier\, nous vous conseillons d’avoir préalablement suivi une de nos matinées consacrées aux fondamentaux du Décret EP. \n\n\n\nNB2 – Même si la formation est affichée comme étant complète\, n’hésitez pas à nous contacter pour vous inscrire sur une liste d’attente. Nous vous recontacterons le cas  dans d’un désistement. 
URL:https://fesefa.be/event/matinee-ep-axe-1-le-cadre-ep-et-votre-realite-6/
LOCATION:FESEFA\, Rue d'Arenberg\, 44\, Bruxelles\, 1000
CATEGORIES:Formation EP
ORGANIZER;CN="FESEFA":MAILTO:info@fesefa.be
END:VEVENT
END:VCALENDAR