BEGIN:VCALENDAR
VERSION:2.0
PRODID:-//FESEFA - ECPv6.15.20//NONSGML v1.0//EN
CALSCALE:GREGORIAN
METHOD:PUBLISH
X-ORIGINAL-URL:https://fesefa.be
X-WR-CALDESC:Évènements pour FESEFA
REFRESH-INTERVAL;VALUE=DURATION:PT1H
X-Robots-Tag:noindex
X-PUBLISHED-TTL:PT1H
BEGIN:VTIMEZONE
TZID:Europe/Paris
BEGIN:DAYLIGHT
TZOFFSETFROM:+0100
TZOFFSETTO:+0200
TZNAME:CEST
DTSTART:20220327T010000
END:DAYLIGHT
BEGIN:STANDARD
TZOFFSETFROM:+0200
TZOFFSETTO:+0100
TZNAME:CET
DTSTART:20221030T010000
END:STANDARD
BEGIN:DAYLIGHT
TZOFFSETFROM:+0100
TZOFFSETTO:+0200
TZNAME:CEST
DTSTART:20230326T010000
END:DAYLIGHT
BEGIN:STANDARD
TZOFFSETFROM:+0200
TZOFFSETTO:+0100
TZNAME:CET
DTSTART:20231029T010000
END:STANDARD
BEGIN:DAYLIGHT
TZOFFSETFROM:+0100
TZOFFSETTO:+0200
TZNAME:CEST
DTSTART:20240331T010000
END:DAYLIGHT
BEGIN:STANDARD
TZOFFSETFROM:+0200
TZOFFSETTO:+0100
TZNAME:CET
DTSTART:20241027T010000
END:STANDARD
END:VTIMEZONE
BEGIN:VEVENT
DTSTART;TZID=Europe/Paris:20230404T093000
DTEND;TZID=Europe/Paris:20230404T123000
DTSTAMP:20260423T020440
CREATED:20221019T111224Z
LAST-MODIFIED:20230327T151232Z
UID:10000206-1680600600-1680611400@fesefa.be
SUMMARY:[COMPLET]Matinée EP - Décret Éducation permanente : les fondamentaux
DESCRIPTION:Votre association est reconnue en EP et vous avez besoin de connaître les fondamentaux du secteur EP\, de son action\, les notions-clés\, les logiques de chaque axe de reconnaissance ? \nLa FESEFA vous donne l’opportunité de vous familiariser avec le cadre légal des reconnaissances en Éducation permanente : philosophie générale\, présentation par axe\, modifications suite à la réforme de 2018\, contrôle et évaluation… \nCette matinée vous permet de vous informer sur ces bases ou d’actualiser vos connaissances des textes légaux en lien avec les modifications applicables suite à la réforme de 2018 pour toutes les associations reconnues en EP. \nCes matinées sont gratuites et accessibles à tout membre de vos équipes ou de vos instances (associations reconnues en EP\, membres ou non). \nAu plaisir de vous y rencontrer ! \n– Inscription : info@fesefa.be \n– Avec votre : Nom / prénom / adresse mail / fonction au sein de l’association / numéro de téléphone– En présentiel à la FESEFA\, au 44 rue d’Arenberg à 1000 Bruxelles\, à l’espace The 44 (1er étage)– Matinée gratuite – 2 personnes max. par association \n\n\nL’accueil débute à 9h45\, la matinée de formation commence à 10h. \n\n\nNB – Même si la formation est affichée comme étant complète\, n’hésitez pas à nous contacter pour vous inscrire sur une liste d’attente. Nous vous recontacterons le cas dans d’un désistement.
URL:https://fesefa.be/event/matinee-ep-decret-education-permanente-les-fondamentaux-12/
LOCATION:FESEFA\, Rue d'Arenberg\, 44\, Bruxelles\, 1000
CATEGORIES:Formation EP
ORGANIZER;CN="FESEFA":MAILTO:info@fesefa.be
END:VEVENT
END:VCALENDAR