BEGIN:VCALENDAR
VERSION:2.0
PRODID:-//FESEFA - ECPv6.15.20//NONSGML v1.0//EN
CALSCALE:GREGORIAN
METHOD:PUBLISH
X-WR-CALNAME:FESEFA
X-ORIGINAL-URL:https://fesefa.be
X-WR-CALDESC:Évènements pour FESEFA
REFRESH-INTERVAL;VALUE=DURATION:PT1H
X-Robots-Tag:noindex
X-PUBLISHED-TTL:PT1H
BEGIN:VTIMEZONE
TZID:Europe/Paris
BEGIN:DAYLIGHT
TZOFFSETFROM:+0100
TZOFFSETTO:+0200
TZNAME:CEST
DTSTART:20210328T010000
END:DAYLIGHT
BEGIN:STANDARD
TZOFFSETFROM:+0200
TZOFFSETTO:+0100
TZNAME:CET
DTSTART:20211031T010000
END:STANDARD
BEGIN:DAYLIGHT
TZOFFSETFROM:+0100
TZOFFSETTO:+0200
TZNAME:CEST
DTSTART:20220327T010000
END:DAYLIGHT
BEGIN:STANDARD
TZOFFSETFROM:+0200
TZOFFSETTO:+0100
TZNAME:CET
DTSTART:20221030T010000
END:STANDARD
BEGIN:DAYLIGHT
TZOFFSETFROM:+0100
TZOFFSETTO:+0200
TZNAME:CEST
DTSTART:20230326T010000
END:DAYLIGHT
BEGIN:STANDARD
TZOFFSETFROM:+0200
TZOFFSETTO:+0100
TZNAME:CET
DTSTART:20231029T010000
END:STANDARD
END:VTIMEZONE
BEGIN:VEVENT
DTSTART;TZID=Europe/Paris:20221201T093000
DTEND;TZID=Europe/Paris:20221201T123000
DTSTAMP:20260423T121321
CREATED:20220928T131602Z
LAST-MODIFIED:20230119T152108Z
UID:10000289-1669887000-1669897800@fesefa.be
SUMMARY:Matinée d’information sur la reconnaissance dans le cadre du décret EP
DESCRIPTION:Votre association n’est pas reconnue en Éducation permanente (EP) ? Vous souhaitez en savoir plus sur le cadre légal de l’EP en Fédération Wallonie-Bruxelles\, sur les différentes étapes et démarches à effectuer pour une reconnaissance en EP ? \n\n\n\nDans le cadre de sa reconnaissance en tant que fédération représentative du secteur de l’EP\, la FESEFA organise une matinée d’information pour les associations non reconnues en EP et intéressées par la reconnaissance en EP.  \n\n\n\nCette matinée à notamment pour objectifs d’aborder : \n\n\n\n\nla philosophie qui sous-tend le secteur ;\n\n\n\nles textes cadres de l’EP : Décret du 17 juillet 2003 et arrêtés d’exécution ;\n\n\n\nla procédure de demande de principe\, première étape formelle en vue d’une reconnaissance en EP ;\n\n\n\nl’auto-évaluation et la circulaire de 2018\n\n\n\n\nPublic : Toute personne membre de l’équipe ou des instances d’une association qui explore l’opportunité de s’engager dans un processus de reconnaissance en Éducation permanente.  \n\n\n\n→ Pour toucher le plus d’associations possible\, la FESEFA fait appel à ses membres pour bien vouloir transmettre cette information à toute association qui pourrait être intéressée.  \n\n\n\nAu plaisir de vous y rencontrer ! \n\n\n\nNB : Même si la formation est affichée comme étant complète\, n’hésitez pas à nous contacter pour vous inscrire sur une liste d’attente. Nous vous recontacterons dans le cas d’un désistement. \n\n\n\n\nInscription : info@fesefa.be (Nom/Prénom/Fonction/Nom de votre asbl/Tél/Courriel)\n\n\n\nLieu : FESEFA\, rue d’Arenberg 44\, 1000 Bruxelles\n\n\n\nDate : Jeudi  1er décembre 2022 de 9h45 à 12h30\n\n\n\nMatinée gratuite – 2 personnes max. par association
URL:https://fesefa.be/event/matinee-dinformation-sur-la-reconnaissance-dans-le-cadre-du-decret-ep/
LOCATION:FESEFA\, Rue d'Arenberg\, 44\, Bruxelles\, 1000
CATEGORIES:Formation
ORGANIZER;CN="FESEFA":MAILTO:info@fesefa.be
END:VEVENT
END:VCALENDAR