BEGIN:VCALENDAR
VERSION:2.0
PRODID:-//FESEFA - ECPv6.15.20//NONSGML v1.0//EN
CALSCALE:GREGORIAN
METHOD:PUBLISH
X-WR-CALNAME:FESEFA
X-ORIGINAL-URL:https://fesefa.be
X-WR-CALDESC:Évènements pour FESEFA
REFRESH-INTERVAL;VALUE=DURATION:PT1H
X-Robots-Tag:noindex
X-PUBLISHED-TTL:PT1H
BEGIN:VTIMEZONE
TZID:Europe/Paris
BEGIN:DAYLIGHT
TZOFFSETFROM:+0100
TZOFFSETTO:+0200
TZNAME:CEST
DTSTART:20210328T010000
END:DAYLIGHT
BEGIN:STANDARD
TZOFFSETFROM:+0200
TZOFFSETTO:+0100
TZNAME:CET
DTSTART:20211031T010000
END:STANDARD
BEGIN:DAYLIGHT
TZOFFSETFROM:+0100
TZOFFSETTO:+0200
TZNAME:CEST
DTSTART:20220327T010000
END:DAYLIGHT
BEGIN:STANDARD
TZOFFSETFROM:+0200
TZOFFSETTO:+0100
TZNAME:CET
DTSTART:20221030T010000
END:STANDARD
BEGIN:DAYLIGHT
TZOFFSETFROM:+0100
TZOFFSETTO:+0200
TZNAME:CEST
DTSTART:20230326T010000
END:DAYLIGHT
BEGIN:STANDARD
TZOFFSETFROM:+0200
TZOFFSETTO:+0100
TZNAME:CET
DTSTART:20231029T010000
END:STANDARD
END:VTIMEZONE
BEGIN:VEVENT
DTSTART;TZID=Europe/Paris:20221129T093000
DTEND;TZID=Europe/Paris:20221129T123000
DTSTAMP:20260423T135333
CREATED:20220614T135255Z
LAST-MODIFIED:20230228T081326Z
UID:10000262-1669714200-1669725000@fesefa.be
SUMMARY:[COMPLET] Matinée EP - Axe 1 : le cadre EP et votre réalité
DESCRIPTION:Votre association est reconnue en axe 1 et vous souhaitez échanger autour du cadre de vos activités d’éducation permanente ? \n\n\n\nLa FESEFA organise le 29 novembre 2022 une matinée dédiée spécifiquement à l’axe 1 afin de vous donner l’opportunité de revenir sur les prescrits légaux et de partager vos réalités de terrain avec d’autres professionnel·le·s du secteur. \n\n\n\nCette matinée a notamment pour objectifs : \n\n\n\n\nde revenir sur les concepts-clés du décret pour l’axe 1 (activités régulières\, thématique d’action\, impact territorial…) ;\n\n\n\nd’examiner les critères quantitatifs et qualitatifs de l’axe 1 et de les mettre en perspective avec vos pratiques ;\n\n\n\nd’enrichir mutuellement votre action à travers les échanges qui prendront place.\n\n\n\n\nMéthodologie : au départ de vos réalités\, de vos questionnements\, en utilisant des documents-ressources et à travers un partage d’expériences. \n\n\n\nPublics : Cette matinée est destinée à tout membre de vos équipes ou de vos instances qui travaille sur les activités d’axe 1 (que votre association soit membre de la FESEFA ou non) \n\n\n\nAu plaisir de vous y rencontrer ! \n\n\n\n\nInscription : info@fesefa.be (Nom/Prénom/Fonction/Nom de votre asbl/Tél/Courriel)\n\n\n\nLieu : FESEFA\, rue d’Arenberg\, 44\, 1000 Bruxelles\n\n\n\nDate : le 29 novembre 2022\, de 9h45 à 12h30 (accueil à partir de 9h30)\n\n\n\nMatinée gratuite – 2 personnes max. par association\n\n\n\n\nNB : Même si la formation est affichée comme étant complète\, n’hésitez pas à nous contacter pour vous inscrire sur une liste d’attente. Nous vous recontacterons dans le cas d’un désistement. \n\n\n\nPour assister dans les meilleures conditions à nos matinées centrées sur un axe particulier\, nous vous conseillons d’avoir préalablement suivi une de nos matinées consacrées aux fondamentaux du décret EP.
URL:https://fesefa.be/event/matinee-ep-axe-1-le-cadre-ep-et-votre-realite-4/
LOCATION:FESEFA\, Rue d'Arenberg\, 44\, Bruxelles\, 1000
CATEGORIES:Formation
ORGANIZER;CN="FESEFA":MAILTO:info@fesefa.be
END:VEVENT
END:VCALENDAR