BEGIN:VCALENDAR
VERSION:2.0
PRODID:-//FESEFA - ECPv6.15.20//NONSGML v1.0//EN
CALSCALE:GREGORIAN
METHOD:PUBLISH
X-WR-CALNAME:FESEFA
X-ORIGINAL-URL:https://fesefa.be
X-WR-CALDESC:Évènements pour FESEFA
REFRESH-INTERVAL;VALUE=DURATION:PT1H
X-Robots-Tag:noindex
X-PUBLISHED-TTL:PT1H
BEGIN:VTIMEZONE
TZID:Europe/Paris
BEGIN:DAYLIGHT
TZOFFSETFROM:+0100
TZOFFSETTO:+0200
TZNAME:CEST
DTSTART:20210328T010000
END:DAYLIGHT
BEGIN:STANDARD
TZOFFSETFROM:+0200
TZOFFSETTO:+0100
TZNAME:CET
DTSTART:20211031T010000
END:STANDARD
BEGIN:DAYLIGHT
TZOFFSETFROM:+0100
TZOFFSETTO:+0200
TZNAME:CEST
DTSTART:20220327T010000
END:DAYLIGHT
BEGIN:STANDARD
TZOFFSETFROM:+0200
TZOFFSETTO:+0100
TZNAME:CET
DTSTART:20221030T010000
END:STANDARD
BEGIN:DAYLIGHT
TZOFFSETFROM:+0100
TZOFFSETTO:+0200
TZNAME:CEST
DTSTART:20230326T010000
END:DAYLIGHT
BEGIN:STANDARD
TZOFFSETFROM:+0200
TZOFFSETTO:+0100
TZNAME:CET
DTSTART:20231029T010000
END:STANDARD
END:VTIMEZONE
BEGIN:VEVENT
DTSTART;TZID=Europe/Paris:20221027T093000
DTEND;TZID=Europe/Paris:20221027T123000
DTSTAMP:20260424T055136
CREATED:20220928T122336Z
LAST-MODIFIED:20230907T103952Z
UID:10000268-1666863000-1666873800@fesefa.be
SUMMARY:Matinée statutaire
DESCRIPTION:Si vous êtes dans le processus de révision des statuts de votre association\,  dans le but de les rendre compatibles avec le Code des sociétés et des associations (CSA)\, cette séance de questions et réponses a été organisée pour vous !  \nL’un·e de nos juristes sera à la disposition des participant·e·s et répondra à leurs questions tout au long de la matinée. Ces séances sont ouvertes aux affilié·e·s\, où qu’ils ou elles en soient dans le processus de mise en conformité : aucune connaissance préalable n’est exigée.  \nCette séance est gratuite\, mais l’inscription est requise (vers le formulaire d’inscription). Votre participation peut avoir lieu à distance (via Zoom)\, ou au siège de la FESEFA.
URL:https://fesefa.be/event/matinee-statutaire-4/
LOCATION:FESEFA\, Rue d'Arenberg\, 44\, Bruxelles\, 1000
CATEGORIES:Formation,Formation juridique
END:VEVENT
BEGIN:VEVENT
DTSTART;TZID=Europe/Paris:20221027T093000
DTEND;TZID=Europe/Paris:20221027T163000
DTSTAMP:20260424T055136
CREATED:20220317T085652Z
LAST-MODIFIED:20230228T081353Z
UID:10000251-1666863000-1666888200@fesefa.be
SUMMARY:[COMPLET] Formation EP - Auto-évaluation et rapport général d'évaluation : sens\, enjeux\, pratiques
DESCRIPTION:La réforme du Décret de 2003 transforme  les pratiques de justification qui sont demandées aux associations\, notamment en introduisant une exigence d’auto-évaluation. \nLa formation\, en partenariat avec Jean Blairon\, vise à contextualiser cette nouvelle exigence\, à en nommer les enjeux et à en décrire les composantes. \nLes contenus suivants seront abordés : \n– distinction entre évaluation et contrôle ; \n– évaluation et pratique réflexive ; \n– l’auto-évaluation dans le prescrit légal ; \n– examen des questions d’auto-évaluation proposées par les services du gouvernement ; \n– questions pratiques. \nDate : le 27 octobre 2022\nHeures : 9h30 – 16h30\nPrix : 90 €\nL’inscription sera effective après le versement de la PAF de 90 € (comprenant documentation écrite\, boissons et lunchs) sur le compte TRIODOS de la FESEFA : IBAN : BE17 5230 4027 8721 / BIC : TRIOBEBB. Cette formation peut être remboursée pour partie par le Fonds 4S. \nNombre maximum de participant·e·s : 12 \nFormateur : Jean Blairon (RTA) \nInscription : info@fesefa.be \nLieu : A la FESEFA
URL:https://fesefa.be/event/formation-ep-auto-evaluation-et-rapport-general-devaluation-sens-enjeux-pratiques-3/
LOCATION:FESEFA\, Rue d'Arenberg\, 44\, Bruxelles\, 1000
CATEGORIES:Formation
END:VEVENT
END:VCALENDAR