BEGIN:VCALENDAR
VERSION:2.0
PRODID:-//FESEFA - ECPv6.15.20//NONSGML v1.0//EN
CALSCALE:GREGORIAN
METHOD:PUBLISH
X-ORIGINAL-URL:https://fesefa.be
X-WR-CALDESC:Évènements pour FESEFA
REFRESH-INTERVAL;VALUE=DURATION:PT1H
X-Robots-Tag:noindex
X-PUBLISHED-TTL:PT1H
BEGIN:VTIMEZONE
TZID:Europe/Paris
BEGIN:DAYLIGHT
TZOFFSETFROM:+0100
TZOFFSETTO:+0200
TZNAME:CEST
DTSTART:20210328T010000
END:DAYLIGHT
BEGIN:STANDARD
TZOFFSETFROM:+0200
TZOFFSETTO:+0100
TZNAME:CET
DTSTART:20211031T010000
END:STANDARD
BEGIN:DAYLIGHT
TZOFFSETFROM:+0100
TZOFFSETTO:+0200
TZNAME:CEST
DTSTART:20220327T010000
END:DAYLIGHT
BEGIN:STANDARD
TZOFFSETFROM:+0200
TZOFFSETTO:+0100
TZNAME:CET
DTSTART:20221030T010000
END:STANDARD
BEGIN:DAYLIGHT
TZOFFSETFROM:+0100
TZOFFSETTO:+0200
TZNAME:CEST
DTSTART:20230326T010000
END:DAYLIGHT
BEGIN:STANDARD
TZOFFSETFROM:+0200
TZOFFSETTO:+0100
TZNAME:CET
DTSTART:20231029T010000
END:STANDARD
END:VTIMEZONE
BEGIN:VEVENT
DTSTART;TZID=Europe/Paris:20220321T130000
DTEND;TZID=Europe/Paris:20220321T153000
DTSTAMP:20260425T043735
CREATED:20220208T104049Z
LAST-MODIFIED:20230119T131713Z
UID:10000242-1647867600-1647876600@fesefa.be
SUMMARY:Accueil et séance d'information - Comprendre le paysage institutionnel du secteur socioculturel et le rôle d'une fédération d’employeur·e·s et sectorielle
DESCRIPTION:Ces séances sont adressées aux nouveaux membres et aux nouveaux responsables des associations déjà affiliées à la FESEFA. \nElles ont pour objectifs : \n– de faire connaissance (!) ; \n– de rappeler le contexte historique qui a accompagné la structuration du secteur socioculturel et a vu naître la Commission paritaire 329 ; \n– de présenter le paysage institutionnel et le cadre de la concertation sociale de ce secteur ; \n– d’expliquer le rôle d’une fédération d’employeur·e·s\, et de la FESEFA en particulier\, dans le champ du dialogue social et politique ; \n– de présenter les missions d’une fédération représentative du secteur de l’éducation permanente \n– et de terminer par une présentation des différents services proposés par la FESEFA dans le cadre de ses missions transversales. \nNous vous proposons  une forme virtuelle avec zoom. \n– Inscription : info@fesefa.be (Nom/Prénom/Fonction/Nom de votre asbl/Tél/Courriel) \n– Par visioconférence : via l’application zoom (les liens vous parviendront ultérieurement) \n– Lundi 21 mars 2022 de 13h à 15h30
URL:https://fesefa.be/event/accueil-et-seance-dinformation-comprendre-le-paysage-institutionnel-du-secteur-socioculturel-et-le-role-dune-federation-demployeur%c2%b7e%c2%b7s-et-sectorielle/
CATEGORIES:Formation
END:VEVENT
END:VCALENDAR