BEGIN:VCALENDAR
VERSION:2.0
PRODID:-//FESEFA - ECPv6.15.20//NONSGML v1.0//EN
CALSCALE:GREGORIAN
METHOD:PUBLISH
X-WR-CALNAME:FESEFA
X-ORIGINAL-URL:https://fesefa.be
X-WR-CALDESC:Évènements pour FESEFA
REFRESH-INTERVAL;VALUE=DURATION:PT1H
X-Robots-Tag:noindex
X-PUBLISHED-TTL:PT1H
BEGIN:VTIMEZONE
TZID:Europe/Paris
BEGIN:DAYLIGHT
TZOFFSETFROM:+0100
TZOFFSETTO:+0200
TZNAME:CEST
DTSTART:20210328T010000
END:DAYLIGHT
BEGIN:STANDARD
TZOFFSETFROM:+0200
TZOFFSETTO:+0100
TZNAME:CET
DTSTART:20211031T010000
END:STANDARD
BEGIN:DAYLIGHT
TZOFFSETFROM:+0100
TZOFFSETTO:+0200
TZNAME:CEST
DTSTART:20220327T010000
END:DAYLIGHT
BEGIN:STANDARD
TZOFFSETFROM:+0200
TZOFFSETTO:+0100
TZNAME:CET
DTSTART:20221030T010000
END:STANDARD
BEGIN:DAYLIGHT
TZOFFSETFROM:+0100
TZOFFSETTO:+0200
TZNAME:CEST
DTSTART:20230326T010000
END:DAYLIGHT
BEGIN:STANDARD
TZOFFSETFROM:+0200
TZOFFSETTO:+0100
TZNAME:CET
DTSTART:20231029T010000
END:STANDARD
END:VTIMEZONE
BEGIN:VEVENT
DTSTART;TZID=Europe/Paris:20220113T100000
DTEND;TZID=Europe/Paris:20220113T123000
DTSTAMP:20260425T125749
CREATED:20211201T144530Z
LAST-MODIFIED:20230227T105716Z
UID:10000235-1642068000-1642077000@fesefa.be
SUMMARY:Séance d'information - Nouvelle attribution de postes Maribel : comprendre le dispositif et la circulaire
DESCRIPTION:Cette séance d’information\, organisée dans la perspective d’une nouvelle attribution de postes Maribel en 2022\, aura comme objectif de : \n– Rappeler l’objectif premier du dispositif\, le fonctionnement paritaire ainsi que les sources de financement du Fonds Maribel ; \n– rappeler les conditions d’accès à ce dispositif ; \n– expliquer les étapes d’une attribution au sein du Comité de gestion Maribel du Fonds 329.02 \n– comprendre la logique hiérarchique des différents critères d’attribution (généraux\, sectoriels\, subsidiaires) appliqués en 329.02 ; \n– comprendre la procédure paritaire de toute demande de postes Maribel et de toute demande portant sur des postes déjà en place dans l’association (changement de fonction\, prolongation de délai\, transfert de poste\, etc.). \nNous terminerons par un moment de questions-réponses. \nCette séance aura lieu par visioconférence (via l’application zoom) et sera animée par Farah ISMAÏLI\, par ailleurs\, vice-présidente du Fonds Maribel 329.02 \n– Inscription : info@fesefa.be– Jeudi 13 janvier 2022 de 10h à 12h30– Par visioconférence : via l’application zoom (les liens vous parviendront ultérieurement)– Séance gratuite / 25 participant·e·s maximum
URL:https://fesefa.be/event/seance-dinformation-nouvelle-attribution-de-postes-maribel-comprendre-le-dispositif-et-la-circulaire/
CATEGORIES:Formation
END:VEVENT
END:VCALENDAR