BEGIN:VCALENDAR
VERSION:2.0
PRODID:-//FESEFA - ECPv6.15.20//NONSGML v1.0//EN
CALSCALE:GREGORIAN
METHOD:PUBLISH
X-WR-CALNAME:FESEFA
X-ORIGINAL-URL:https://fesefa.be
X-WR-CALDESC:Évènements pour FESEFA
REFRESH-INTERVAL;VALUE=DURATION:PT1H
X-Robots-Tag:noindex
X-PUBLISHED-TTL:PT1H
BEGIN:VTIMEZONE
TZID:Europe/Paris
BEGIN:DAYLIGHT
TZOFFSETFROM:+0100
TZOFFSETTO:+0200
TZNAME:CEST
DTSTART:20200329T010000
END:DAYLIGHT
BEGIN:STANDARD
TZOFFSETFROM:+0200
TZOFFSETTO:+0100
TZNAME:CET
DTSTART:20201025T010000
END:STANDARD
BEGIN:DAYLIGHT
TZOFFSETFROM:+0100
TZOFFSETTO:+0200
TZNAME:CEST
DTSTART:20210328T010000
END:DAYLIGHT
BEGIN:STANDARD
TZOFFSETFROM:+0200
TZOFFSETTO:+0100
TZNAME:CET
DTSTART:20211031T010000
END:STANDARD
BEGIN:DAYLIGHT
TZOFFSETFROM:+0100
TZOFFSETTO:+0200
TZNAME:CEST
DTSTART:20220327T010000
END:DAYLIGHT
BEGIN:STANDARD
TZOFFSETFROM:+0200
TZOFFSETTO:+0100
TZNAME:CET
DTSTART:20221030T010000
END:STANDARD
END:VTIMEZONE
BEGIN:VEVENT
DTSTART;TZID=Europe/Paris:20211214T100000
DTEND;TZID=Europe/Paris:20211214T123000
DTSTAMP:20260425T130029
CREATED:20210901T132157Z
LAST-MODIFIED:20230119T132032Z
UID:10000228-1639476000-1639485000@fesefa.be
SUMMARY:Matinée EP - Réforme du décret EP
DESCRIPTION:Suite à l’évaluation du Décret EP de 2003\, de nouvelles dispositions sont entrées en vigueur depuis le 1er janvier 2019. Elles concernent toutes les associations reconnues en Éducation permanente. \nLa FESEFA vous donne l’opportunité de vous familiariser avec ces modifications décrétales lors de Matinées EP entièrement consacrées à la présentation de cette réforme. Elles sont gratuites et accessibles à tout membre de vos équipes ou de vos instances. \nAu plaisir de vous y rencontrer ! \nNous vous proposons  une forme virtuelle avec zoom. \nInscription : info@fesefa.be (Nom/Prénom/Fonction/Nom de votre asbl/Tél/Courriel) \nPar visioconférence : via l’application zoom (les liens vous parviendront ultérieurement) \nDate : mardi 14 décembre 2021 de 10h à 12h30
URL:https://fesefa.be/event/matinee-ep-reforme-du-decret-ep-23/
CATEGORIES:Formation
END:VEVENT
END:VCALENDAR