BEGIN:VCALENDAR
VERSION:2.0
PRODID:-//FESEFA - ECPv6.15.20//NONSGML v1.0//EN
CALSCALE:GREGORIAN
METHOD:PUBLISH
X-ORIGINAL-URL:https://fesefa.be
X-WR-CALDESC:Évènements pour FESEFA
REFRESH-INTERVAL;VALUE=DURATION:PT1H
X-Robots-Tag:noindex
X-PUBLISHED-TTL:PT1H
BEGIN:VTIMEZONE
TZID:Europe/Paris
BEGIN:DAYLIGHT
TZOFFSETFROM:+0100
TZOFFSETTO:+0200
TZNAME:CEST
DTSTART:20200329T010000
END:DAYLIGHT
BEGIN:STANDARD
TZOFFSETFROM:+0200
TZOFFSETTO:+0100
TZNAME:CET
DTSTART:20201025T010000
END:STANDARD
BEGIN:DAYLIGHT
TZOFFSETFROM:+0100
TZOFFSETTO:+0200
TZNAME:CEST
DTSTART:20210328T010000
END:DAYLIGHT
BEGIN:STANDARD
TZOFFSETFROM:+0200
TZOFFSETTO:+0100
TZNAME:CET
DTSTART:20211031T010000
END:STANDARD
BEGIN:DAYLIGHT
TZOFFSETFROM:+0100
TZOFFSETTO:+0200
TZNAME:CEST
DTSTART:20220327T010000
END:DAYLIGHT
BEGIN:STANDARD
TZOFFSETFROM:+0200
TZOFFSETTO:+0100
TZNAME:CET
DTSTART:20221030T010000
END:STANDARD
END:VTIMEZONE
BEGIN:VEVENT
DTSTART;TZID=Europe/Paris:20211126T100000
DTEND;TZID=Europe/Paris:20211126T120000
DTSTAMP:20260425T162749
CREATED:20211109T082558Z
LAST-MODIFIED:20230907T103427Z
UID:10000231-1637920800-1637928000@fesefa.be
SUMMARY:Matinée juridique - Bien encadrer vos avantages extra-légaux : la CCT d'entreprise
DESCRIPTION:Cette matinée juridique consiste à permettre aux participant·e·s de se familiariser avec les règles de conclusion d’une CCT d’entreprise et d’être attentifs·ves aux conditions\, modalités et procédures qu’il convient de respecter pour conclure une CCT d’entreprise conforme au cadre légal. \nIl est également question d’inscrire la CCT d’entreprise dans la hiérarchie des normes en droit social et de faire un exercice introductif puis un exercice récapitulatif. \nNous vous proposons  une forme virtuelle avec zoom\, d’une durée de deux heures. \n–  Vendredi 26 novembre 2021 de 10h à 12h \nNos matinées sont gratuites / 10 participant·e·s maximum
URL:https://fesefa.be/event/matinee-juridique-bien-encadrer-vos-avantages-extra-legaux-la-cct-dentreprise-3/
CATEGORIES:Formation,Formation juridique
END:VEVENT
END:VCALENDAR