BEGIN:VCALENDAR
VERSION:2.0
PRODID:-//FESEFA - ECPv6.15.20//NONSGML v1.0//EN
CALSCALE:GREGORIAN
METHOD:PUBLISH
X-WR-CALNAME:FESEFA
X-ORIGINAL-URL:https://fesefa.be
X-WR-CALDESC:Évènements pour FESEFA
REFRESH-INTERVAL;VALUE=DURATION:PT1H
X-Robots-Tag:noindex
X-PUBLISHED-TTL:PT1H
BEGIN:VTIMEZONE
TZID:Europe/Paris
BEGIN:DAYLIGHT
TZOFFSETFROM:+0100
TZOFFSETTO:+0200
TZNAME:CEST
DTSTART:20200329T010000
END:DAYLIGHT
BEGIN:STANDARD
TZOFFSETFROM:+0200
TZOFFSETTO:+0100
TZNAME:CET
DTSTART:20201025T010000
END:STANDARD
BEGIN:DAYLIGHT
TZOFFSETFROM:+0100
TZOFFSETTO:+0200
TZNAME:CEST
DTSTART:20210328T010000
END:DAYLIGHT
BEGIN:STANDARD
TZOFFSETFROM:+0200
TZOFFSETTO:+0100
TZNAME:CET
DTSTART:20211031T010000
END:STANDARD
BEGIN:DAYLIGHT
TZOFFSETFROM:+0100
TZOFFSETTO:+0200
TZNAME:CEST
DTSTART:20220327T010000
END:DAYLIGHT
BEGIN:STANDARD
TZOFFSETFROM:+0200
TZOFFSETTO:+0100
TZNAME:CET
DTSTART:20221030T010000
END:STANDARD
END:VTIMEZONE
BEGIN:VEVENT
DTSTART;TZID=Europe/Paris:20211020T100000
DTEND;TZID=Europe/Paris:20211020T123000
DTSTAMP:20260425T180108
CREATED:20211001T092833Z
LAST-MODIFIED:20230119T131921Z
UID:10000229-1634724000-1634733000@fesefa.be
SUMMARY:Séance d'information - Comprendre le paysage institutionnel du secteur socioculturel et le rôle d'une fédération d’employeur·e·s et sectorielle
DESCRIPTION:Ces séances\, adressées prioritairement aux nouvelles directions et/ou au personnel cadre des associations nouvellement affiliées à la FESEFA\, ont pour objectifs : \n– de faire connaissance (!) ; \n– de rappeler le contexte historique qui a accompagné la structuration du secteur socioculturel et a vu naître la Commission paritaire 329 ; \n– de présenter le paysage institutionnel et le cadre de la concertation sociale de ce secteur ; \n– d’expliquer le rôle d’une fédération d’employeurs\, et de la FESEFA en particulier\, dans le champ du dialogue social et politique ; \n– de présenter les missions d’une fédération représentative du secteur de l’éducation permanente \n– et de terminer par une présentation des différents services proposés par la FESEFA dans le cadre de ses missions transversales. \n\nNous vous proposons  une forme virtuelle avec zoom. \n\nInscription : info@fesefa.be (Nom/Prénom/Fonction/Nom de votre asbl/Tél/Courriel)\nPar visioconférence : via l’application zoom (les liens vous parviendront ultérieurement)\nMercredi 20 octobre 2021 de 10h à 12h30
URL:https://fesefa.be/event/seance-dinformation-comprendre-le-paysage-institutionnel-du-secteur-socioculturel-et-le-role-dune-federation-demployeurs-et-sectorielle/
CATEGORIES:Formation
END:VEVENT
END:VCALENDAR