BEGIN:VCALENDAR
VERSION:2.0
PRODID:-//FESEFA - ECPv6.15.20//NONSGML v1.0//EN
CALSCALE:GREGORIAN
METHOD:PUBLISH
X-ORIGINAL-URL:https://fesefa.be
X-WR-CALDESC:Évènements pour FESEFA
REFRESH-INTERVAL;VALUE=DURATION:PT1H
X-Robots-Tag:noindex
X-PUBLISHED-TTL:PT1H
BEGIN:VTIMEZONE
TZID:Europe/Paris
BEGIN:DAYLIGHT
TZOFFSETFROM:+0100
TZOFFSETTO:+0200
TZNAME:CEST
DTSTART:20200329T010000
END:DAYLIGHT
BEGIN:STANDARD
TZOFFSETFROM:+0200
TZOFFSETTO:+0100
TZNAME:CET
DTSTART:20201025T010000
END:STANDARD
BEGIN:DAYLIGHT
TZOFFSETFROM:+0100
TZOFFSETTO:+0200
TZNAME:CEST
DTSTART:20210328T010000
END:DAYLIGHT
BEGIN:STANDARD
TZOFFSETFROM:+0200
TZOFFSETTO:+0100
TZNAME:CET
DTSTART:20211031T010000
END:STANDARD
BEGIN:DAYLIGHT
TZOFFSETFROM:+0100
TZOFFSETTO:+0200
TZNAME:CEST
DTSTART:20220327T010000
END:DAYLIGHT
BEGIN:STANDARD
TZOFFSETFROM:+0200
TZOFFSETTO:+0100
TZNAME:CET
DTSTART:20221030T010000
END:STANDARD
END:VTIMEZONE
BEGIN:VEVENT
DTSTART;TZID=Europe/Paris:20211008T093000
DTEND;TZID=Europe/Paris:20211008T170000
DTSTAMP:20260425T180419
CREATED:20210218T134956Z
LAST-MODIFIED:20211011T083707Z
UID:10000204-1633685400-1633712400@fesefa.be
SUMMARY:30 années de défense des intérêts des employeur·e·s ainsi qu’une reconnaissance en tant que fédération sectorielle !
DESCRIPTION:Découvrez le programme : ICI\nDécouvrez la présentation des intervenant·e·s : ICI
URL:https://fesefa.be/event/la-fesefa-fete-ses-30-ans/
CATEGORIES:Événement FESEFA
ATTACH;FMTTYPE=image/png:https://fesefa.be/wp-content/uploads/2021/02/Capture-décran-2021-10-06-à-13.49.31.png
END:VEVENT
END:VCALENDAR