BEGIN:VCALENDAR
VERSION:2.0
PRODID:-//FESEFA - ECPv6.15.20//NONSGML v1.0//EN
CALSCALE:GREGORIAN
METHOD:PUBLISH
X-ORIGINAL-URL:https://fesefa.be
X-WR-CALDESC:Évènements pour FESEFA
REFRESH-INTERVAL;VALUE=DURATION:PT1H
X-Robots-Tag:noindex
X-PUBLISHED-TTL:PT1H
BEGIN:VTIMEZONE
TZID:Europe/Paris
BEGIN:DAYLIGHT
TZOFFSETFROM:+0100
TZOFFSETTO:+0200
TZNAME:CEST
DTSTART:20200329T010000
END:DAYLIGHT
BEGIN:STANDARD
TZOFFSETFROM:+0200
TZOFFSETTO:+0100
TZNAME:CET
DTSTART:20201025T010000
END:STANDARD
BEGIN:DAYLIGHT
TZOFFSETFROM:+0100
TZOFFSETTO:+0200
TZNAME:CEST
DTSTART:20210328T010000
END:DAYLIGHT
BEGIN:STANDARD
TZOFFSETFROM:+0200
TZOFFSETTO:+0100
TZNAME:CET
DTSTART:20211031T010000
END:STANDARD
BEGIN:DAYLIGHT
TZOFFSETFROM:+0100
TZOFFSETTO:+0200
TZNAME:CEST
DTSTART:20220327T010000
END:DAYLIGHT
BEGIN:STANDARD
TZOFFSETFROM:+0200
TZOFFSETTO:+0100
TZNAME:CET
DTSTART:20221030T010000
END:STANDARD
END:VTIMEZONE
BEGIN:VEVENT
DTSTART;TZID=Europe/Paris:20210712T100000
DTEND;TZID=Europe/Paris:20210712T123000
DTSTAMP:20260426T010748
CREATED:20210614T105849Z
LAST-MODIFIED:20230119T133813Z
UID:10000223-1626084000-1626093000@fesefa.be
SUMMARY:Séance d'information - Décret emploi socioculturel
DESCRIPTION:Le Décret déterminant les conditions de subventionnement de l’emploi dans les secteurs socioculturels de la Communauté française organise le subventionnement de l’emploi dans la plupart des secteurs socioculturels et sportif en Fédération Wallonie-Bruxelles. Son financement est rendu possible pour partie grâce aux moyens des Accords du Non Marchand successifs et aux budgets sectoriels. \nL’objectif de cette séance d’information est de faire un tour d’horizon rapide de ce décret\, des emplois qu’il (co-)finance\, afin de vous familiariser avec les principes généraux de cette réglementation complexe. \nNous y aborderons les différentes modifications qui ont été apportées au texte en 2018 et qui permettent d’optimaliser l’utilisation et la justification de la subvention à l’emploi. \nLe principe de “globalisation” décidé exceptionnellement et annoncé par la Ministre Linard pour les années 2020 et 2021 (années Covid) sera également expliqué. \nCette séance s’adresse en priorité aux personnes qui sont amenées dans leur structure à gérer et à justifier cette subvention mais qui n’ont pas encore eu l’occasion de prendre connaissance de cette réglementation. \nAfin de préparer au mieux cette séance d’info\, nous vous invitons à prendre connaissance de la documentation suivante :  le PFB n°135\, le texte modifiant le Décret sur l’Emploi socioculturel de 2008 qui a été voté au Parlement de la Communauté française le 21 février 2018 ainsi que l’arrêté d’exécution qui a été signé le 20 juin 2018. \n\nNous vous proposons  une forme virtuelle avec zoom. \n\nInscription : info@fesefa.be (Nom/Prénom/Fonction/Nom de votre asbl/Tél/Courriel)\nPar visioconférence : via l’application zoom (les liens vous parviendront ultérieurement)\nLundi 12 juillet 2021 de 10h à 12h30
URL:https://fesefa.be/event/seance-dinformation-decret-emploi-socioculturel-3/
CATEGORIES:Formation
END:VEVENT
END:VCALENDAR