BEGIN:VCALENDAR
VERSION:2.0
PRODID:-//FESEFA - ECPv6.15.20//NONSGML v1.0//EN
CALSCALE:GREGORIAN
METHOD:PUBLISH
X-WR-CALNAME:FESEFA
X-ORIGINAL-URL:https://fesefa.be
X-WR-CALDESC:Évènements pour FESEFA
REFRESH-INTERVAL;VALUE=DURATION:PT1H
X-Robots-Tag:noindex
X-PUBLISHED-TTL:PT1H
BEGIN:VTIMEZONE
TZID:Europe/Paris
BEGIN:DAYLIGHT
TZOFFSETFROM:+0100
TZOFFSETTO:+0200
TZNAME:CEST
DTSTART:20200329T010000
END:DAYLIGHT
BEGIN:STANDARD
TZOFFSETFROM:+0200
TZOFFSETTO:+0100
TZNAME:CET
DTSTART:20201025T010000
END:STANDARD
BEGIN:DAYLIGHT
TZOFFSETFROM:+0100
TZOFFSETTO:+0200
TZNAME:CEST
DTSTART:20210328T010000
END:DAYLIGHT
BEGIN:STANDARD
TZOFFSETFROM:+0200
TZOFFSETTO:+0100
TZNAME:CET
DTSTART:20211031T010000
END:STANDARD
BEGIN:DAYLIGHT
TZOFFSETFROM:+0100
TZOFFSETTO:+0200
TZNAME:CEST
DTSTART:20220327T010000
END:DAYLIGHT
BEGIN:STANDARD
TZOFFSETFROM:+0200
TZOFFSETTO:+0100
TZNAME:CET
DTSTART:20221030T010000
END:STANDARD
END:VTIMEZONE
BEGIN:VEVENT
DTSTART;TZID=Europe/Paris:20210625T100000
DTEND;TZID=Europe/Paris:20210625T120000
DTSTAMP:20260426T024438
CREATED:20210115T135108Z
LAST-MODIFIED:20230907T103427Z
UID:10000200-1624615200-1624622400@fesefa.be
SUMMARY:Matinée juridique - Les grands principes du volontariat
DESCRIPTION:Cette matinée juridique est l’occasion de parcourir ensemble les grands principes de ce dispositif. \nQui peut être volontaire dans votre association ? Y a-t-il une différence entre «volontaire» et «bénévole» ? Quelles sont les responsabilités du volontaire et de l’association ? Devez-vous fournir une information particulière à la personne que vous occupez en tant que volontaire ? Qu’en est-il des assurances ? Devez-vous indemniser le volontaire ? Si oui\, comment ? Autant de volets qu’il convient de maîtriser avant d’engager un-e volontaire. \nCette matinée juridique est l’occasion aussi de parcourir ensemble une série de questions fréquemment posées. \nAu plaisir de vous y rencontrer ! \n\n\nNous vous proposons  une forme virtuelle avec zoom\, d’une durée de deux heures. \n\nInscription : info@fesefa.be (Nom/Prénom/Fonction/Nom de votre asbl/Tél/Courriel)\nPar visioconférence : via l’application zoom (les liens vous parviendront ultérieurement)\n\nLe vendredi 25 juin 2021 de 10h à 12h\nNos matinées sont gratuites / 10 participant·e·s maximum
URL:https://fesefa.be/event/matinee-juridique-les-grands-principes-du-volontariat-5/
CATEGORIES:Formation,Formation juridique
END:VEVENT
END:VCALENDAR