BEGIN:VCALENDAR
VERSION:2.0
PRODID:-//FESEFA - ECPv6.15.20//NONSGML v1.0//EN
CALSCALE:GREGORIAN
METHOD:PUBLISH
X-ORIGINAL-URL:https://fesefa.be
X-WR-CALDESC:Évènements pour FESEFA
REFRESH-INTERVAL;VALUE=DURATION:PT1H
X-Robots-Tag:noindex
X-PUBLISHED-TTL:PT1H
BEGIN:VTIMEZONE
TZID:Europe/Paris
BEGIN:DAYLIGHT
TZOFFSETFROM:+0100
TZOFFSETTO:+0200
TZNAME:CEST
DTSTART:20200329T010000
END:DAYLIGHT
BEGIN:STANDARD
TZOFFSETFROM:+0200
TZOFFSETTO:+0100
TZNAME:CET
DTSTART:20201025T010000
END:STANDARD
BEGIN:DAYLIGHT
TZOFFSETFROM:+0100
TZOFFSETTO:+0200
TZNAME:CEST
DTSTART:20210328T010000
END:DAYLIGHT
BEGIN:STANDARD
TZOFFSETFROM:+0200
TZOFFSETTO:+0100
TZNAME:CET
DTSTART:20211031T010000
END:STANDARD
BEGIN:DAYLIGHT
TZOFFSETFROM:+0100
TZOFFSETTO:+0200
TZNAME:CEST
DTSTART:20220327T010000
END:DAYLIGHT
BEGIN:STANDARD
TZOFFSETFROM:+0200
TZOFFSETTO:+0100
TZNAME:CET
DTSTART:20221030T010000
END:STANDARD
END:VTIMEZONE
BEGIN:VEVENT
DTSTART;TZID=Europe/Paris:20210528T100000
DTEND;TZID=Europe/Paris:20210528T120000
DTSTAMP:20260426T062352
CREATED:20210115T134745Z
LAST-MODIFIED:20230907T104126Z
UID:10000199-1622196000-1622203200@fesefa.be
SUMMARY:Matinée juridique - Vacances annuelles et européennes
DESCRIPTION:Cette matinée juridique est l’occasion de parcourir les différentes règles en matière de vacances annuelles (également appelées congés légaux). À quelles conditions les travailleurs·ses y ont-ils/elles droit ? Comment les calculer ? Comment organiser adéquatement la prise des vacances annuelles ? Faut-il les épuiser obligatoirement avant le 31 décembre ? Qu’est-ce que les simple et double pécule de vacances ? Ce sont quelques-unes des questions qui y seront abordées. \nElle est également l’occasion de se pencher sur un dispositif particulier et relativement récent : les vacances européennes (également appelées vacances supplémentaires). Il peut s’agir d’une solution lorsqu’un·e travailleur·se n’a pas droit à des vacances annuelles. Mais quelles en sont les conditions d’accès et comment concrètement les calculer ? Cela fera également l’objet d’une attention particulière. \nAu plaisir de vous y rencontrer ! \n\n\n\nNous vous proposons  une forme virtuelle avec zoom\, d’une durée de deux heures. \n\nInscription : info@fesefa.be (Nom/Prénom/Fonction/Nom de votre asbl/Tél/Courriel)\nPar visioconférence : via l’application zoom (les liens vous parviendront ultérieurement)\n\nLe vendredi 28 mai 2021 de 10h à 12h\nNos matinées sont gratuites / 10 participant·e·s maximum
URL:https://fesefa.be/event/matinee-juridique-vacances-annuelles-et-europeennes-4/
CATEGORIES:Formation,Formation juridique
END:VEVENT
END:VCALENDAR